BEGIN:VCALENDAR
VERSION:2.0
PRODID:-//Kilrush.ie - ECPv6.15.20//NONSGML v1.0//EN
CALSCALE:GREGORIAN
METHOD:PUBLISH
X-WR-CALNAME:Kilrush.ie
X-ORIGINAL-URL:https://kilrush.ie
X-WR-CALDESC:Events for Kilrush.ie
REFRESH-INTERVAL;VALUE=DURATION:PT1H
X-Robots-Tag:noindex
X-PUBLISHED-TTL:PT1H
BEGIN:VTIMEZONE
TZID:Europe/Dublin
BEGIN:DAYLIGHT
TZOFFSETFROM:+0000
TZOFFSETTO:+0100
TZNAME:IST
DTSTART:20250330T010000
END:DAYLIGHT
BEGIN:STANDARD
TZOFFSETFROM:+0100
TZOFFSETTO:+0000
TZNAME:GMT
DTSTART:20251026T010000
END:STANDARD
BEGIN:DAYLIGHT
TZOFFSETFROM:+0000
TZOFFSETTO:+0100
TZNAME:IST
DTSTART:20260329T010000
END:DAYLIGHT
BEGIN:STANDARD
TZOFFSETFROM:+0100
TZOFFSETTO:+0000
TZNAME:GMT
DTSTART:20261025T010000
END:STANDARD
BEGIN:DAYLIGHT
TZOFFSETFROM:+0000
TZOFFSETTO:+0100
TZNAME:IST
DTSTART:20270328T010000
END:DAYLIGHT
BEGIN:STANDARD
TZOFFSETFROM:+0100
TZOFFSETTO:+0000
TZNAME:GMT
DTSTART:20271031T010000
END:STANDARD
BEGIN:DAYLIGHT
TZOFFSETFROM:+0000
TZOFFSETTO:+0100
TZNAME:IST
DTSTART:20280326T010000
END:DAYLIGHT
BEGIN:STANDARD
TZOFFSETFROM:+0100
TZOFFSETTO:+0000
TZNAME:GMT
DTSTART:20281029T010000
END:STANDARD
BEGIN:DAYLIGHT
TZOFFSETFROM:+0000
TZOFFSETTO:+0100
TZNAME:IST
DTSTART:20290325T010000
END:DAYLIGHT
BEGIN:STANDARD
TZOFFSETFROM:+0100
TZOFFSETTO:+0000
TZNAME:GMT
DTSTART:20291028T010000
END:STANDARD
END:VTIMEZONE
BEGIN:VEVENT
DTSTART;TZID=Europe/Dublin:20260507T143000
DTEND;TZID=Europe/Dublin:20260507T160000
DTSTAMP:20260425T223700
CREATED:20241211T134815Z
LAST-MODIFIED:20241211T134815Z
UID:10005728-1778164200-1778169600@kilrush.ie
SUMMARY:Monthly Birthday Party
DESCRIPTION:A celebration for everyone who has their birthday this month!
URL:https://kilrush.ie/event/monthly-birthday-party/2026-05-07/
LOCATION:West Clare Family Resource Centre / Kilrush Community Centre\, O'Gorman Street\, Kilrush\, V15 VK31\, Ireland
ATTACH;FMTTYPE=image/jpeg:https://kilrush.ie/wp-content/uploads/2024/12/WCFRC.jpg
END:VEVENT
BEGIN:VEVENT
DTSTART;TZID=Europe/Dublin:20260604T143000
DTEND;TZID=Europe/Dublin:20260604T160000
DTSTAMP:20260425T223700
CREATED:20241211T134815Z
LAST-MODIFIED:20241211T134815Z
UID:10005729-1780583400-1780588800@kilrush.ie
SUMMARY:Monthly Birthday Party
DESCRIPTION:A celebration for everyone who has their birthday this month!
URL:https://kilrush.ie/event/monthly-birthday-party/2026-06-04/
LOCATION:West Clare Family Resource Centre / Kilrush Community Centre\, O'Gorman Street\, Kilrush\, V15 VK31\, Ireland
ATTACH;FMTTYPE=image/jpeg:https://kilrush.ie/wp-content/uploads/2024/12/WCFRC.jpg
END:VEVENT
BEGIN:VEVENT
DTSTART;TZID=Europe/Dublin:20260702T143000
DTEND;TZID=Europe/Dublin:20260702T160000
DTSTAMP:20260425T223700
CREATED:20241211T134815Z
LAST-MODIFIED:20241211T134815Z
UID:10005730-1783002600-1783008000@kilrush.ie
SUMMARY:Monthly Birthday Party
DESCRIPTION:A celebration for everyone who has their birthday this month!
URL:https://kilrush.ie/event/monthly-birthday-party/2026-07-02/
LOCATION:West Clare Family Resource Centre / Kilrush Community Centre\, O'Gorman Street\, Kilrush\, V15 VK31\, Ireland
ATTACH;FMTTYPE=image/jpeg:https://kilrush.ie/wp-content/uploads/2024/12/WCFRC.jpg
END:VEVENT
BEGIN:VEVENT
DTSTART;TZID=Europe/Dublin:20260806T143000
DTEND;TZID=Europe/Dublin:20260806T160000
DTSTAMP:20260425T223700
CREATED:20241211T134815Z
LAST-MODIFIED:20241211T134815Z
UID:10005731-1786026600-1786032000@kilrush.ie
SUMMARY:Monthly Birthday Party
DESCRIPTION:A celebration for everyone who has their birthday this month!
URL:https://kilrush.ie/event/monthly-birthday-party/2026-08-06/
LOCATION:West Clare Family Resource Centre / Kilrush Community Centre\, O'Gorman Street\, Kilrush\, V15 VK31\, Ireland
ATTACH;FMTTYPE=image/jpeg:https://kilrush.ie/wp-content/uploads/2024/12/WCFRC.jpg
END:VEVENT
BEGIN:VEVENT
DTSTART;TZID=Europe/Dublin:20260903T143000
DTEND;TZID=Europe/Dublin:20260903T160000
DTSTAMP:20260425T223700
CREATED:20241211T134815Z
LAST-MODIFIED:20241211T134815Z
UID:10005732-1788445800-1788451200@kilrush.ie
SUMMARY:Monthly Birthday Party
DESCRIPTION:A celebration for everyone who has their birthday this month!
URL:https://kilrush.ie/event/monthly-birthday-party/2026-09-03/
LOCATION:West Clare Family Resource Centre / Kilrush Community Centre\, O'Gorman Street\, Kilrush\, V15 VK31\, Ireland
ATTACH;FMTTYPE=image/jpeg:https://kilrush.ie/wp-content/uploads/2024/12/WCFRC.jpg
END:VEVENT
BEGIN:VEVENT
DTSTART;TZID=Europe/Dublin:20261001T143000
DTEND;TZID=Europe/Dublin:20261001T160000
DTSTAMP:20260425T223700
CREATED:20241211T134815Z
LAST-MODIFIED:20241211T134815Z
UID:10005733-1790865000-1790870400@kilrush.ie
SUMMARY:Monthly Birthday Party
DESCRIPTION:A celebration for everyone who has their birthday this month!
URL:https://kilrush.ie/event/monthly-birthday-party/2026-10-01/
LOCATION:West Clare Family Resource Centre / Kilrush Community Centre\, O'Gorman Street\, Kilrush\, V15 VK31\, Ireland
ATTACH;FMTTYPE=image/jpeg:https://kilrush.ie/wp-content/uploads/2024/12/WCFRC.jpg
END:VEVENT
BEGIN:VEVENT
DTSTART;TZID=Europe/Dublin:20261105T143000
DTEND;TZID=Europe/Dublin:20261105T160000
DTSTAMP:20260425T223700
CREATED:20241211T134815Z
LAST-MODIFIED:20241211T134815Z
UID:10005734-1793889000-1793894400@kilrush.ie
SUMMARY:Monthly Birthday Party
DESCRIPTION:A celebration for everyone who has their birthday this month!
URL:https://kilrush.ie/event/monthly-birthday-party/2026-11-05/
LOCATION:West Clare Family Resource Centre / Kilrush Community Centre\, O'Gorman Street\, Kilrush\, V15 VK31\, Ireland
ATTACH;FMTTYPE=image/jpeg:https://kilrush.ie/wp-content/uploads/2024/12/WCFRC.jpg
END:VEVENT
BEGIN:VEVENT
DTSTART;TZID=Europe/Dublin:20261203T143000
DTEND;TZID=Europe/Dublin:20261203T160000
DTSTAMP:20260425T223700
CREATED:20241211T134815Z
LAST-MODIFIED:20241211T134815Z
UID:10005735-1796308200-1796313600@kilrush.ie
SUMMARY:Monthly Birthday Party
DESCRIPTION:A celebration for everyone who has their birthday this month!
URL:https://kilrush.ie/event/monthly-birthday-party/2026-12-03/
LOCATION:West Clare Family Resource Centre / Kilrush Community Centre\, O'Gorman Street\, Kilrush\, V15 VK31\, Ireland
ATTACH;FMTTYPE=image/jpeg:https://kilrush.ie/wp-content/uploads/2024/12/WCFRC.jpg
END:VEVENT
BEGIN:VEVENT
DTSTART;TZID=Europe/Dublin:20270107T143000
DTEND;TZID=Europe/Dublin:20270107T160000
DTSTAMP:20260425T223700
CREATED:20241211T134815Z
LAST-MODIFIED:20241211T134815Z
UID:10005736-1799332200-1799337600@kilrush.ie
SUMMARY:Monthly Birthday Party
DESCRIPTION:A celebration for everyone who has their birthday this month!
URL:https://kilrush.ie/event/monthly-birthday-party/2027-01-07/
LOCATION:West Clare Family Resource Centre / Kilrush Community Centre\, O'Gorman Street\, Kilrush\, V15 VK31\, Ireland
ATTACH;FMTTYPE=image/jpeg:https://kilrush.ie/wp-content/uploads/2024/12/WCFRC.jpg
END:VEVENT
BEGIN:VEVENT
DTSTART;TZID=Europe/Dublin:20270204T143000
DTEND;TZID=Europe/Dublin:20270204T160000
DTSTAMP:20260425T223700
CREATED:20241211T134815Z
LAST-MODIFIED:20241211T134815Z
UID:10005737-1801751400-1801756800@kilrush.ie
SUMMARY:Monthly Birthday Party
DESCRIPTION:A celebration for everyone who has their birthday this month!
URL:https://kilrush.ie/event/monthly-birthday-party/2027-02-04/
LOCATION:West Clare Family Resource Centre / Kilrush Community Centre\, O'Gorman Street\, Kilrush\, V15 VK31\, Ireland
ATTACH;FMTTYPE=image/jpeg:https://kilrush.ie/wp-content/uploads/2024/12/WCFRC.jpg
END:VEVENT
BEGIN:VEVENT
DTSTART;TZID=Europe/Dublin:20270304T143000
DTEND;TZID=Europe/Dublin:20270304T160000
DTSTAMP:20260425T223700
CREATED:20241211T134815Z
LAST-MODIFIED:20241211T134815Z
UID:10005738-1804170600-1804176000@kilrush.ie
SUMMARY:Monthly Birthday Party
DESCRIPTION:A celebration for everyone who has their birthday this month!
URL:https://kilrush.ie/event/monthly-birthday-party/2027-03-04/
LOCATION:West Clare Family Resource Centre / Kilrush Community Centre\, O'Gorman Street\, Kilrush\, V15 VK31\, Ireland
ATTACH;FMTTYPE=image/jpeg:https://kilrush.ie/wp-content/uploads/2024/12/WCFRC.jpg
END:VEVENT
BEGIN:VEVENT
DTSTART;TZID=Europe/Dublin:20270401T143000
DTEND;TZID=Europe/Dublin:20270401T160000
DTSTAMP:20260425T223700
CREATED:20241211T134815Z
LAST-MODIFIED:20241211T134815Z
UID:10005739-1806589800-1806595200@kilrush.ie
SUMMARY:Monthly Birthday Party
DESCRIPTION:A celebration for everyone who has their birthday this month!
URL:https://kilrush.ie/event/monthly-birthday-party/2027-04-01/
LOCATION:West Clare Family Resource Centre / Kilrush Community Centre\, O'Gorman Street\, Kilrush\, V15 VK31\, Ireland
ATTACH;FMTTYPE=image/jpeg:https://kilrush.ie/wp-content/uploads/2024/12/WCFRC.jpg
END:VEVENT
BEGIN:VEVENT
DTSTART;TZID=Europe/Dublin:20270506T143000
DTEND;TZID=Europe/Dublin:20270506T160000
DTSTAMP:20260425T223700
CREATED:20241211T134815Z
LAST-MODIFIED:20241211T134815Z
UID:10005740-1809613800-1809619200@kilrush.ie
SUMMARY:Monthly Birthday Party
DESCRIPTION:A celebration for everyone who has their birthday this month!
URL:https://kilrush.ie/event/monthly-birthday-party/2027-05-06/
LOCATION:West Clare Family Resource Centre / Kilrush Community Centre\, O'Gorman Street\, Kilrush\, V15 VK31\, Ireland
ATTACH;FMTTYPE=image/jpeg:https://kilrush.ie/wp-content/uploads/2024/12/WCFRC.jpg
END:VEVENT
BEGIN:VEVENT
DTSTART;TZID=Europe/Dublin:20270603T143000
DTEND;TZID=Europe/Dublin:20270603T160000
DTSTAMP:20260425T223700
CREATED:20241211T134815Z
LAST-MODIFIED:20241211T134815Z
UID:10005741-1812033000-1812038400@kilrush.ie
SUMMARY:Monthly Birthday Party
DESCRIPTION:A celebration for everyone who has their birthday this month!
URL:https://kilrush.ie/event/monthly-birthday-party/2027-06-03/
LOCATION:West Clare Family Resource Centre / Kilrush Community Centre\, O'Gorman Street\, Kilrush\, V15 VK31\, Ireland
ATTACH;FMTTYPE=image/jpeg:https://kilrush.ie/wp-content/uploads/2024/12/WCFRC.jpg
END:VEVENT
BEGIN:VEVENT
DTSTART;TZID=Europe/Dublin:20270701T143000
DTEND;TZID=Europe/Dublin:20270701T160000
DTSTAMP:20260425T223700
CREATED:20241211T134815Z
LAST-MODIFIED:20241211T134815Z
UID:10005742-1814452200-1814457600@kilrush.ie
SUMMARY:Monthly Birthday Party
DESCRIPTION:A celebration for everyone who has their birthday this month!
URL:https://kilrush.ie/event/monthly-birthday-party/2027-07-01/
LOCATION:West Clare Family Resource Centre / Kilrush Community Centre\, O'Gorman Street\, Kilrush\, V15 VK31\, Ireland
ATTACH;FMTTYPE=image/jpeg:https://kilrush.ie/wp-content/uploads/2024/12/WCFRC.jpg
END:VEVENT
BEGIN:VEVENT
DTSTART;TZID=Europe/Dublin:20270805T143000
DTEND;TZID=Europe/Dublin:20270805T160000
DTSTAMP:20260425T223700
CREATED:20241211T134815Z
LAST-MODIFIED:20241211T134815Z
UID:10005743-1817476200-1817481600@kilrush.ie
SUMMARY:Monthly Birthday Party
DESCRIPTION:A celebration for everyone who has their birthday this month!
URL:https://kilrush.ie/event/monthly-birthday-party/2027-08-05/
LOCATION:West Clare Family Resource Centre / Kilrush Community Centre\, O'Gorman Street\, Kilrush\, V15 VK31\, Ireland
ATTACH;FMTTYPE=image/jpeg:https://kilrush.ie/wp-content/uploads/2024/12/WCFRC.jpg
END:VEVENT
BEGIN:VEVENT
DTSTART;TZID=Europe/Dublin:20270902T143000
DTEND;TZID=Europe/Dublin:20270902T160000
DTSTAMP:20260425T223700
CREATED:20241211T134815Z
LAST-MODIFIED:20241211T134815Z
UID:10005744-1819895400-1819900800@kilrush.ie
SUMMARY:Monthly Birthday Party
DESCRIPTION:A celebration for everyone who has their birthday this month!
URL:https://kilrush.ie/event/monthly-birthday-party/2027-09-02/
LOCATION:West Clare Family Resource Centre / Kilrush Community Centre\, O'Gorman Street\, Kilrush\, V15 VK31\, Ireland
ATTACH;FMTTYPE=image/jpeg:https://kilrush.ie/wp-content/uploads/2024/12/WCFRC.jpg
END:VEVENT
BEGIN:VEVENT
DTSTART;TZID=Europe/Dublin:20271007T143000
DTEND;TZID=Europe/Dublin:20271007T160000
DTSTAMP:20260425T223700
CREATED:20241211T134815Z
LAST-MODIFIED:20241211T134815Z
UID:10005745-1822919400-1822924800@kilrush.ie
SUMMARY:Monthly Birthday Party
DESCRIPTION:A celebration for everyone who has their birthday this month!
URL:https://kilrush.ie/event/monthly-birthday-party/2027-10-07/
LOCATION:West Clare Family Resource Centre / Kilrush Community Centre\, O'Gorman Street\, Kilrush\, V15 VK31\, Ireland
ATTACH;FMTTYPE=image/jpeg:https://kilrush.ie/wp-content/uploads/2024/12/WCFRC.jpg
END:VEVENT
BEGIN:VEVENT
DTSTART;TZID=Europe/Dublin:20271104T143000
DTEND;TZID=Europe/Dublin:20271104T160000
DTSTAMP:20260425T223700
CREATED:20241211T134815Z
LAST-MODIFIED:20241211T134815Z
UID:10005746-1825338600-1825344000@kilrush.ie
SUMMARY:Monthly Birthday Party
DESCRIPTION:A celebration for everyone who has their birthday this month!
URL:https://kilrush.ie/event/monthly-birthday-party/2027-11-04/
LOCATION:West Clare Family Resource Centre / Kilrush Community Centre\, O'Gorman Street\, Kilrush\, V15 VK31\, Ireland
ATTACH;FMTTYPE=image/jpeg:https://kilrush.ie/wp-content/uploads/2024/12/WCFRC.jpg
END:VEVENT
BEGIN:VEVENT
DTSTART;TZID=Europe/Dublin:20271202T143000
DTEND;TZID=Europe/Dublin:20271202T160000
DTSTAMP:20260425T223700
CREATED:20241211T134815Z
LAST-MODIFIED:20241211T134815Z
UID:10005747-1827757800-1827763200@kilrush.ie
SUMMARY:Monthly Birthday Party
DESCRIPTION:A celebration for everyone who has their birthday this month!
URL:https://kilrush.ie/event/monthly-birthday-party/2027-12-02/
LOCATION:West Clare Family Resource Centre / Kilrush Community Centre\, O'Gorman Street\, Kilrush\, V15 VK31\, Ireland
ATTACH;FMTTYPE=image/jpeg:https://kilrush.ie/wp-content/uploads/2024/12/WCFRC.jpg
END:VEVENT
BEGIN:VEVENT
DTSTART;TZID=Europe/Dublin:20280106T143000
DTEND;TZID=Europe/Dublin:20280106T160000
DTSTAMP:20260425T223700
CREATED:20241211T134815Z
LAST-MODIFIED:20241211T134815Z
UID:10005748-1830781800-1830787200@kilrush.ie
SUMMARY:Monthly Birthday Party
DESCRIPTION:A celebration for everyone who has their birthday this month!
URL:https://kilrush.ie/event/monthly-birthday-party/2028-01-06/
LOCATION:West Clare Family Resource Centre / Kilrush Community Centre\, O'Gorman Street\, Kilrush\, V15 VK31\, Ireland
ATTACH;FMTTYPE=image/jpeg:https://kilrush.ie/wp-content/uploads/2024/12/WCFRC.jpg
END:VEVENT
BEGIN:VEVENT
DTSTART;TZID=Europe/Dublin:20280203T143000
DTEND;TZID=Europe/Dublin:20280203T160000
DTSTAMP:20260425T223700
CREATED:20241211T134815Z
LAST-MODIFIED:20241211T134815Z
UID:10005749-1833201000-1833206400@kilrush.ie
SUMMARY:Monthly Birthday Party
DESCRIPTION:A celebration for everyone who has their birthday this month!
URL:https://kilrush.ie/event/monthly-birthday-party/2028-02-03/
LOCATION:West Clare Family Resource Centre / Kilrush Community Centre\, O'Gorman Street\, Kilrush\, V15 VK31\, Ireland
ATTACH;FMTTYPE=image/jpeg:https://kilrush.ie/wp-content/uploads/2024/12/WCFRC.jpg
END:VEVENT
BEGIN:VEVENT
DTSTART;TZID=Europe/Dublin:20280302T143000
DTEND;TZID=Europe/Dublin:20280302T160000
DTSTAMP:20260425T223700
CREATED:20241211T134815Z
LAST-MODIFIED:20241211T134815Z
UID:10005750-1835620200-1835625600@kilrush.ie
SUMMARY:Monthly Birthday Party
DESCRIPTION:A celebration for everyone who has their birthday this month!
URL:https://kilrush.ie/event/monthly-birthday-party/2028-03-02/
LOCATION:West Clare Family Resource Centre / Kilrush Community Centre\, O'Gorman Street\, Kilrush\, V15 VK31\, Ireland
ATTACH;FMTTYPE=image/jpeg:https://kilrush.ie/wp-content/uploads/2024/12/WCFRC.jpg
END:VEVENT
BEGIN:VEVENT
DTSTART;TZID=Europe/Dublin:20280406T143000
DTEND;TZID=Europe/Dublin:20280406T160000
DTSTAMP:20260425T223700
CREATED:20241211T134815Z
LAST-MODIFIED:20241211T134815Z
UID:10005751-1838644200-1838649600@kilrush.ie
SUMMARY:Monthly Birthday Party
DESCRIPTION:A celebration for everyone who has their birthday this month!
URL:https://kilrush.ie/event/monthly-birthday-party/2028-04-06/
LOCATION:West Clare Family Resource Centre / Kilrush Community Centre\, O'Gorman Street\, Kilrush\, V15 VK31\, Ireland
ATTACH;FMTTYPE=image/jpeg:https://kilrush.ie/wp-content/uploads/2024/12/WCFRC.jpg
END:VEVENT
BEGIN:VEVENT
DTSTART;TZID=Europe/Dublin:20280504T143000
DTEND;TZID=Europe/Dublin:20280504T160000
DTSTAMP:20260425T223700
CREATED:20241211T134815Z
LAST-MODIFIED:20241211T134815Z
UID:10005752-1841063400-1841068800@kilrush.ie
SUMMARY:Monthly Birthday Party
DESCRIPTION:A celebration for everyone who has their birthday this month!
URL:https://kilrush.ie/event/monthly-birthday-party/2028-05-04/
LOCATION:West Clare Family Resource Centre / Kilrush Community Centre\, O'Gorman Street\, Kilrush\, V15 VK31\, Ireland
ATTACH;FMTTYPE=image/jpeg:https://kilrush.ie/wp-content/uploads/2024/12/WCFRC.jpg
END:VEVENT
BEGIN:VEVENT
DTSTART;TZID=Europe/Dublin:20280601T143000
DTEND;TZID=Europe/Dublin:20280601T160000
DTSTAMP:20260425T223700
CREATED:20241211T134815Z
LAST-MODIFIED:20241211T134815Z
UID:10005753-1843482600-1843488000@kilrush.ie
SUMMARY:Monthly Birthday Party
DESCRIPTION:A celebration for everyone who has their birthday this month!
URL:https://kilrush.ie/event/monthly-birthday-party/2028-06-01/
LOCATION:West Clare Family Resource Centre / Kilrush Community Centre\, O'Gorman Street\, Kilrush\, V15 VK31\, Ireland
ATTACH;FMTTYPE=image/jpeg:https://kilrush.ie/wp-content/uploads/2024/12/WCFRC.jpg
END:VEVENT
BEGIN:VEVENT
DTSTART;TZID=Europe/Dublin:20280706T143000
DTEND;TZID=Europe/Dublin:20280706T160000
DTSTAMP:20260425T223700
CREATED:20241211T134815Z
LAST-MODIFIED:20241211T134815Z
UID:10005754-1846506600-1846512000@kilrush.ie
SUMMARY:Monthly Birthday Party
DESCRIPTION:A celebration for everyone who has their birthday this month!
URL:https://kilrush.ie/event/monthly-birthday-party/2028-07-06/
LOCATION:West Clare Family Resource Centre / Kilrush Community Centre\, O'Gorman Street\, Kilrush\, V15 VK31\, Ireland
ATTACH;FMTTYPE=image/jpeg:https://kilrush.ie/wp-content/uploads/2024/12/WCFRC.jpg
END:VEVENT
BEGIN:VEVENT
DTSTART;TZID=Europe/Dublin:20280803T143000
DTEND;TZID=Europe/Dublin:20280803T160000
DTSTAMP:20260425T223700
CREATED:20241211T134815Z
LAST-MODIFIED:20241211T134815Z
UID:10005755-1848925800-1848931200@kilrush.ie
SUMMARY:Monthly Birthday Party
DESCRIPTION:A celebration for everyone who has their birthday this month!
URL:https://kilrush.ie/event/monthly-birthday-party/2028-08-03/
LOCATION:West Clare Family Resource Centre / Kilrush Community Centre\, O'Gorman Street\, Kilrush\, V15 VK31\, Ireland
ATTACH;FMTTYPE=image/jpeg:https://kilrush.ie/wp-content/uploads/2024/12/WCFRC.jpg
END:VEVENT
BEGIN:VEVENT
DTSTART;TZID=Europe/Dublin:20280907T143000
DTEND;TZID=Europe/Dublin:20280907T160000
DTSTAMP:20260425T223700
CREATED:20241211T134815Z
LAST-MODIFIED:20241211T134815Z
UID:10005756-1851949800-1851955200@kilrush.ie
SUMMARY:Monthly Birthday Party
DESCRIPTION:A celebration for everyone who has their birthday this month!
URL:https://kilrush.ie/event/monthly-birthday-party/2028-09-07/
LOCATION:West Clare Family Resource Centre / Kilrush Community Centre\, O'Gorman Street\, Kilrush\, V15 VK31\, Ireland
ATTACH;FMTTYPE=image/jpeg:https://kilrush.ie/wp-content/uploads/2024/12/WCFRC.jpg
END:VEVENT
BEGIN:VEVENT
DTSTART;TZID=Europe/Dublin:20281005T143000
DTEND;TZID=Europe/Dublin:20281005T160000
DTSTAMP:20260425T223700
CREATED:20241211T134815Z
LAST-MODIFIED:20241211T134815Z
UID:10005757-1854369000-1854374400@kilrush.ie
SUMMARY:Monthly Birthday Party
DESCRIPTION:A celebration for everyone who has their birthday this month!
URL:https://kilrush.ie/event/monthly-birthday-party/2028-10-05/
LOCATION:West Clare Family Resource Centre / Kilrush Community Centre\, O'Gorman Street\, Kilrush\, V15 VK31\, Ireland
ATTACH;FMTTYPE=image/jpeg:https://kilrush.ie/wp-content/uploads/2024/12/WCFRC.jpg
END:VEVENT
END:VCALENDAR