BEGIN:VCALENDAR
VERSION:2.0
PRODID:-//Kilrush.ie - ECPv6.15.20//NONSGML v1.0//EN
CALSCALE:GREGORIAN
METHOD:PUBLISH
X-WR-CALNAME:Kilrush.ie
X-ORIGINAL-URL:https://kilrush.ie
X-WR-CALDESC:Events for Kilrush.ie
REFRESH-INTERVAL;VALUE=DURATION:PT1H
X-Robots-Tag:noindex
X-PUBLISHED-TTL:PT1H
BEGIN:VTIMEZONE
TZID:Europe/Dublin
BEGIN:DAYLIGHT
TZOFFSETFROM:+0000
TZOFFSETTO:+0100
TZNAME:IST
DTSTART:20230326T010000
END:DAYLIGHT
BEGIN:STANDARD
TZOFFSETFROM:+0100
TZOFFSETTO:+0000
TZNAME:GMT
DTSTART:20231029T010000
END:STANDARD
BEGIN:DAYLIGHT
TZOFFSETFROM:+0000
TZOFFSETTO:+0100
TZNAME:IST
DTSTART:20240331T010000
END:DAYLIGHT
BEGIN:STANDARD
TZOFFSETFROM:+0100
TZOFFSETTO:+0000
TZNAME:GMT
DTSTART:20241027T010000
END:STANDARD
BEGIN:DAYLIGHT
TZOFFSETFROM:+0000
TZOFFSETTO:+0100
TZNAME:IST
DTSTART:20250330T010000
END:DAYLIGHT
BEGIN:STANDARD
TZOFFSETFROM:+0100
TZOFFSETTO:+0000
TZNAME:GMT
DTSTART:20251026T010000
END:STANDARD
END:VTIMEZONE
BEGIN:VEVENT
DTSTART;TZID=Europe/Dublin:20241105T180000
DTEND;TZID=Europe/Dublin:20241105T193000
DTSTAMP:20260420T091450
CREATED:20241102T175420Z
LAST-MODIFIED:20241211T135731Z
UID:10000308-1730829600-1730835000@kilrush.ie
SUMMARY:Kilrush Library Uplifting Poetry Sessions
DESCRIPTION:Free sessions for poets and poetry lovers\, on the first and second Tuesday of every month at Kilrush Library.  Come to read your own poetry or to share a favourite poem by another writer.
URL:https://kilrush.ie/event/kilrush-library-uplifting-poetry-sessions/2024-11-05/
LOCATION:Kilrush Library\, O'Gorman Street\, Kilrush\, V15 W577
ATTACH;FMTTYPE=image/jpeg:https://kilrush.ie/wp-content/uploads/2024/12/Kilrush-Library.jpg
END:VEVENT
BEGIN:VEVENT
DTSTART;TZID=Europe/Dublin:20241105T200000
DTEND;TZID=Europe/Dublin:20241105T213000
DTSTAMP:20260420T091450
CREATED:20241102T170548Z
LAST-MODIFIED:20241102T170548Z
UID:10000307-1730836800-1730842200@kilrush.ie
SUMMARY:OÍCHE CHULTÚRTHA/CULTURAL NIGHT
DESCRIPTION:Ócáid Dhátheangach/A Bilingual Event\n\n\nAoi Speisialta \nTadhg Mac Dhonnagháin \nAg labhairt faoina shaothar \nFÁILTE ROIMH CHÁCH! \nSpecial Guest \nTadhg Mac Dhonnagháin \nSpeaking about his work \nEVERYONE WELCOME! \n \n 
URL:https://kilrush.ie/event/oiche-chulturtha-cultural-night/
LOCATION:Teach Ceoil\, Grace St\, Kilrush\, Co. Clare\, V15 PD89\, Ireland
ATTACH;FMTTYPE=image/jpeg:https://kilrush.ie/wp-content/uploads/2024/10/PXL_20241023_122143550-scaled.jpg
END:VEVENT
BEGIN:VEVENT
DTSTART;TZID=Europe/Dublin:20241107T090000
DTEND;TZID=Europe/Dublin:20241107T140000
DTSTAMP:20260420T091450
CREATED:20240713T233258Z
LAST-MODIFIED:20240713T233258Z
UID:10000019-1730970000-1730988000@kilrush.ie
SUMMARY:Kilrush Farmer's Market
DESCRIPTION:Support local businesses by shopping the Kilrush Farmer’s Market.  Held every Thursday from 9am-2pm.
URL:https://kilrush.ie/event/kilrush-farmers-market/2024-11-07/
LOCATION:The Square\, Kilrush\, The Square\, Kilrush\, Co. Clare
ATTACH;FMTTYPE=image/jpeg:https://kilrush.ie/wp-content/uploads/2024/07/kilrush-farmers-market.jpg
END:VEVENT
BEGIN:VEVENT
DTSTART;TZID=Europe/Dublin:20241112T180000
DTEND;TZID=Europe/Dublin:20241112T193000
DTSTAMP:20260420T091450
CREATED:20241102T181658Z
LAST-MODIFIED:20241211T135634Z
UID:10000369-1731434400-1731439800@kilrush.ie
SUMMARY:Kilrush Library Uplifting Poetry Sessions
DESCRIPTION:Free sessions for poets and poetry lovers\, on the first and second Tuesday of every month at Kilrush Library.  Come to read your own poetry or to share a favourite poem by another writer.
URL:https://kilrush.ie/event/kilrush-uplifting-poetry-sessions/2024-11-12/
LOCATION:Kilrush Library\, O'Gorman Street\, Kilrush\, V15 W577
ATTACH;FMTTYPE=image/jpeg:https://kilrush.ie/wp-content/uploads/2024/12/Kilrush-Library.jpg
END:VEVENT
BEGIN:VEVENT
DTSTART;TZID=Europe/Dublin:20241114T090000
DTEND;TZID=Europe/Dublin:20241114T140000
DTSTAMP:20260420T091450
CREATED:20240713T233258Z
LAST-MODIFIED:20240713T233258Z
UID:10000020-1731574800-1731592800@kilrush.ie
SUMMARY:Kilrush Farmer's Market
DESCRIPTION:Support local businesses by shopping the Kilrush Farmer’s Market.  Held every Thursday from 9am-2pm.
URL:https://kilrush.ie/event/kilrush-farmers-market/2024-11-14/
LOCATION:The Square\, Kilrush\, The Square\, Kilrush\, Co. Clare
ATTACH;FMTTYPE=image/jpeg:https://kilrush.ie/wp-content/uploads/2024/07/kilrush-farmers-market.jpg
END:VEVENT
BEGIN:VEVENT
DTSTART;TZID=Europe/Dublin:20241121T090000
DTEND;TZID=Europe/Dublin:20241121T140000
DTSTAMP:20260420T091450
CREATED:20240713T233258Z
LAST-MODIFIED:20240713T233258Z
UID:10000021-1732179600-1732197600@kilrush.ie
SUMMARY:Kilrush Farmer's Market
DESCRIPTION:Support local businesses by shopping the Kilrush Farmer’s Market.  Held every Thursday from 9am-2pm.
URL:https://kilrush.ie/event/kilrush-farmers-market/2024-11-21/
LOCATION:The Square\, Kilrush\, The Square\, Kilrush\, Co. Clare
ATTACH;FMTTYPE=image/jpeg:https://kilrush.ie/wp-content/uploads/2024/07/kilrush-farmers-market.jpg
END:VEVENT
BEGIN:VEVENT
DTSTART;TZID=Europe/Dublin:20241122T190000
DTEND;TZID=Europe/Dublin:20241122T210000
DTSTAMP:20260420T091450
CREATED:20241102T180154Z
LAST-MODIFIED:20241102T180154Z
UID:10000309-1732302000-1732309200@kilrush.ie
SUMMARY:A Free Introduction to Meditation and Mindfulness
DESCRIPTION:Bob Vernon invites you to a free introduction to meditation and mindfulness at Banner Books\, Kilrush. \nBob has been practicing meditation for 50 years and teaching it in Doonbeg\, Miltown Malbay\, Ennistimon\, Doolin\, and Kilrush since 2012. \nBook a place at revbobvernon@hotmail.com
URL:https://kilrush.ie/event/a-free-introduction-to-meditation-and-mindfulness/
LOCATION:Banner Books\, 1a\, Hector Street Mills\, Kilrush\, V15 PW83
ATTACH;FMTTYPE=image/jpeg:https://kilrush.ie/wp-content/uploads/2024/11/B.V.-Meditation-Nov-2024-Social-Media-Square.jpg
ORGANIZER;CN="Bob Vernon":MAILTO:revbobvernon@hotmail.com
END:VEVENT
BEGIN:VEVENT
DTSTART;TZID=Europe/Dublin:20241123T143000
DTEND;TZID=Europe/Dublin:20241123T160000
DTSTAMP:20260420T091450
CREATED:20241113T151900Z
LAST-MODIFIED:20241113T151900Z
UID:10000432-1732372200-1732377600@kilrush.ie
SUMMARY:Book Launch with Éanna Ní Lamhna
DESCRIPTION:Join well-known broadcaster\, author and educator Éanna Ní Lamhna for the launch of her new book\, ‘The Great Irish Biodiversity Book’.The latest book in the bestselling and award-winning Gill Books series of big topics tackled by experts\, this beautifully illustrated guide introduces Ireland’s plants\, animals\, trees and insects to readers of all ages.Éanna takes us on a trip through Irish wildlife habitats – from bogs to beaches and woodland to grassland. Discover how habitats work and which creatures and plants to look out for in each one\, from the very rare to the most common\, all brought to life with stunning artwork by Barry Falls.Éanna’s talks are always hugely entertaining and informative\, so don’t miss out on this opportunity to hear her\, and to get your signed copy of this beautiful book.This is a free event\, suitable for all ages.
URL:https://kilrush.ie/event/book-launch-with-eanna-ni-lamhna/
LOCATION:Banner Books\, 1a\, Hector Street Mills\, Kilrush\, V15 PW83
ATTACH;FMTTYPE=image/jpeg:https://kilrush.ie/wp-content/uploads/2024/11/Eanna-Ni-Lamhna-FB-Cover.jpg
END:VEVENT
BEGIN:VEVENT
DTSTART;TZID=Europe/Dublin:20241126T200000
DTEND;TZID=Europe/Dublin:20241126T213000
DTSTAMP:20260420T091450
CREATED:20241110T184200Z
LAST-MODIFIED:20241110T184200Z
UID:10000429-1732651200-1732656600@kilrush.ie
SUMMARY:KDHS Monthly Lecture- The Disappeared: Forced Disappearances in Ireland 1798-1998 with Pádraig Óg Ó Ruairc
DESCRIPTION:Pádraig Óg Ó Ruairc is the historian who literally ‘knows where the bodies are’. He has spent over a decade researching the fate of ‘The Disappeared’\, the forgotten victims of the century’s long struggle for Irish freedom – the majority of whose bodies are still hidden deep in the Irish countryside. In 2018\, Ó Ruairc’s research led to the recovery of the remains of Private George Chalmers\, a British soldier who had been executed by the IRA in 1921 and secretly buried in a remote bog. Ó Ruairc has a PhD in History & a BA in Archaeology.\n‘The Disappeared: Forced Disappearances in Ireland 1798-1998’ is his seventh book.\nThe spectre of ‘the Disappeared’\, those abducted\, secretly executed and their bodies buried in remote locations\, has overshadowed the debate around the legacy of the Troubles in Northern Ireland for the last two decades. Yet what most people don’t realise is that ‘forced disappearances’ have been part of violent political conflicts in Ireland for over 200 years.\nThis groundbreaking book\, the first of its kind\, looks at the history of this practice in Ireland and identifies all known victims over the last century\, from the North King Street Massacre in 1916 right up to 2003. Ó Ruairc cuts through the exaggeration and myth that pervade the popular history of the ‘Good Old IRA’ to prove that this organisation was particularly ruthless in using this course of action during the War of Independence and Civil War\, much more so than their successors in the Provisional IRA or the British forces in Ireland. The author also reveals how his research has helped locate several bodies of those long missing\, one of which has already been recovered and given a proper burial.\nBehind each disappearance there is the story of a life cut short and a family left searching for answers. Ó Ruairc deftly incorporates this human element\, preserving the memory of those who were disappeared on both sides of the conflict.\nPraise for The Disappeared\n‘Pádraig Óg Ó Ruairc’s The Disappeared will be indispensable to students of Irish history for years to come’ – Eilis O’Hanlon\, The Sunday Independent\n‘brilliantly researched and highly unsettling’ – Andrew Lynch\, Business Post\n‘…a great and sometimes painful read\, which confronts a long-neglected topic’ – John Downing\, The Irish Independent\n‘Excellent.’ – Fortnight Magazine\n———–\nTo watch the lecture live online at the scheduled lecture time (or to watch a recording online at any subsequent time of your choosing)\, go to\nhttps://www.youtube.com/@kilrushanddistricthistor…/streams\nThere will be a live chat (text) facility to enable the remote audience to participate in the discussion.\n———-\nKDHS lectures are free to members\, EUR5 for non-members\, payable on the night only. New members are welcome. The annual membership fee (July-June) is EUR20.\nThe membership form can be downloaded from our website at\nhttp://kdhs.ie/assets/files/general/membership_form.pdf
URL:https://kilrush.ie/event/kdhs-monthly-lecture-the-disappeared-forced-disappearances-in-ireland-1798-1998-with-padraig-og-o-ruairc/
LOCATION:Teach Ceoil\, Grace St\, Kilrush\, Co. Clare\, V15 PD89\, Ireland
ATTACH;FMTTYPE=image/jpeg:https://kilrush.ie/wp-content/uploads/2024/11/Event-Cover-Nov-24-1.jpg
ORGANIZER;CN="Kilrush and District Historical Society":MAILTO:kilrushhistoricalsociety@gmail.com
END:VEVENT
BEGIN:VEVENT
DTSTART;TZID=Europe/Dublin:20241128T090000
DTEND;TZID=Europe/Dublin:20241128T140000
DTSTAMP:20260420T091450
CREATED:20240713T233258Z
LAST-MODIFIED:20240713T233258Z
UID:10000022-1732784400-1732802400@kilrush.ie
SUMMARY:Kilrush Farmer's Market
DESCRIPTION:Support local businesses by shopping the Kilrush Farmer’s Market.  Held every Thursday from 9am-2pm.
URL:https://kilrush.ie/event/kilrush-farmers-market/2024-11-28/
LOCATION:The Square\, Kilrush\, The Square\, Kilrush\, Co. Clare
ATTACH;FMTTYPE=image/jpeg:https://kilrush.ie/wp-content/uploads/2024/07/kilrush-farmers-market.jpg
END:VEVENT
BEGIN:VEVENT
DTSTART;TZID=Europe/Dublin:20241129T183000
DTEND;TZID=Europe/Dublin:20241129T203000
DTSTAMP:20260420T091450
CREATED:20241110T184658Z
LAST-MODIFIED:20241110T184658Z
UID:10000430-1732905000-1732912200@kilrush.ie
SUMMARY:Open Mic Social hosted by Frank Golden
DESCRIPTION:The monthly open mic social at our Kilrush shop is a free event\, open to all.\nFor lovers of poetry\, flash fiction and any kind of creative writing. Come to read from your own work or to share a favourite piece by another writer\, or come to listen and support.\nTea\, coffee\, and treats provided.This is a free event\, but there will be a ‘Tip Jar’ if you would like to donate towards expenses.\nPoet Frank Golden has also published two novels\, and has received numerous bursaries\, awards\, and residencies. He lives in the Oughtmama Valley\, County Clare.\nHe will be reading from ‘IF YOU TOLERATE THIS’\, his sixth collection of poems.\nIF YOU TOLERATE THIS is a wide ranging work in six parts which nails its geo-political colours to the mast\, and casts a misanthropic eye over the whole morass. Failure and the blighted realities of both entitled and marginalised lives suffuse sections of the book devoted to Fordlandia\, Henry Ford\, lives in states of crisis in Central America and the Middle East. Poems concerned with eco dynamics not only dominate section 5 but inform the book as a whole. IF YOU TOLERATE THIS ends with poems that Golden wrote as he back-packed through Iran in 2019\, together with a poem that admixes the death of Gaddafi and the experiences of the poet’s father in Libya during the Second World War. This is a book with a large cast of characters\, both familiar and new\, who are as riven and corruptive as the age we live in.\nPraise for Golden’s last book of poems\, ‘GOTTA GET A MESSAGE TO YOU’ (SalmonPoetry)\n“Golden is a poet to get excited about… This is a startling and exciting collection.”Afric McGlinchy/Southward Journal\n“I have rarely been so moved by a book of poems.” Grace Wells/Fur\n“A fantastic new collection by Irish poet Frank Golden. It has floored me like no book of poetry has in a long time. Golden has an uncanny ability to touch on the things that move us most deeply.” Phil Hanrahan/Bookish Review
URL:https://kilrush.ie/event/open-mic-social-hosted-by-frank-golden/
LOCATION:Banner Books\, 1a\, Hector Street Mills\, Kilrush\, V15 PW83
ATTACH;FMTTYPE=image/jpeg:https://kilrush.ie/wp-content/uploads/2024/11/Open-Mic-November-FB-Cover.jpg
END:VEVENT
END:VCALENDAR