BEGIN:VCALENDAR
VERSION:2.0
PRODID:-//Kilrush.ie - ECPv6.15.20//NONSGML v1.0//EN
CALSCALE:GREGORIAN
METHOD:PUBLISH
X-ORIGINAL-URL:https://kilrush.ie
X-WR-CALDESC:Events for Kilrush.ie
REFRESH-INTERVAL;VALUE=DURATION:PT1H
X-Robots-Tag:noindex
X-PUBLISHED-TTL:PT1H
BEGIN:VTIMEZONE
TZID:Europe/Dublin
BEGIN:DAYLIGHT
TZOFFSETFROM:+0000
TZOFFSETTO:+0100
TZNAME:IST
DTSTART:20270328T010000
END:DAYLIGHT
BEGIN:STANDARD
TZOFFSETFROM:+0100
TZOFFSETTO:+0000
TZNAME:GMT
DTSTART:20271031T010000
END:STANDARD
BEGIN:DAYLIGHT
TZOFFSETFROM:+0000
TZOFFSETTO:+0100
TZNAME:IST
DTSTART:20280326T010000
END:DAYLIGHT
BEGIN:STANDARD
TZOFFSETFROM:+0100
TZOFFSETTO:+0000
TZNAME:GMT
DTSTART:20281029T010000
END:STANDARD
BEGIN:DAYLIGHT
TZOFFSETFROM:+0000
TZOFFSETTO:+0100
TZNAME:IST
DTSTART:20290325T010000
END:DAYLIGHT
BEGIN:STANDARD
TZOFFSETFROM:+0100
TZOFFSETTO:+0000
TZNAME:GMT
DTSTART:20291028T010000
END:STANDARD
END:VTIMEZONE
BEGIN:VEVENT
DTSTART;TZID=Europe/Dublin:20280807T110000
DTEND;TZID=Europe/Dublin:20280807T120000
DTSTAMP:20260423T120935
CREATED:20241211T124827Z
LAST-MODIFIED:20250219T172235Z
UID:10000947-1849258800-1849262400@kilrush.ie
SUMMARY:Weekly Woodland Walk with West Clare Mental Health Association
DESCRIPTION:Join us for a group walk around Vandeleur Woods and Gardens.
URL:https://kilrush.ie/event/weekly-woodland-walk-with-west-clare-mental-health-association/2028-08-07/
LOCATION:Vandeleur Gardens and Visitor Centre\, Feagarroge\, Kilrush\, V15 E735
ATTACH;FMTTYPE=image/jpeg:https://kilrush.ie/wp-content/uploads/2024/12/WCMHA.jpg
END:VEVENT
BEGIN:VEVENT
DTSTART;TZID=Europe/Dublin:20280808T180000
DTEND;TZID=Europe/Dublin:20280808T193000
DTSTAMP:20260423T120935
CREATED:20241102T181658Z
LAST-MODIFIED:20241211T135634Z
UID:10000414-1849370400-1849375800@kilrush.ie
SUMMARY:Kilrush Library Uplifting Poetry Sessions
DESCRIPTION:Free sessions for poets and poetry lovers\, on the first and second Tuesday of every month at Kilrush Library.  Come to read your own poetry or to share a favourite poem by another writer.
URL:https://kilrush.ie/event/kilrush-uplifting-poetry-sessions/2028-08-08/
LOCATION:Kilrush Library\, O'Gorman Street\, Kilrush\, V15 W577
ATTACH;FMTTYPE=image/jpeg:https://kilrush.ie/wp-content/uploads/2024/12/Kilrush-Library.jpg
END:VEVENT
BEGIN:VEVENT
DTSTART;TZID=Europe/Dublin:20280808T180000
DTEND;TZID=Europe/Dublin:20280808T200000
DTSTAMP:20260423T120935
CREATED:20241211T130612Z
LAST-MODIFIED:20241211T130612Z
UID:10002252-1849370400-1849377600@kilrush.ie
SUMMARY:Knitting and Craft Club at Kilrush Library
DESCRIPTION:The knitting & craft group meet in the library every Tuesday evening and share their crafty tips and patterns. Free event\, all welcome.
URL:https://kilrush.ie/event/knitting-and-craft-club-at-kilrush-library/2028-08-08/
LOCATION:Kilrush Library\, O'Gorman Street\, Kilrush\, V15 W577
ATTACH;FMTTYPE=image/jpeg:https://kilrush.ie/wp-content/uploads/2024/12/Kilrush-Library.jpg
END:VEVENT
BEGIN:VEVENT
DTSTART;TZID=Europe/Dublin:20280810T090000
DTEND;TZID=Europe/Dublin:20280810T140000
DTSTAMP:20260423T120935
CREATED:20240713T233258Z
LAST-MODIFIED:20240713T233258Z
UID:10000215-1849510800-1849528800@kilrush.ie
SUMMARY:Kilrush Farmer's Market
DESCRIPTION:Support local businesses by shopping the Kilrush Farmer’s Market.  Held every Thursday from 9am-2pm.
URL:https://kilrush.ie/event/kilrush-farmers-market/2028-08-10/
LOCATION:The Square\, Kilrush\, The Square\, Kilrush\, Co. Clare
ATTACH;FMTTYPE=image/jpeg:https://kilrush.ie/wp-content/uploads/2024/07/kilrush-farmers-market.jpg
END:VEVENT
BEGIN:VEVENT
DTSTART;TZID=Europe/Dublin:20280810T140000
DTEND;TZID=Europe/Dublin:20280810T163000
DTSTAMP:20260423T120935
CREATED:20241211T135916Z
LAST-MODIFIED:20241211T135916Z
UID:10005941-1849528800-1849537800@kilrush.ie
SUMMARY:Thursday Tea Dance
DESCRIPTION:Bookings; 065 905 2173
URL:https://kilrush.ie/event/thursday-tea-dance/2028-08-10/
LOCATION:West Clare Family Resource Centre / Kilrush Community Centre\, O'Gorman Street\, Kilrush\, V15 VK31\, Ireland
ATTACH;FMTTYPE=image/jpeg:https://kilrush.ie/wp-content/uploads/2024/12/WCFRC.jpg
END:VEVENT
BEGIN:VEVENT
DTSTART;TZID=Europe/Dublin:20280811T190000
DTEND;TZID=Europe/Dublin:20280811T200000
DTSTAMP:20260423T120935
CREATED:20241211T133808Z
LAST-MODIFIED:20241211T133808Z
UID:10005118-1849633200-1849636800@kilrush.ie
SUMMARY:Kilrush Art Group
DESCRIPTION:Monthly art classes with Pauline Dunleavy also available. For further details contact Pauline on 086 8339347
URL:https://kilrush.ie/event/kilrush-art-group/2028-08-11/
LOCATION:West Clare Family Resource Centre / Kilrush Community Centre\, O'Gorman Street\, Kilrush\, V15 VK31\, Ireland
ATTACH;FMTTYPE=image/jpeg:https://kilrush.ie/wp-content/uploads/2024/12/WCFRC.jpg
END:VEVENT
BEGIN:VEVENT
DTSTART;TZID=Europe/Dublin:20280812T093000
DTEND;TZID=Europe/Dublin:20280812T113000
DTSTAMP:20260423T120935
CREATED:20241204T171056Z
LAST-MODIFIED:20241204T171056Z
UID:10000688-1849685400-1849692600@kilrush.ie
SUMMARY:Vandeleur Parkrun
DESCRIPTION:A free\, fun\, and friendly weekly 5k community event. Walk\, jog\, run\, volunteer or spectate – it’s up to you!
URL:https://kilrush.ie/event/vandeleur-parkrun/2028-08-12/
LOCATION:Vandeleur Gardens and Visitor Centre\, Feagarroge\, Kilrush\, V15 E735
ATTACH;FMTTYPE=image/jpeg:https://kilrush.ie/wp-content/uploads/2024/12/48837294501_09f5de2302_o.jpg
ORGANIZER;CN="Vandeleur Parkrun":MAILTO:Vandeleur@parkrun.com
END:VEVENT
BEGIN:VEVENT
DTSTART;TZID=Europe/Dublin:20280813T090000
DTEND;TZID=Europe/Dublin:20280813T103000
DTSTAMP:20260423T120935
CREATED:20241211T134159Z
LAST-MODIFIED:20241211T134159Z
UID:10005379-1849770000-1849775400@kilrush.ie
SUMMARY:Mermaids and Buoys\, Cappagh
DESCRIPTION:Open water swimming\, with a big meetup every Sunday and sea swims at other times throughout the week. Further details 086 8339347
URL:https://kilrush.ie/event/mermaids-and-buoys-cappagh/2028-08-13/
END:VEVENT
BEGIN:VEVENT
DTSTART;TZID=Europe/Dublin:20280814T110000
DTEND;TZID=Europe/Dublin:20280814T120000
DTSTAMP:20260423T120935
CREATED:20241211T124827Z
LAST-MODIFIED:20250219T172235Z
UID:10000948-1849863600-1849867200@kilrush.ie
SUMMARY:Weekly Woodland Walk with West Clare Mental Health Association
DESCRIPTION:Join us for a group walk around Vandeleur Woods and Gardens.
URL:https://kilrush.ie/event/weekly-woodland-walk-with-west-clare-mental-health-association/2028-08-14/
LOCATION:Vandeleur Gardens and Visitor Centre\, Feagarroge\, Kilrush\, V15 E735
ATTACH;FMTTYPE=image/jpeg:https://kilrush.ie/wp-content/uploads/2024/12/WCMHA.jpg
END:VEVENT
BEGIN:VEVENT
DTSTART;TZID=Europe/Dublin:20280815T180000
DTEND;TZID=Europe/Dublin:20280815T200000
DTSTAMP:20260423T120935
CREATED:20241211T130612Z
LAST-MODIFIED:20241211T130612Z
UID:10002253-1849975200-1849982400@kilrush.ie
SUMMARY:Knitting and Craft Club at Kilrush Library
DESCRIPTION:The knitting & craft group meet in the library every Tuesday evening and share their crafty tips and patterns. Free event\, all welcome.
URL:https://kilrush.ie/event/knitting-and-craft-club-at-kilrush-library/2028-08-15/
LOCATION:Kilrush Library\, O'Gorman Street\, Kilrush\, V15 W577
ATTACH;FMTTYPE=image/jpeg:https://kilrush.ie/wp-content/uploads/2024/12/Kilrush-Library.jpg
END:VEVENT
BEGIN:VEVENT
DTSTART;TZID=Europe/Dublin:20280817T090000
DTEND;TZID=Europe/Dublin:20280817T140000
DTSTAMP:20260423T120935
CREATED:20240713T233258Z
LAST-MODIFIED:20240713T233258Z
UID:10000216-1850115600-1850133600@kilrush.ie
SUMMARY:Kilrush Farmer's Market
DESCRIPTION:Support local businesses by shopping the Kilrush Farmer’s Market.  Held every Thursday from 9am-2pm.
URL:https://kilrush.ie/event/kilrush-farmers-market/2028-08-17/
LOCATION:The Square\, Kilrush\, The Square\, Kilrush\, Co. Clare
ATTACH;FMTTYPE=image/jpeg:https://kilrush.ie/wp-content/uploads/2024/07/kilrush-farmers-market.jpg
END:VEVENT
BEGIN:VEVENT
DTSTART;TZID=Europe/Dublin:20280818T190000
DTEND;TZID=Europe/Dublin:20280818T200000
DTSTAMP:20260423T120935
CREATED:20241211T133808Z
LAST-MODIFIED:20241211T133808Z
UID:10005119-1850238000-1850241600@kilrush.ie
SUMMARY:Kilrush Art Group
DESCRIPTION:Monthly art classes with Pauline Dunleavy also available. For further details contact Pauline on 086 8339347
URL:https://kilrush.ie/event/kilrush-art-group/2028-08-18/
LOCATION:West Clare Family Resource Centre / Kilrush Community Centre\, O'Gorman Street\, Kilrush\, V15 VK31\, Ireland
ATTACH;FMTTYPE=image/jpeg:https://kilrush.ie/wp-content/uploads/2024/12/WCFRC.jpg
END:VEVENT
BEGIN:VEVENT
DTSTART;TZID=Europe/Dublin:20280819T093000
DTEND;TZID=Europe/Dublin:20280819T113000
DTSTAMP:20260423T120935
CREATED:20241204T171056Z
LAST-MODIFIED:20241204T171056Z
UID:10000689-1850290200-1850297400@kilrush.ie
SUMMARY:Vandeleur Parkrun
DESCRIPTION:A free\, fun\, and friendly weekly 5k community event. Walk\, jog\, run\, volunteer or spectate – it’s up to you!
URL:https://kilrush.ie/event/vandeleur-parkrun/2028-08-19/
LOCATION:Vandeleur Gardens and Visitor Centre\, Feagarroge\, Kilrush\, V15 E735
ATTACH;FMTTYPE=image/jpeg:https://kilrush.ie/wp-content/uploads/2024/12/48837294501_09f5de2302_o.jpg
ORGANIZER;CN="Vandeleur Parkrun":MAILTO:Vandeleur@parkrun.com
END:VEVENT
BEGIN:VEVENT
DTSTART;TZID=Europe/Dublin:20280820T090000
DTEND;TZID=Europe/Dublin:20280820T103000
DTSTAMP:20260423T120935
CREATED:20241211T134159Z
LAST-MODIFIED:20241211T134159Z
UID:10005380-1850374800-1850380200@kilrush.ie
SUMMARY:Mermaids and Buoys\, Cappagh
DESCRIPTION:Open water swimming\, with a big meetup every Sunday and sea swims at other times throughout the week. Further details 086 8339347
URL:https://kilrush.ie/event/mermaids-and-buoys-cappagh/2028-08-20/
END:VEVENT
BEGIN:VEVENT
DTSTART;TZID=Europe/Dublin:20280821T110000
DTEND;TZID=Europe/Dublin:20280821T120000
DTSTAMP:20260423T120935
CREATED:20241211T124827Z
LAST-MODIFIED:20250219T172235Z
UID:10000949-1850468400-1850472000@kilrush.ie
SUMMARY:Weekly Woodland Walk with West Clare Mental Health Association
DESCRIPTION:Join us for a group walk around Vandeleur Woods and Gardens.
URL:https://kilrush.ie/event/weekly-woodland-walk-with-west-clare-mental-health-association/2028-08-21/
LOCATION:Vandeleur Gardens and Visitor Centre\, Feagarroge\, Kilrush\, V15 E735
ATTACH;FMTTYPE=image/jpeg:https://kilrush.ie/wp-content/uploads/2024/12/WCMHA.jpg
END:VEVENT
BEGIN:VEVENT
DTSTART;TZID=Europe/Dublin:20280822T180000
DTEND;TZID=Europe/Dublin:20280822T200000
DTSTAMP:20260423T120935
CREATED:20241211T130612Z
LAST-MODIFIED:20241211T130612Z
UID:10002254-1850580000-1850587200@kilrush.ie
SUMMARY:Knitting and Craft Club at Kilrush Library
DESCRIPTION:The knitting & craft group meet in the library every Tuesday evening and share their crafty tips and patterns. Free event\, all welcome.
URL:https://kilrush.ie/event/knitting-and-craft-club-at-kilrush-library/2028-08-22/
LOCATION:Kilrush Library\, O'Gorman Street\, Kilrush\, V15 W577
ATTACH;FMTTYPE=image/jpeg:https://kilrush.ie/wp-content/uploads/2024/12/Kilrush-Library.jpg
END:VEVENT
BEGIN:VEVENT
DTSTART;TZID=Europe/Dublin:20280824T090000
DTEND;TZID=Europe/Dublin:20280824T140000
DTSTAMP:20260423T120935
CREATED:20240713T233258Z
LAST-MODIFIED:20240713T233258Z
UID:10000217-1850720400-1850738400@kilrush.ie
SUMMARY:Kilrush Farmer's Market
DESCRIPTION:Support local businesses by shopping the Kilrush Farmer’s Market.  Held every Thursday from 9am-2pm.
URL:https://kilrush.ie/event/kilrush-farmers-market/2028-08-24/
LOCATION:The Square\, Kilrush\, The Square\, Kilrush\, Co. Clare
ATTACH;FMTTYPE=image/jpeg:https://kilrush.ie/wp-content/uploads/2024/07/kilrush-farmers-market.jpg
END:VEVENT
BEGIN:VEVENT
DTSTART;TZID=Europe/Dublin:20280825T183000
DTEND;TZID=Europe/Dublin:20280825T200000
DTSTAMP:20260423T120935
CREATED:20251022T165123Z
LAST-MODIFIED:20251022T165123Z
UID:10006074-1850841000-1850846400@kilrush.ie
SUMMARY:Songwriters' Social
DESCRIPTION:Come and join us at this new FREE monthly event.Do you have a melody\, but just can’t find the words? Maybe you have a poem that might make a good lyric? Or maybe you’d just like to bounce ideas with other songwriters?Meet fellow musicians and writers\, and swap ideas over a cuppa and a cake. Support\, collaborate\, and make beautiful music together!
URL:https://kilrush.ie/event/songwriters-social/2028-08-25/
LOCATION:Banner Books\, 1a\, Hector Street Mills\, Kilrush\, V15 PW83
ATTACH;FMTTYPE=image/jpeg:https://kilrush.ie/wp-content/uploads/2025/10/songwriters-social-RECURRING-FB-Cover.jpg
END:VEVENT
BEGIN:VEVENT
DTSTART;TZID=Europe/Dublin:20280825T190000
DTEND;TZID=Europe/Dublin:20280825T200000
DTSTAMP:20260423T120935
CREATED:20241211T133808Z
LAST-MODIFIED:20241211T133808Z
UID:10005120-1850842800-1850846400@kilrush.ie
SUMMARY:Kilrush Art Group
DESCRIPTION:Monthly art classes with Pauline Dunleavy also available. For further details contact Pauline on 086 8339347
URL:https://kilrush.ie/event/kilrush-art-group/2028-08-25/
LOCATION:West Clare Family Resource Centre / Kilrush Community Centre\, O'Gorman Street\, Kilrush\, V15 VK31\, Ireland
ATTACH;FMTTYPE=image/jpeg:https://kilrush.ie/wp-content/uploads/2024/12/WCFRC.jpg
END:VEVENT
BEGIN:VEVENT
DTSTART;TZID=Europe/Dublin:20280826T093000
DTEND;TZID=Europe/Dublin:20280826T113000
DTSTAMP:20260423T120935
CREATED:20241204T171056Z
LAST-MODIFIED:20241204T171056Z
UID:10000690-1850895000-1850902200@kilrush.ie
SUMMARY:Vandeleur Parkrun
DESCRIPTION:A free\, fun\, and friendly weekly 5k community event. Walk\, jog\, run\, volunteer or spectate – it’s up to you!
URL:https://kilrush.ie/event/vandeleur-parkrun/2028-08-26/
LOCATION:Vandeleur Gardens and Visitor Centre\, Feagarroge\, Kilrush\, V15 E735
ATTACH;FMTTYPE=image/jpeg:https://kilrush.ie/wp-content/uploads/2024/12/48837294501_09f5de2302_o.jpg
ORGANIZER;CN="Vandeleur Parkrun":MAILTO:Vandeleur@parkrun.com
END:VEVENT
BEGIN:VEVENT
DTSTART;TZID=Europe/Dublin:20280827T090000
DTEND;TZID=Europe/Dublin:20280827T103000
DTSTAMP:20260423T120935
CREATED:20241211T134159Z
LAST-MODIFIED:20241211T134159Z
UID:10005381-1850979600-1850985000@kilrush.ie
SUMMARY:Mermaids and Buoys\, Cappagh
DESCRIPTION:Open water swimming\, with a big meetup every Sunday and sea swims at other times throughout the week. Further details 086 8339347
URL:https://kilrush.ie/event/mermaids-and-buoys-cappagh/2028-08-27/
END:VEVENT
BEGIN:VEVENT
DTSTART;TZID=Europe/Dublin:20280828T110000
DTEND;TZID=Europe/Dublin:20280828T120000
DTSTAMP:20260423T120935
CREATED:20241211T124827Z
LAST-MODIFIED:20250219T172235Z
UID:10000950-1851073200-1851076800@kilrush.ie
SUMMARY:Weekly Woodland Walk with West Clare Mental Health Association
DESCRIPTION:Join us for a group walk around Vandeleur Woods and Gardens.
URL:https://kilrush.ie/event/weekly-woodland-walk-with-west-clare-mental-health-association/2028-08-28/
LOCATION:Vandeleur Gardens and Visitor Centre\, Feagarroge\, Kilrush\, V15 E735
ATTACH;FMTTYPE=image/jpeg:https://kilrush.ie/wp-content/uploads/2024/12/WCMHA.jpg
END:VEVENT
BEGIN:VEVENT
DTSTART;TZID=Europe/Dublin:20280829T180000
DTEND;TZID=Europe/Dublin:20280829T200000
DTSTAMP:20260423T120935
CREATED:20241211T130612Z
LAST-MODIFIED:20241211T130612Z
UID:10002255-1851184800-1851192000@kilrush.ie
SUMMARY:Knitting and Craft Club at Kilrush Library
DESCRIPTION:The knitting & craft group meet in the library every Tuesday evening and share their crafty tips and patterns. Free event\, all welcome.
URL:https://kilrush.ie/event/knitting-and-craft-club-at-kilrush-library/2028-08-29/
LOCATION:Kilrush Library\, O'Gorman Street\, Kilrush\, V15 W577
ATTACH;FMTTYPE=image/jpeg:https://kilrush.ie/wp-content/uploads/2024/12/Kilrush-Library.jpg
END:VEVENT
BEGIN:VEVENT
DTSTART;TZID=Europe/Dublin:20280831T090000
DTEND;TZID=Europe/Dublin:20280831T140000
DTSTAMP:20260423T120935
CREATED:20240713T233258Z
LAST-MODIFIED:20240713T233258Z
UID:10000218-1851325200-1851343200@kilrush.ie
SUMMARY:Kilrush Farmer's Market
DESCRIPTION:Support local businesses by shopping the Kilrush Farmer’s Market.  Held every Thursday from 9am-2pm.
URL:https://kilrush.ie/event/kilrush-farmers-market/2028-08-31/
LOCATION:The Square\, Kilrush\, The Square\, Kilrush\, Co. Clare
ATTACH;FMTTYPE=image/jpeg:https://kilrush.ie/wp-content/uploads/2024/07/kilrush-farmers-market.jpg
END:VEVENT
BEGIN:VEVENT
DTSTART;TZID=Europe/Dublin:20280901T110000
DTEND;TZID=Europe/Dublin:20280901T120000
DTSTAMP:20260423T120935
CREATED:20241211T135202Z
LAST-MODIFIED:20241211T135202Z
UID:10005817-1851418800-1851422400@kilrush.ie
SUMMARY:Ceoil agus Tae
DESCRIPTION:Bookings; 065 905 2173
URL:https://kilrush.ie/event/ceoil-agus-tae/2028-09-01/
LOCATION:West Clare Family Resource Centre / Kilrush Community Centre\, O'Gorman Street\, Kilrush\, V15 VK31\, Ireland
ATTACH;FMTTYPE=image/jpeg:https://kilrush.ie/wp-content/uploads/2024/12/WCFRC.jpg
END:VEVENT
BEGIN:VEVENT
DTSTART;TZID=Europe/Dublin:20280901T190000
DTEND;TZID=Europe/Dublin:20280901T200000
DTSTAMP:20260423T120935
CREATED:20241211T133808Z
LAST-MODIFIED:20241211T133808Z
UID:10005121-1851447600-1851451200@kilrush.ie
SUMMARY:Kilrush Art Group
DESCRIPTION:Monthly art classes with Pauline Dunleavy also available. For further details contact Pauline on 086 8339347
URL:https://kilrush.ie/event/kilrush-art-group/2028-09-01/
LOCATION:West Clare Family Resource Centre / Kilrush Community Centre\, O'Gorman Street\, Kilrush\, V15 VK31\, Ireland
ATTACH;FMTTYPE=image/jpeg:https://kilrush.ie/wp-content/uploads/2024/12/WCFRC.jpg
END:VEVENT
BEGIN:VEVENT
DTSTART;TZID=Europe/Dublin:20280902T093000
DTEND;TZID=Europe/Dublin:20280902T113000
DTSTAMP:20260423T120935
CREATED:20241204T171056Z
LAST-MODIFIED:20241204T171056Z
UID:10000691-1851499800-1851507000@kilrush.ie
SUMMARY:Vandeleur Parkrun
DESCRIPTION:A free\, fun\, and friendly weekly 5k community event. Walk\, jog\, run\, volunteer or spectate – it’s up to you!
URL:https://kilrush.ie/event/vandeleur-parkrun/2028-09-02/
LOCATION:Vandeleur Gardens and Visitor Centre\, Feagarroge\, Kilrush\, V15 E735
ATTACH;FMTTYPE=image/jpeg:https://kilrush.ie/wp-content/uploads/2024/12/48837294501_09f5de2302_o.jpg
ORGANIZER;CN="Vandeleur Parkrun":MAILTO:Vandeleur@parkrun.com
END:VEVENT
BEGIN:VEVENT
DTSTART;TZID=Europe/Dublin:20280903T090000
DTEND;TZID=Europe/Dublin:20280903T103000
DTSTAMP:20260423T120935
CREATED:20241211T134159Z
LAST-MODIFIED:20241211T134159Z
UID:10005382-1851584400-1851589800@kilrush.ie
SUMMARY:Mermaids and Buoys\, Cappagh
DESCRIPTION:Open water swimming\, with a big meetup every Sunday and sea swims at other times throughout the week. Further details 086 8339347
URL:https://kilrush.ie/event/mermaids-and-buoys-cappagh/2028-09-03/
END:VEVENT
BEGIN:VEVENT
DTSTART;TZID=Europe/Dublin:20280904T110000
DTEND;TZID=Europe/Dublin:20280904T120000
DTSTAMP:20260423T120935
CREATED:20241211T124827Z
LAST-MODIFIED:20250219T172235Z
UID:10000951-1851678000-1851681600@kilrush.ie
SUMMARY:Weekly Woodland Walk with West Clare Mental Health Association
DESCRIPTION:Join us for a group walk around Vandeleur Woods and Gardens.
URL:https://kilrush.ie/event/weekly-woodland-walk-with-west-clare-mental-health-association/2028-09-04/
LOCATION:Vandeleur Gardens and Visitor Centre\, Feagarroge\, Kilrush\, V15 E735
ATTACH;FMTTYPE=image/jpeg:https://kilrush.ie/wp-content/uploads/2024/12/WCMHA.jpg
END:VEVENT
BEGIN:VEVENT
DTSTART;TZID=Europe/Dublin:20280905T180000
DTEND;TZID=Europe/Dublin:20280905T193000
DTSTAMP:20260423T120935
CREATED:20241102T175420Z
LAST-MODIFIED:20241211T135731Z
UID:10000355-1851789600-1851795000@kilrush.ie
SUMMARY:Kilrush Library Uplifting Poetry Sessions
DESCRIPTION:Free sessions for poets and poetry lovers\, on the first and second Tuesday of every month at Kilrush Library.  Come to read your own poetry or to share a favourite poem by another writer.
URL:https://kilrush.ie/event/kilrush-library-uplifting-poetry-sessions/2028-09-05/
LOCATION:Kilrush Library\, O'Gorman Street\, Kilrush\, V15 W577
ATTACH;FMTTYPE=image/jpeg:https://kilrush.ie/wp-content/uploads/2024/12/Kilrush-Library.jpg
END:VEVENT
END:VCALENDAR