BEGIN:VCALENDAR
VERSION:2.0
PRODID:-//Kilrush.ie - ECPv6.15.20//NONSGML v1.0//EN
CALSCALE:GREGORIAN
METHOD:PUBLISH
X-ORIGINAL-URL:https://kilrush.ie
X-WR-CALDESC:Events for Kilrush.ie
REFRESH-INTERVAL;VALUE=DURATION:PT1H
X-Robots-Tag:noindex
X-PUBLISHED-TTL:PT1H
BEGIN:VTIMEZONE
TZID:Europe/Dublin
BEGIN:DAYLIGHT
TZOFFSETFROM:+0000
TZOFFSETTO:+0100
TZNAME:IST
DTSTART:20270328T010000
END:DAYLIGHT
BEGIN:STANDARD
TZOFFSETFROM:+0100
TZOFFSETTO:+0000
TZNAME:GMT
DTSTART:20271031T010000
END:STANDARD
BEGIN:DAYLIGHT
TZOFFSETFROM:+0000
TZOFFSETTO:+0100
TZNAME:IST
DTSTART:20280326T010000
END:DAYLIGHT
BEGIN:STANDARD
TZOFFSETFROM:+0100
TZOFFSETTO:+0000
TZNAME:GMT
DTSTART:20281029T010000
END:STANDARD
BEGIN:DAYLIGHT
TZOFFSETFROM:+0000
TZOFFSETTO:+0100
TZNAME:IST
DTSTART:20290325T010000
END:DAYLIGHT
BEGIN:STANDARD
TZOFFSETFROM:+0100
TZOFFSETTO:+0000
TZNAME:GMT
DTSTART:20291028T010000
END:STANDARD
END:VTIMEZONE
BEGIN:VEVENT
DTSTART;TZID=Europe/Dublin:20280306T110000
DTEND;TZID=Europe/Dublin:20280306T120000
DTSTAMP:20260422T122710
CREATED:20241211T124827Z
LAST-MODIFIED:20250219T172235Z
UID:10000925-1835953200-1835956800@kilrush.ie
SUMMARY:Weekly Woodland Walk with West Clare Mental Health Association
DESCRIPTION:Join us for a group walk around Vandeleur Woods and Gardens.
URL:https://kilrush.ie/event/weekly-woodland-walk-with-west-clare-mental-health-association/2028-03-06/
LOCATION:Vandeleur Gardens and Visitor Centre\, Feagarroge\, Kilrush\, V15 E735
ATTACH;FMTTYPE=image/jpeg:https://kilrush.ie/wp-content/uploads/2024/12/WCMHA.jpg
END:VEVENT
BEGIN:VEVENT
DTSTART;TZID=Europe/Dublin:20280307T180000
DTEND;TZID=Europe/Dublin:20280307T193000
DTSTAMP:20260422T122710
CREATED:20241102T175420Z
LAST-MODIFIED:20241211T135731Z
UID:10000349-1836064800-1836070200@kilrush.ie
SUMMARY:Kilrush Library Uplifting Poetry Sessions
DESCRIPTION:Free sessions for poets and poetry lovers\, on the first and second Tuesday of every month at Kilrush Library.  Come to read your own poetry or to share a favourite poem by another writer.
URL:https://kilrush.ie/event/kilrush-library-uplifting-poetry-sessions/2028-03-07/
LOCATION:Kilrush Library\, O'Gorman Street\, Kilrush\, V15 W577
ATTACH;FMTTYPE=image/jpeg:https://kilrush.ie/wp-content/uploads/2024/12/Kilrush-Library.jpg
END:VEVENT
BEGIN:VEVENT
DTSTART;TZID=Europe/Dublin:20280307T180000
DTEND;TZID=Europe/Dublin:20280307T200000
DTSTAMP:20260422T122710
CREATED:20241211T130612Z
LAST-MODIFIED:20241211T130612Z
UID:10002230-1836064800-1836072000@kilrush.ie
SUMMARY:Knitting and Craft Club at Kilrush Library
DESCRIPTION:The knitting & craft group meet in the library every Tuesday evening and share their crafty tips and patterns. Free event\, all welcome.
URL:https://kilrush.ie/event/knitting-and-craft-club-at-kilrush-library/2028-03-07/
LOCATION:Kilrush Library\, O'Gorman Street\, Kilrush\, V15 W577
ATTACH;FMTTYPE=image/jpeg:https://kilrush.ie/wp-content/uploads/2024/12/Kilrush-Library.jpg
END:VEVENT
BEGIN:VEVENT
DTSTART;TZID=Europe/Dublin:20280309T090000
DTEND;TZID=Europe/Dublin:20280309T140000
DTSTAMP:20260422T122710
CREATED:20240713T233258Z
LAST-MODIFIED:20240713T233258Z
UID:10000193-1836205200-1836223200@kilrush.ie
SUMMARY:Kilrush Farmer's Market
DESCRIPTION:Support local businesses by shopping the Kilrush Farmer’s Market.  Held every Thursday from 9am-2pm.
URL:https://kilrush.ie/event/kilrush-farmers-market/2028-03-09/
LOCATION:The Square\, Kilrush\, The Square\, Kilrush\, Co. Clare
ATTACH;FMTTYPE=image/jpeg:https://kilrush.ie/wp-content/uploads/2024/07/kilrush-farmers-market.jpg
END:VEVENT
BEGIN:VEVENT
DTSTART;TZID=Europe/Dublin:20280309T140000
DTEND;TZID=Europe/Dublin:20280309T163000
DTSTAMP:20260422T122710
CREATED:20241211T135916Z
LAST-MODIFIED:20241211T135916Z
UID:10005936-1836223200-1836232200@kilrush.ie
SUMMARY:Thursday Tea Dance
DESCRIPTION:Bookings; 065 905 2173
URL:https://kilrush.ie/event/thursday-tea-dance/2028-03-09/
LOCATION:West Clare Family Resource Centre / Kilrush Community Centre\, O'Gorman Street\, Kilrush\, V15 VK31\, Ireland
ATTACH;FMTTYPE=image/jpeg:https://kilrush.ie/wp-content/uploads/2024/12/WCFRC.jpg
END:VEVENT
BEGIN:VEVENT
DTSTART;TZID=Europe/Dublin:20280310T190000
DTEND;TZID=Europe/Dublin:20280310T200000
DTSTAMP:20260422T122710
CREATED:20241211T133808Z
LAST-MODIFIED:20241211T133808Z
UID:10005096-1836327600-1836331200@kilrush.ie
SUMMARY:Kilrush Art Group
DESCRIPTION:Monthly art classes with Pauline Dunleavy also available. For further details contact Pauline on 086 8339347
URL:https://kilrush.ie/event/kilrush-art-group/2028-03-10/
LOCATION:West Clare Family Resource Centre / Kilrush Community Centre\, O'Gorman Street\, Kilrush\, V15 VK31\, Ireland
ATTACH;FMTTYPE=image/jpeg:https://kilrush.ie/wp-content/uploads/2024/12/WCFRC.jpg
END:VEVENT
BEGIN:VEVENT
DTSTART;TZID=Europe/Dublin:20280311T093000
DTEND;TZID=Europe/Dublin:20280311T113000
DTSTAMP:20260422T122710
CREATED:20241204T171056Z
LAST-MODIFIED:20241204T171056Z
UID:10000666-1836379800-1836387000@kilrush.ie
SUMMARY:Vandeleur Parkrun
DESCRIPTION:A free\, fun\, and friendly weekly 5k community event. Walk\, jog\, run\, volunteer or spectate – it’s up to you!
URL:https://kilrush.ie/event/vandeleur-parkrun/2028-03-11/
LOCATION:Vandeleur Gardens and Visitor Centre\, Feagarroge\, Kilrush\, V15 E735
ATTACH;FMTTYPE=image/jpeg:https://kilrush.ie/wp-content/uploads/2024/12/48837294501_09f5de2302_o.jpg
ORGANIZER;CN="Vandeleur Parkrun":MAILTO:Vandeleur@parkrun.com
END:VEVENT
BEGIN:VEVENT
DTSTART;TZID=Europe/Dublin:20280312T090000
DTEND;TZID=Europe/Dublin:20280312T103000
DTSTAMP:20260422T122710
CREATED:20241211T134159Z
LAST-MODIFIED:20241211T134159Z
UID:10005357-1836464400-1836469800@kilrush.ie
SUMMARY:Mermaids and Buoys\, Cappagh
DESCRIPTION:Open water swimming\, with a big meetup every Sunday and sea swims at other times throughout the week. Further details 086 8339347
URL:https://kilrush.ie/event/mermaids-and-buoys-cappagh/2028-03-12/
END:VEVENT
BEGIN:VEVENT
DTSTART;TZID=Europe/Dublin:20280313T110000
DTEND;TZID=Europe/Dublin:20280313T120000
DTSTAMP:20260422T122710
CREATED:20241211T124827Z
LAST-MODIFIED:20250219T172235Z
UID:10000926-1836558000-1836561600@kilrush.ie
SUMMARY:Weekly Woodland Walk with West Clare Mental Health Association
DESCRIPTION:Join us for a group walk around Vandeleur Woods and Gardens.
URL:https://kilrush.ie/event/weekly-woodland-walk-with-west-clare-mental-health-association/2028-03-13/
LOCATION:Vandeleur Gardens and Visitor Centre\, Feagarroge\, Kilrush\, V15 E735
ATTACH;FMTTYPE=image/jpeg:https://kilrush.ie/wp-content/uploads/2024/12/WCMHA.jpg
END:VEVENT
BEGIN:VEVENT
DTSTART;TZID=Europe/Dublin:20280314T180000
DTEND;TZID=Europe/Dublin:20280314T193000
DTSTAMP:20260422T122710
CREATED:20241102T181658Z
LAST-MODIFIED:20241211T135634Z
UID:10000409-1836669600-1836675000@kilrush.ie
SUMMARY:Kilrush Library Uplifting Poetry Sessions
DESCRIPTION:Free sessions for poets and poetry lovers\, on the first and second Tuesday of every month at Kilrush Library.  Come to read your own poetry or to share a favourite poem by another writer.
URL:https://kilrush.ie/event/kilrush-uplifting-poetry-sessions/2028-03-14/
LOCATION:Kilrush Library\, O'Gorman Street\, Kilrush\, V15 W577
ATTACH;FMTTYPE=image/jpeg:https://kilrush.ie/wp-content/uploads/2024/12/Kilrush-Library.jpg
END:VEVENT
BEGIN:VEVENT
DTSTART;TZID=Europe/Dublin:20280314T180000
DTEND;TZID=Europe/Dublin:20280314T200000
DTSTAMP:20260422T122710
CREATED:20241211T130612Z
LAST-MODIFIED:20241211T130612Z
UID:10002231-1836669600-1836676800@kilrush.ie
SUMMARY:Knitting and Craft Club at Kilrush Library
DESCRIPTION:The knitting & craft group meet in the library every Tuesday evening and share their crafty tips and patterns. Free event\, all welcome.
URL:https://kilrush.ie/event/knitting-and-craft-club-at-kilrush-library/2028-03-14/
LOCATION:Kilrush Library\, O'Gorman Street\, Kilrush\, V15 W577
ATTACH;FMTTYPE=image/jpeg:https://kilrush.ie/wp-content/uploads/2024/12/Kilrush-Library.jpg
END:VEVENT
BEGIN:VEVENT
DTSTART;TZID=Europe/Dublin:20280316T090000
DTEND;TZID=Europe/Dublin:20280316T140000
DTSTAMP:20260422T122710
CREATED:20240713T233258Z
LAST-MODIFIED:20240713T233258Z
UID:10000194-1836810000-1836828000@kilrush.ie
SUMMARY:Kilrush Farmer's Market
DESCRIPTION:Support local businesses by shopping the Kilrush Farmer’s Market.  Held every Thursday from 9am-2pm.
URL:https://kilrush.ie/event/kilrush-farmers-market/2028-03-16/
LOCATION:The Square\, Kilrush\, The Square\, Kilrush\, Co. Clare
ATTACH;FMTTYPE=image/jpeg:https://kilrush.ie/wp-content/uploads/2024/07/kilrush-farmers-market.jpg
END:VEVENT
BEGIN:VEVENT
DTSTART;TZID=Europe/Dublin:20280317T190000
DTEND;TZID=Europe/Dublin:20280317T200000
DTSTAMP:20260422T122710
CREATED:20241211T133808Z
LAST-MODIFIED:20241211T133808Z
UID:10005097-1836932400-1836936000@kilrush.ie
SUMMARY:Kilrush Art Group
DESCRIPTION:Monthly art classes with Pauline Dunleavy also available. For further details contact Pauline on 086 8339347
URL:https://kilrush.ie/event/kilrush-art-group/2028-03-17/
LOCATION:West Clare Family Resource Centre / Kilrush Community Centre\, O'Gorman Street\, Kilrush\, V15 VK31\, Ireland
ATTACH;FMTTYPE=image/jpeg:https://kilrush.ie/wp-content/uploads/2024/12/WCFRC.jpg
END:VEVENT
BEGIN:VEVENT
DTSTART;TZID=Europe/Dublin:20280318T093000
DTEND;TZID=Europe/Dublin:20280318T113000
DTSTAMP:20260422T122710
CREATED:20241204T171056Z
LAST-MODIFIED:20241204T171056Z
UID:10000667-1836984600-1836991800@kilrush.ie
SUMMARY:Vandeleur Parkrun
DESCRIPTION:A free\, fun\, and friendly weekly 5k community event. Walk\, jog\, run\, volunteer or spectate – it’s up to you!
URL:https://kilrush.ie/event/vandeleur-parkrun/2028-03-18/
LOCATION:Vandeleur Gardens and Visitor Centre\, Feagarroge\, Kilrush\, V15 E735
ATTACH;FMTTYPE=image/jpeg:https://kilrush.ie/wp-content/uploads/2024/12/48837294501_09f5de2302_o.jpg
ORGANIZER;CN="Vandeleur Parkrun":MAILTO:Vandeleur@parkrun.com
END:VEVENT
BEGIN:VEVENT
DTSTART;TZID=Europe/Dublin:20280319T090000
DTEND;TZID=Europe/Dublin:20280319T103000
DTSTAMP:20260422T122710
CREATED:20241211T134159Z
LAST-MODIFIED:20241211T134159Z
UID:10005358-1837069200-1837074600@kilrush.ie
SUMMARY:Mermaids and Buoys\, Cappagh
DESCRIPTION:Open water swimming\, with a big meetup every Sunday and sea swims at other times throughout the week. Further details 086 8339347
URL:https://kilrush.ie/event/mermaids-and-buoys-cappagh/2028-03-19/
END:VEVENT
BEGIN:VEVENT
DTSTART;TZID=Europe/Dublin:20280320T110000
DTEND;TZID=Europe/Dublin:20280320T120000
DTSTAMP:20260422T122710
CREATED:20241211T124827Z
LAST-MODIFIED:20250219T172235Z
UID:10000927-1837162800-1837166400@kilrush.ie
SUMMARY:Weekly Woodland Walk with West Clare Mental Health Association
DESCRIPTION:Join us for a group walk around Vandeleur Woods and Gardens.
URL:https://kilrush.ie/event/weekly-woodland-walk-with-west-clare-mental-health-association/2028-03-20/
LOCATION:Vandeleur Gardens and Visitor Centre\, Feagarroge\, Kilrush\, V15 E735
ATTACH;FMTTYPE=image/jpeg:https://kilrush.ie/wp-content/uploads/2024/12/WCMHA.jpg
END:VEVENT
BEGIN:VEVENT
DTSTART;TZID=Europe/Dublin:20280321T180000
DTEND;TZID=Europe/Dublin:20280321T200000
DTSTAMP:20260422T122710
CREATED:20241211T130612Z
LAST-MODIFIED:20241211T130612Z
UID:10002232-1837274400-1837281600@kilrush.ie
SUMMARY:Knitting and Craft Club at Kilrush Library
DESCRIPTION:The knitting & craft group meet in the library every Tuesday evening and share their crafty tips and patterns. Free event\, all welcome.
URL:https://kilrush.ie/event/knitting-and-craft-club-at-kilrush-library/2028-03-21/
LOCATION:Kilrush Library\, O'Gorman Street\, Kilrush\, V15 W577
ATTACH;FMTTYPE=image/jpeg:https://kilrush.ie/wp-content/uploads/2024/12/Kilrush-Library.jpg
END:VEVENT
BEGIN:VEVENT
DTSTART;TZID=Europe/Dublin:20280323T090000
DTEND;TZID=Europe/Dublin:20280323T140000
DTSTAMP:20260422T122710
CREATED:20240713T233258Z
LAST-MODIFIED:20240713T233258Z
UID:10000195-1837414800-1837432800@kilrush.ie
SUMMARY:Kilrush Farmer's Market
DESCRIPTION:Support local businesses by shopping the Kilrush Farmer’s Market.  Held every Thursday from 9am-2pm.
URL:https://kilrush.ie/event/kilrush-farmers-market/2028-03-23/
LOCATION:The Square\, Kilrush\, The Square\, Kilrush\, Co. Clare
ATTACH;FMTTYPE=image/jpeg:https://kilrush.ie/wp-content/uploads/2024/07/kilrush-farmers-market.jpg
END:VEVENT
BEGIN:VEVENT
DTSTART;TZID=Europe/Dublin:20280324T190000
DTEND;TZID=Europe/Dublin:20280324T200000
DTSTAMP:20260422T122710
CREATED:20241211T133808Z
LAST-MODIFIED:20241211T133808Z
UID:10005098-1837537200-1837540800@kilrush.ie
SUMMARY:Kilrush Art Group
DESCRIPTION:Monthly art classes with Pauline Dunleavy also available. For further details contact Pauline on 086 8339347
URL:https://kilrush.ie/event/kilrush-art-group/2028-03-24/
LOCATION:West Clare Family Resource Centre / Kilrush Community Centre\, O'Gorman Street\, Kilrush\, V15 VK31\, Ireland
ATTACH;FMTTYPE=image/jpeg:https://kilrush.ie/wp-content/uploads/2024/12/WCFRC.jpg
END:VEVENT
BEGIN:VEVENT
DTSTART;TZID=Europe/Dublin:20280325T093000
DTEND;TZID=Europe/Dublin:20280325T113000
DTSTAMP:20260422T122710
CREATED:20241204T171056Z
LAST-MODIFIED:20241204T171056Z
UID:10000668-1837589400-1837596600@kilrush.ie
SUMMARY:Vandeleur Parkrun
DESCRIPTION:A free\, fun\, and friendly weekly 5k community event. Walk\, jog\, run\, volunteer or spectate – it’s up to you!
URL:https://kilrush.ie/event/vandeleur-parkrun/2028-03-25/
LOCATION:Vandeleur Gardens and Visitor Centre\, Feagarroge\, Kilrush\, V15 E735
ATTACH;FMTTYPE=image/jpeg:https://kilrush.ie/wp-content/uploads/2024/12/48837294501_09f5de2302_o.jpg
ORGANIZER;CN="Vandeleur Parkrun":MAILTO:Vandeleur@parkrun.com
END:VEVENT
BEGIN:VEVENT
DTSTART;TZID=Europe/Dublin:20280326T090000
DTEND;TZID=Europe/Dublin:20280326T103000
DTSTAMP:20260422T122710
CREATED:20241211T134159Z
LAST-MODIFIED:20241211T134159Z
UID:10005359-1837674000-1837679400@kilrush.ie
SUMMARY:Mermaids and Buoys\, Cappagh
DESCRIPTION:Open water swimming\, with a big meetup every Sunday and sea swims at other times throughout the week. Further details 086 8339347
URL:https://kilrush.ie/event/mermaids-and-buoys-cappagh/2028-03-26/
END:VEVENT
BEGIN:VEVENT
DTSTART;TZID=Europe/Dublin:20280327T110000
DTEND;TZID=Europe/Dublin:20280327T120000
DTSTAMP:20260422T122710
CREATED:20241211T124827Z
LAST-MODIFIED:20250219T172235Z
UID:10000928-1837767600-1837771200@kilrush.ie
SUMMARY:Weekly Woodland Walk with West Clare Mental Health Association
DESCRIPTION:Join us for a group walk around Vandeleur Woods and Gardens.
URL:https://kilrush.ie/event/weekly-woodland-walk-with-west-clare-mental-health-association/2028-03-27/
LOCATION:Vandeleur Gardens and Visitor Centre\, Feagarroge\, Kilrush\, V15 E735
ATTACH;FMTTYPE=image/jpeg:https://kilrush.ie/wp-content/uploads/2024/12/WCMHA.jpg
END:VEVENT
BEGIN:VEVENT
DTSTART;TZID=Europe/Dublin:20280328T180000
DTEND;TZID=Europe/Dublin:20280328T200000
DTSTAMP:20260422T122710
CREATED:20241211T130612Z
LAST-MODIFIED:20241211T130612Z
UID:10002233-1837879200-1837886400@kilrush.ie
SUMMARY:Knitting and Craft Club at Kilrush Library
DESCRIPTION:The knitting & craft group meet in the library every Tuesday evening and share their crafty tips and patterns. Free event\, all welcome.
URL:https://kilrush.ie/event/knitting-and-craft-club-at-kilrush-library/2028-03-28/
LOCATION:Kilrush Library\, O'Gorman Street\, Kilrush\, V15 W577
ATTACH;FMTTYPE=image/jpeg:https://kilrush.ie/wp-content/uploads/2024/12/Kilrush-Library.jpg
END:VEVENT
BEGIN:VEVENT
DTSTART;TZID=Europe/Dublin:20280330T090000
DTEND;TZID=Europe/Dublin:20280330T140000
DTSTAMP:20260422T122710
CREATED:20240713T233258Z
LAST-MODIFIED:20240713T233258Z
UID:10000196-1838019600-1838037600@kilrush.ie
SUMMARY:Kilrush Farmer's Market
DESCRIPTION:Support local businesses by shopping the Kilrush Farmer’s Market.  Held every Thursday from 9am-2pm.
URL:https://kilrush.ie/event/kilrush-farmers-market/2028-03-30/
LOCATION:The Square\, Kilrush\, The Square\, Kilrush\, Co. Clare
ATTACH;FMTTYPE=image/jpeg:https://kilrush.ie/wp-content/uploads/2024/07/kilrush-farmers-market.jpg
END:VEVENT
BEGIN:VEVENT
DTSTART;TZID=Europe/Dublin:20280331T183000
DTEND;TZID=Europe/Dublin:20280331T200000
DTSTAMP:20260422T122710
CREATED:20251022T165123Z
LAST-MODIFIED:20251022T165123Z
UID:10006069-1838140200-1838145600@kilrush.ie
SUMMARY:Songwriters' Social
DESCRIPTION:Come and join us at this new FREE monthly event.Do you have a melody\, but just can’t find the words? Maybe you have a poem that might make a good lyric? Or maybe you’d just like to bounce ideas with other songwriters?Meet fellow musicians and writers\, and swap ideas over a cuppa and a cake. Support\, collaborate\, and make beautiful music together!
URL:https://kilrush.ie/event/songwriters-social/2028-03-31/
LOCATION:Banner Books\, 1a\, Hector Street Mills\, Kilrush\, V15 PW83
ATTACH;FMTTYPE=image/jpeg:https://kilrush.ie/wp-content/uploads/2025/10/songwriters-social-RECURRING-FB-Cover.jpg
END:VEVENT
BEGIN:VEVENT
DTSTART;TZID=Europe/Dublin:20280331T190000
DTEND;TZID=Europe/Dublin:20280331T200000
DTSTAMP:20260422T122710
CREATED:20241211T133808Z
LAST-MODIFIED:20241211T133808Z
UID:10005099-1838142000-1838145600@kilrush.ie
SUMMARY:Kilrush Art Group
DESCRIPTION:Monthly art classes with Pauline Dunleavy also available. For further details contact Pauline on 086 8339347
URL:https://kilrush.ie/event/kilrush-art-group/2028-03-31/
LOCATION:West Clare Family Resource Centre / Kilrush Community Centre\, O'Gorman Street\, Kilrush\, V15 VK31\, Ireland
ATTACH;FMTTYPE=image/jpeg:https://kilrush.ie/wp-content/uploads/2024/12/WCFRC.jpg
END:VEVENT
BEGIN:VEVENT
DTSTART;TZID=Europe/Dublin:20280401T093000
DTEND;TZID=Europe/Dublin:20280401T113000
DTSTAMP:20260422T122710
CREATED:20241204T171056Z
LAST-MODIFIED:20241204T171056Z
UID:10000669-1838194200-1838201400@kilrush.ie
SUMMARY:Vandeleur Parkrun
DESCRIPTION:A free\, fun\, and friendly weekly 5k community event. Walk\, jog\, run\, volunteer or spectate – it’s up to you!
URL:https://kilrush.ie/event/vandeleur-parkrun/2028-04-01/
LOCATION:Vandeleur Gardens and Visitor Centre\, Feagarroge\, Kilrush\, V15 E735
ATTACH;FMTTYPE=image/jpeg:https://kilrush.ie/wp-content/uploads/2024/12/48837294501_09f5de2302_o.jpg
ORGANIZER;CN="Vandeleur Parkrun":MAILTO:Vandeleur@parkrun.com
END:VEVENT
BEGIN:VEVENT
DTSTART;TZID=Europe/Dublin:20280402T090000
DTEND;TZID=Europe/Dublin:20280402T103000
DTSTAMP:20260422T122710
CREATED:20241211T134159Z
LAST-MODIFIED:20241211T134159Z
UID:10005360-1838278800-1838284200@kilrush.ie
SUMMARY:Mermaids and Buoys\, Cappagh
DESCRIPTION:Open water swimming\, with a big meetup every Sunday and sea swims at other times throughout the week. Further details 086 8339347
URL:https://kilrush.ie/event/mermaids-and-buoys-cappagh/2028-04-02/
END:VEVENT
BEGIN:VEVENT
DTSTART;TZID=Europe/Dublin:20280403T110000
DTEND;TZID=Europe/Dublin:20280403T120000
DTSTAMP:20260422T122710
CREATED:20241211T124827Z
LAST-MODIFIED:20250219T172235Z
UID:10000929-1838372400-1838376000@kilrush.ie
SUMMARY:Weekly Woodland Walk with West Clare Mental Health Association
DESCRIPTION:Join us for a group walk around Vandeleur Woods and Gardens.
URL:https://kilrush.ie/event/weekly-woodland-walk-with-west-clare-mental-health-association/2028-04-03/
LOCATION:Vandeleur Gardens and Visitor Centre\, Feagarroge\, Kilrush\, V15 E735
ATTACH;FMTTYPE=image/jpeg:https://kilrush.ie/wp-content/uploads/2024/12/WCMHA.jpg
END:VEVENT
BEGIN:VEVENT
DTSTART;TZID=Europe/Dublin:20280404T180000
DTEND;TZID=Europe/Dublin:20280404T193000
DTSTAMP:20260422T122710
CREATED:20241102T175420Z
LAST-MODIFIED:20241211T135731Z
UID:10000350-1838484000-1838489400@kilrush.ie
SUMMARY:Kilrush Library Uplifting Poetry Sessions
DESCRIPTION:Free sessions for poets and poetry lovers\, on the first and second Tuesday of every month at Kilrush Library.  Come to read your own poetry or to share a favourite poem by another writer.
URL:https://kilrush.ie/event/kilrush-library-uplifting-poetry-sessions/2028-04-04/
LOCATION:Kilrush Library\, O'Gorman Street\, Kilrush\, V15 W577
ATTACH;FMTTYPE=image/jpeg:https://kilrush.ie/wp-content/uploads/2024/12/Kilrush-Library.jpg
END:VEVENT
END:VCALENDAR