BEGIN:VCALENDAR
VERSION:2.0
PRODID:-//Kilrush.ie - ECPv6.15.20//NONSGML v1.0//EN
CALSCALE:GREGORIAN
METHOD:PUBLISH
X-ORIGINAL-URL:https://kilrush.ie
X-WR-CALDESC:Events for Kilrush.ie
REFRESH-INTERVAL;VALUE=DURATION:PT1H
X-Robots-Tag:noindex
X-PUBLISHED-TTL:PT1H
BEGIN:VTIMEZONE
TZID:Europe/Dublin
BEGIN:DAYLIGHT
TZOFFSETFROM:+0000
TZOFFSETTO:+0100
TZNAME:IST
DTSTART:20260329T010000
END:DAYLIGHT
BEGIN:STANDARD
TZOFFSETFROM:+0100
TZOFFSETTO:+0000
TZNAME:GMT
DTSTART:20261025T010000
END:STANDARD
BEGIN:DAYLIGHT
TZOFFSETFROM:+0000
TZOFFSETTO:+0100
TZNAME:IST
DTSTART:20270328T010000
END:DAYLIGHT
BEGIN:STANDARD
TZOFFSETFROM:+0100
TZOFFSETTO:+0000
TZNAME:GMT
DTSTART:20271031T010000
END:STANDARD
BEGIN:DAYLIGHT
TZOFFSETFROM:+0000
TZOFFSETTO:+0100
TZNAME:IST
DTSTART:20280326T010000
END:DAYLIGHT
BEGIN:STANDARD
TZOFFSETFROM:+0100
TZOFFSETTO:+0000
TZNAME:GMT
DTSTART:20281029T010000
END:STANDARD
END:VTIMEZONE
BEGIN:VEVENT
DTSTART;TZID=Europe/Dublin:20271114T090000
DTEND;TZID=Europe/Dublin:20271114T103000
DTSTAMP:20260420T052957
CREATED:20241211T134159Z
LAST-MODIFIED:20241211T134159Z
UID:10005340-1826182800-1826188200@kilrush.ie
SUMMARY:Mermaids and Buoys\, Cappagh
DESCRIPTION:Open water swimming\, with a big meetup every Sunday and sea swims at other times throughout the week. Further details 086 8339347
URL:https://kilrush.ie/event/mermaids-and-buoys-cappagh/2027-11-14/
END:VEVENT
BEGIN:VEVENT
DTSTART;TZID=Europe/Dublin:20271115T110000
DTEND;TZID=Europe/Dublin:20271115T120000
DTSTAMP:20260420T052957
CREATED:20241211T124827Z
LAST-MODIFIED:20250219T172235Z
UID:10000909-1826276400-1826280000@kilrush.ie
SUMMARY:Weekly Woodland Walk with West Clare Mental Health Association
DESCRIPTION:Join us for a group walk around Vandeleur Woods and Gardens.
URL:https://kilrush.ie/event/weekly-woodland-walk-with-west-clare-mental-health-association/2027-11-15/
LOCATION:Vandeleur Gardens and Visitor Centre\, Feagarroge\, Kilrush\, V15 E735
ATTACH;FMTTYPE=image/jpeg:https://kilrush.ie/wp-content/uploads/2024/12/WCMHA.jpg
END:VEVENT
BEGIN:VEVENT
DTSTART;TZID=Europe/Dublin:20271116T180000
DTEND;TZID=Europe/Dublin:20271116T200000
DTSTAMP:20260420T052957
CREATED:20241211T130612Z
LAST-MODIFIED:20241211T130612Z
UID:10002214-1826388000-1826395200@kilrush.ie
SUMMARY:Knitting and Craft Club at Kilrush Library
DESCRIPTION:The knitting & craft group meet in the library every Tuesday evening and share their crafty tips and patterns. Free event\, all welcome.
URL:https://kilrush.ie/event/knitting-and-craft-club-at-kilrush-library/2027-11-16/
LOCATION:Kilrush Library\, O'Gorman Street\, Kilrush\, V15 W577
ATTACH;FMTTYPE=image/jpeg:https://kilrush.ie/wp-content/uploads/2024/12/Kilrush-Library.jpg
END:VEVENT
BEGIN:VEVENT
DTSTART;TZID=Europe/Dublin:20271118T090000
DTEND;TZID=Europe/Dublin:20271118T140000
DTSTAMP:20260420T052957
CREATED:20240713T233258Z
LAST-MODIFIED:20240713T233258Z
UID:10000177-1826528400-1826546400@kilrush.ie
SUMMARY:Kilrush Farmer's Market
DESCRIPTION:Support local businesses by shopping the Kilrush Farmer’s Market.  Held every Thursday from 9am-2pm.
URL:https://kilrush.ie/event/kilrush-farmers-market/2027-11-18/
LOCATION:The Square\, Kilrush\, The Square\, Kilrush\, Co. Clare
ATTACH;FMTTYPE=image/jpeg:https://kilrush.ie/wp-content/uploads/2024/07/kilrush-farmers-market.jpg
END:VEVENT
BEGIN:VEVENT
DTSTART;TZID=Europe/Dublin:20271119T190000
DTEND;TZID=Europe/Dublin:20271119T200000
DTSTAMP:20260420T052957
CREATED:20241211T133808Z
LAST-MODIFIED:20241211T133808Z
UID:10005080-1826650800-1826654400@kilrush.ie
SUMMARY:Kilrush Art Group
DESCRIPTION:Monthly art classes with Pauline Dunleavy also available. For further details contact Pauline on 086 8339347
URL:https://kilrush.ie/event/kilrush-art-group/2027-11-19/
LOCATION:West Clare Family Resource Centre / Kilrush Community Centre\, O'Gorman Street\, Kilrush\, V15 VK31\, Ireland
ATTACH;FMTTYPE=image/jpeg:https://kilrush.ie/wp-content/uploads/2024/12/WCFRC.jpg
END:VEVENT
BEGIN:VEVENT
DTSTART;TZID=Europe/Dublin:20271120T093000
DTEND;TZID=Europe/Dublin:20271120T113000
DTSTAMP:20260420T052957
CREATED:20241204T171056Z
LAST-MODIFIED:20241204T171056Z
UID:10000650-1826703000-1826710200@kilrush.ie
SUMMARY:Vandeleur Parkrun
DESCRIPTION:A free\, fun\, and friendly weekly 5k community event. Walk\, jog\, run\, volunteer or spectate – it’s up to you!
URL:https://kilrush.ie/event/vandeleur-parkrun/2027-11-20/
LOCATION:Vandeleur Gardens and Visitor Centre\, Feagarroge\, Kilrush\, V15 E735
ATTACH;FMTTYPE=image/jpeg:https://kilrush.ie/wp-content/uploads/2024/12/48837294501_09f5de2302_o.jpg
ORGANIZER;CN="Vandeleur Parkrun":MAILTO:Vandeleur@parkrun.com
END:VEVENT
BEGIN:VEVENT
DTSTART;TZID=Europe/Dublin:20271121T090000
DTEND;TZID=Europe/Dublin:20271121T103000
DTSTAMP:20260420T052957
CREATED:20241211T134159Z
LAST-MODIFIED:20241211T134159Z
UID:10005341-1826787600-1826793000@kilrush.ie
SUMMARY:Mermaids and Buoys\, Cappagh
DESCRIPTION:Open water swimming\, with a big meetup every Sunday and sea swims at other times throughout the week. Further details 086 8339347
URL:https://kilrush.ie/event/mermaids-and-buoys-cappagh/2027-11-21/
END:VEVENT
BEGIN:VEVENT
DTSTART;TZID=Europe/Dublin:20271122T110000
DTEND;TZID=Europe/Dublin:20271122T120000
DTSTAMP:20260420T052957
CREATED:20241211T124827Z
LAST-MODIFIED:20250219T172235Z
UID:10000910-1826881200-1826884800@kilrush.ie
SUMMARY:Weekly Woodland Walk with West Clare Mental Health Association
DESCRIPTION:Join us for a group walk around Vandeleur Woods and Gardens.
URL:https://kilrush.ie/event/weekly-woodland-walk-with-west-clare-mental-health-association/2027-11-22/
LOCATION:Vandeleur Gardens and Visitor Centre\, Feagarroge\, Kilrush\, V15 E735
ATTACH;FMTTYPE=image/jpeg:https://kilrush.ie/wp-content/uploads/2024/12/WCMHA.jpg
END:VEVENT
BEGIN:VEVENT
DTSTART;TZID=Europe/Dublin:20271123T180000
DTEND;TZID=Europe/Dublin:20271123T200000
DTSTAMP:20260420T052957
CREATED:20241211T130612Z
LAST-MODIFIED:20241211T130612Z
UID:10002215-1826992800-1827000000@kilrush.ie
SUMMARY:Knitting and Craft Club at Kilrush Library
DESCRIPTION:The knitting & craft group meet in the library every Tuesday evening and share their crafty tips and patterns. Free event\, all welcome.
URL:https://kilrush.ie/event/knitting-and-craft-club-at-kilrush-library/2027-11-23/
LOCATION:Kilrush Library\, O'Gorman Street\, Kilrush\, V15 W577
ATTACH;FMTTYPE=image/jpeg:https://kilrush.ie/wp-content/uploads/2024/12/Kilrush-Library.jpg
END:VEVENT
BEGIN:VEVENT
DTSTART;TZID=Europe/Dublin:20271125T090000
DTEND;TZID=Europe/Dublin:20271125T140000
DTSTAMP:20260420T052957
CREATED:20240713T233258Z
LAST-MODIFIED:20240713T233258Z
UID:10000178-1827133200-1827151200@kilrush.ie
SUMMARY:Kilrush Farmer's Market
DESCRIPTION:Support local businesses by shopping the Kilrush Farmer’s Market.  Held every Thursday from 9am-2pm.
URL:https://kilrush.ie/event/kilrush-farmers-market/2027-11-25/
LOCATION:The Square\, Kilrush\, The Square\, Kilrush\, Co. Clare
ATTACH;FMTTYPE=image/jpeg:https://kilrush.ie/wp-content/uploads/2024/07/kilrush-farmers-market.jpg
END:VEVENT
BEGIN:VEVENT
DTSTART;TZID=Europe/Dublin:20271126T183000
DTEND;TZID=Europe/Dublin:20271126T200000
DTSTAMP:20260420T052957
CREATED:20251022T165123Z
LAST-MODIFIED:20251022T165123Z
UID:10006065-1827253800-1827259200@kilrush.ie
SUMMARY:Songwriters' Social
DESCRIPTION:Come and join us at this new FREE monthly event.Do you have a melody\, but just can’t find the words? Maybe you have a poem that might make a good lyric? Or maybe you’d just like to bounce ideas with other songwriters?Meet fellow musicians and writers\, and swap ideas over a cuppa and a cake. Support\, collaborate\, and make beautiful music together!
URL:https://kilrush.ie/event/songwriters-social/2027-11-26/
LOCATION:Banner Books\, 1a\, Hector Street Mills\, Kilrush\, V15 PW83
ATTACH;FMTTYPE=image/jpeg:https://kilrush.ie/wp-content/uploads/2025/10/songwriters-social-RECURRING-FB-Cover.jpg
END:VEVENT
BEGIN:VEVENT
DTSTART;TZID=Europe/Dublin:20271126T190000
DTEND;TZID=Europe/Dublin:20271126T200000
DTSTAMP:20260420T052957
CREATED:20241211T133808Z
LAST-MODIFIED:20241211T133808Z
UID:10005081-1827255600-1827259200@kilrush.ie
SUMMARY:Kilrush Art Group
DESCRIPTION:Monthly art classes with Pauline Dunleavy also available. For further details contact Pauline on 086 8339347
URL:https://kilrush.ie/event/kilrush-art-group/2027-11-26/
LOCATION:West Clare Family Resource Centre / Kilrush Community Centre\, O'Gorman Street\, Kilrush\, V15 VK31\, Ireland
ATTACH;FMTTYPE=image/jpeg:https://kilrush.ie/wp-content/uploads/2024/12/WCFRC.jpg
END:VEVENT
BEGIN:VEVENT
DTSTART;TZID=Europe/Dublin:20271127T093000
DTEND;TZID=Europe/Dublin:20271127T113000
DTSTAMP:20260420T052957
CREATED:20241204T171056Z
LAST-MODIFIED:20241204T171056Z
UID:10000651-1827307800-1827315000@kilrush.ie
SUMMARY:Vandeleur Parkrun
DESCRIPTION:A free\, fun\, and friendly weekly 5k community event. Walk\, jog\, run\, volunteer or spectate – it’s up to you!
URL:https://kilrush.ie/event/vandeleur-parkrun/2027-11-27/
LOCATION:Vandeleur Gardens and Visitor Centre\, Feagarroge\, Kilrush\, V15 E735
ATTACH;FMTTYPE=image/jpeg:https://kilrush.ie/wp-content/uploads/2024/12/48837294501_09f5de2302_o.jpg
ORGANIZER;CN="Vandeleur Parkrun":MAILTO:Vandeleur@parkrun.com
END:VEVENT
BEGIN:VEVENT
DTSTART;TZID=Europe/Dublin:20271128T090000
DTEND;TZID=Europe/Dublin:20271128T103000
DTSTAMP:20260420T052957
CREATED:20241211T134159Z
LAST-MODIFIED:20241211T134159Z
UID:10005342-1827392400-1827397800@kilrush.ie
SUMMARY:Mermaids and Buoys\, Cappagh
DESCRIPTION:Open water swimming\, with a big meetup every Sunday and sea swims at other times throughout the week. Further details 086 8339347
URL:https://kilrush.ie/event/mermaids-and-buoys-cappagh/2027-11-28/
END:VEVENT
BEGIN:VEVENT
DTSTART;TZID=Europe/Dublin:20271129T110000
DTEND;TZID=Europe/Dublin:20271129T120000
DTSTAMP:20260420T052957
CREATED:20241211T124827Z
LAST-MODIFIED:20250219T172235Z
UID:10000911-1827486000-1827489600@kilrush.ie
SUMMARY:Weekly Woodland Walk with West Clare Mental Health Association
DESCRIPTION:Join us for a group walk around Vandeleur Woods and Gardens.
URL:https://kilrush.ie/event/weekly-woodland-walk-with-west-clare-mental-health-association/2027-11-29/
LOCATION:Vandeleur Gardens and Visitor Centre\, Feagarroge\, Kilrush\, V15 E735
ATTACH;FMTTYPE=image/jpeg:https://kilrush.ie/wp-content/uploads/2024/12/WCMHA.jpg
END:VEVENT
BEGIN:VEVENT
DTSTART;TZID=Europe/Dublin:20271130T180000
DTEND;TZID=Europe/Dublin:20271130T200000
DTSTAMP:20260420T052957
CREATED:20241211T130612Z
LAST-MODIFIED:20241211T130612Z
UID:10002216-1827597600-1827604800@kilrush.ie
SUMMARY:Knitting and Craft Club at Kilrush Library
DESCRIPTION:The knitting & craft group meet in the library every Tuesday evening and share their crafty tips and patterns. Free event\, all welcome.
URL:https://kilrush.ie/event/knitting-and-craft-club-at-kilrush-library/2027-11-30/
LOCATION:Kilrush Library\, O'Gorman Street\, Kilrush\, V15 W577
ATTACH;FMTTYPE=image/jpeg:https://kilrush.ie/wp-content/uploads/2024/12/Kilrush-Library.jpg
END:VEVENT
BEGIN:VEVENT
DTSTART;TZID=Europe/Dublin:20271201T153000
DTEND;TZID=Europe/Dublin:20271201T163000
DTSTAMP:20260420T052957
CREATED:20241211T134946Z
LAST-MODIFIED:20241211T134947Z
UID:10005605-1827675000-1827678600@kilrush.ie
SUMMARY:Wednesday Book Club for Children
DESCRIPTION:Our monthly book clubs are ideal for children who would like to read exciting new books and to discuss or listen to others’ opinions about the books. This book club is suitable for children aged 8 – 12 years. \nContact: Frances Pender (065) 905 1504 kilrush@clarelibrary.ie
URL:https://kilrush.ie/event/wednesday-book-club-for-children-2/2027-12-01/
LOCATION:Kilrush Library\, O'Gorman Street\, Kilrush\, V15 W577
ATTACH;FMTTYPE=image/jpeg:https://kilrush.ie/wp-content/uploads/2024/12/Kilrush-Library.jpg
END:VEVENT
BEGIN:VEVENT
DTSTART;TZID=Europe/Dublin:20271202T090000
DTEND;TZID=Europe/Dublin:20271202T140000
DTSTAMP:20260420T052957
CREATED:20240713T233258Z
LAST-MODIFIED:20240713T233258Z
UID:10000179-1827738000-1827756000@kilrush.ie
SUMMARY:Kilrush Farmer's Market
DESCRIPTION:Support local businesses by shopping the Kilrush Farmer’s Market.  Held every Thursday from 9am-2pm.
URL:https://kilrush.ie/event/kilrush-farmers-market/2027-12-02/
LOCATION:The Square\, Kilrush\, The Square\, Kilrush\, Co. Clare
ATTACH;FMTTYPE=image/jpeg:https://kilrush.ie/wp-content/uploads/2024/07/kilrush-farmers-market.jpg
END:VEVENT
BEGIN:VEVENT
DTSTART;TZID=Europe/Dublin:20271202T143000
DTEND;TZID=Europe/Dublin:20271202T160000
DTSTAMP:20260420T052957
CREATED:20241211T134815Z
LAST-MODIFIED:20241211T134815Z
UID:10005747-1827757800-1827763200@kilrush.ie
SUMMARY:Monthly Birthday Party
DESCRIPTION:A celebration for everyone who has their birthday this month!
URL:https://kilrush.ie/event/monthly-birthday-party/2027-12-02/
LOCATION:West Clare Family Resource Centre / Kilrush Community Centre\, O'Gorman Street\, Kilrush\, V15 VK31\, Ireland
ATTACH;FMTTYPE=image/jpeg:https://kilrush.ie/wp-content/uploads/2024/12/WCFRC.jpg
END:VEVENT
BEGIN:VEVENT
DTSTART;TZID=Europe/Dublin:20271203T110000
DTEND;TZID=Europe/Dublin:20271203T120000
DTSTAMP:20260420T052957
CREATED:20241211T135202Z
LAST-MODIFIED:20241211T135202Z
UID:10005808-1827831600-1827835200@kilrush.ie
SUMMARY:Ceoil agus Tae
DESCRIPTION:Bookings; 065 905 2173
URL:https://kilrush.ie/event/ceoil-agus-tae/2027-12-03/
LOCATION:West Clare Family Resource Centre / Kilrush Community Centre\, O'Gorman Street\, Kilrush\, V15 VK31\, Ireland
ATTACH;FMTTYPE=image/jpeg:https://kilrush.ie/wp-content/uploads/2024/12/WCFRC.jpg
END:VEVENT
BEGIN:VEVENT
DTSTART;TZID=Europe/Dublin:20271203T190000
DTEND;TZID=Europe/Dublin:20271203T200000
DTSTAMP:20260420T052957
CREATED:20241211T133808Z
LAST-MODIFIED:20241211T133808Z
UID:10005082-1827860400-1827864000@kilrush.ie
SUMMARY:Kilrush Art Group
DESCRIPTION:Monthly art classes with Pauline Dunleavy also available. For further details contact Pauline on 086 8339347
URL:https://kilrush.ie/event/kilrush-art-group/2027-12-03/
LOCATION:West Clare Family Resource Centre / Kilrush Community Centre\, O'Gorman Street\, Kilrush\, V15 VK31\, Ireland
ATTACH;FMTTYPE=image/jpeg:https://kilrush.ie/wp-content/uploads/2024/12/WCFRC.jpg
END:VEVENT
BEGIN:VEVENT
DTSTART;TZID=Europe/Dublin:20271204T093000
DTEND;TZID=Europe/Dublin:20271204T113000
DTSTAMP:20260420T052957
CREATED:20241204T171056Z
LAST-MODIFIED:20241204T171056Z
UID:10000652-1827912600-1827919800@kilrush.ie
SUMMARY:Vandeleur Parkrun
DESCRIPTION:A free\, fun\, and friendly weekly 5k community event. Walk\, jog\, run\, volunteer or spectate – it’s up to you!
URL:https://kilrush.ie/event/vandeleur-parkrun/2027-12-04/
LOCATION:Vandeleur Gardens and Visitor Centre\, Feagarroge\, Kilrush\, V15 E735
ATTACH;FMTTYPE=image/jpeg:https://kilrush.ie/wp-content/uploads/2024/12/48837294501_09f5de2302_o.jpg
ORGANIZER;CN="Vandeleur Parkrun":MAILTO:Vandeleur@parkrun.com
END:VEVENT
BEGIN:VEVENT
DTSTART;TZID=Europe/Dublin:20271205T090000
DTEND;TZID=Europe/Dublin:20271205T103000
DTSTAMP:20260420T052957
CREATED:20241211T134159Z
LAST-MODIFIED:20241211T134159Z
UID:10005343-1827997200-1828002600@kilrush.ie
SUMMARY:Mermaids and Buoys\, Cappagh
DESCRIPTION:Open water swimming\, with a big meetup every Sunday and sea swims at other times throughout the week. Further details 086 8339347
URL:https://kilrush.ie/event/mermaids-and-buoys-cappagh/2027-12-05/
END:VEVENT
BEGIN:VEVENT
DTSTART;TZID=Europe/Dublin:20271206T110000
DTEND;TZID=Europe/Dublin:20271206T120000
DTSTAMP:20260420T052957
CREATED:20241211T124827Z
LAST-MODIFIED:20250219T172235Z
UID:10000912-1828090800-1828094400@kilrush.ie
SUMMARY:Weekly Woodland Walk with West Clare Mental Health Association
DESCRIPTION:Join us for a group walk around Vandeleur Woods and Gardens.
URL:https://kilrush.ie/event/weekly-woodland-walk-with-west-clare-mental-health-association/2027-12-06/
LOCATION:Vandeleur Gardens and Visitor Centre\, Feagarroge\, Kilrush\, V15 E735
ATTACH;FMTTYPE=image/jpeg:https://kilrush.ie/wp-content/uploads/2024/12/WCMHA.jpg
END:VEVENT
BEGIN:VEVENT
DTSTART;TZID=Europe/Dublin:20271207T180000
DTEND;TZID=Europe/Dublin:20271207T193000
DTSTAMP:20260420T052957
CREATED:20241102T175420Z
LAST-MODIFIED:20241211T135731Z
UID:10000346-1828202400-1828207800@kilrush.ie
SUMMARY:Kilrush Library Uplifting Poetry Sessions
DESCRIPTION:Free sessions for poets and poetry lovers\, on the first and second Tuesday of every month at Kilrush Library.  Come to read your own poetry or to share a favourite poem by another writer.
URL:https://kilrush.ie/event/kilrush-library-uplifting-poetry-sessions/2027-12-07/
LOCATION:Kilrush Library\, O'Gorman Street\, Kilrush\, V15 W577
ATTACH;FMTTYPE=image/jpeg:https://kilrush.ie/wp-content/uploads/2024/12/Kilrush-Library.jpg
END:VEVENT
BEGIN:VEVENT
DTSTART;TZID=Europe/Dublin:20271207T180000
DTEND;TZID=Europe/Dublin:20271207T200000
DTSTAMP:20260420T052957
CREATED:20241211T130612Z
LAST-MODIFIED:20241211T130612Z
UID:10002217-1828202400-1828209600@kilrush.ie
SUMMARY:Knitting and Craft Club at Kilrush Library
DESCRIPTION:The knitting & craft group meet in the library every Tuesday evening and share their crafty tips and patterns. Free event\, all welcome.
URL:https://kilrush.ie/event/knitting-and-craft-club-at-kilrush-library/2027-12-07/
LOCATION:Kilrush Library\, O'Gorman Street\, Kilrush\, V15 W577
ATTACH;FMTTYPE=image/jpeg:https://kilrush.ie/wp-content/uploads/2024/12/Kilrush-Library.jpg
END:VEVENT
BEGIN:VEVENT
DTSTART;TZID=Europe/Dublin:20271209T090000
DTEND;TZID=Europe/Dublin:20271209T140000
DTSTAMP:20260420T052957
CREATED:20240713T233258Z
LAST-MODIFIED:20240713T233258Z
UID:10000180-1828342800-1828360800@kilrush.ie
SUMMARY:Kilrush Farmer's Market
DESCRIPTION:Support local businesses by shopping the Kilrush Farmer’s Market.  Held every Thursday from 9am-2pm.
URL:https://kilrush.ie/event/kilrush-farmers-market/2027-12-09/
LOCATION:The Square\, Kilrush\, The Square\, Kilrush\, Co. Clare
ATTACH;FMTTYPE=image/jpeg:https://kilrush.ie/wp-content/uploads/2024/07/kilrush-farmers-market.jpg
END:VEVENT
BEGIN:VEVENT
DTSTART;TZID=Europe/Dublin:20271209T140000
DTEND;TZID=Europe/Dublin:20271209T163000
DTSTAMP:20260420T052957
CREATED:20241211T135916Z
LAST-MODIFIED:20241211T135916Z
UID:10005933-1828360800-1828369800@kilrush.ie
SUMMARY:Thursday Tea Dance
DESCRIPTION:Bookings; 065 905 2173
URL:https://kilrush.ie/event/thursday-tea-dance/2027-12-09/
LOCATION:West Clare Family Resource Centre / Kilrush Community Centre\, O'Gorman Street\, Kilrush\, V15 VK31\, Ireland
ATTACH;FMTTYPE=image/jpeg:https://kilrush.ie/wp-content/uploads/2024/12/WCFRC.jpg
END:VEVENT
BEGIN:VEVENT
DTSTART;TZID=Europe/Dublin:20271210T190000
DTEND;TZID=Europe/Dublin:20271210T200000
DTSTAMP:20260420T052957
CREATED:20241211T133808Z
LAST-MODIFIED:20241211T133808Z
UID:10005083-1828465200-1828468800@kilrush.ie
SUMMARY:Kilrush Art Group
DESCRIPTION:Monthly art classes with Pauline Dunleavy also available. For further details contact Pauline on 086 8339347
URL:https://kilrush.ie/event/kilrush-art-group/2027-12-10/
LOCATION:West Clare Family Resource Centre / Kilrush Community Centre\, O'Gorman Street\, Kilrush\, V15 VK31\, Ireland
ATTACH;FMTTYPE=image/jpeg:https://kilrush.ie/wp-content/uploads/2024/12/WCFRC.jpg
END:VEVENT
BEGIN:VEVENT
DTSTART;TZID=Europe/Dublin:20271211T093000
DTEND;TZID=Europe/Dublin:20271211T113000
DTSTAMP:20260420T052957
CREATED:20241204T171056Z
LAST-MODIFIED:20241204T171056Z
UID:10000653-1828517400-1828524600@kilrush.ie
SUMMARY:Vandeleur Parkrun
DESCRIPTION:A free\, fun\, and friendly weekly 5k community event. Walk\, jog\, run\, volunteer or spectate – it’s up to you!
URL:https://kilrush.ie/event/vandeleur-parkrun/2027-12-11/
LOCATION:Vandeleur Gardens and Visitor Centre\, Feagarroge\, Kilrush\, V15 E735
ATTACH;FMTTYPE=image/jpeg:https://kilrush.ie/wp-content/uploads/2024/12/48837294501_09f5de2302_o.jpg
ORGANIZER;CN="Vandeleur Parkrun":MAILTO:Vandeleur@parkrun.com
END:VEVENT
END:VCALENDAR