BEGIN:VCALENDAR
VERSION:2.0
PRODID:-//Kilrush.ie - ECPv6.15.20//NONSGML v1.0//EN
CALSCALE:GREGORIAN
METHOD:PUBLISH
X-ORIGINAL-URL:https://kilrush.ie
X-WR-CALDESC:Events for Kilrush.ie
REFRESH-INTERVAL;VALUE=DURATION:PT1H
X-Robots-Tag:noindex
X-PUBLISHED-TTL:PT1H
BEGIN:VTIMEZONE
TZID:Europe/Dublin
BEGIN:DAYLIGHT
TZOFFSETFROM:+0000
TZOFFSETTO:+0100
TZNAME:IST
DTSTART:20250330T010000
END:DAYLIGHT
BEGIN:STANDARD
TZOFFSETFROM:+0100
TZOFFSETTO:+0000
TZNAME:GMT
DTSTART:20251026T010000
END:STANDARD
BEGIN:DAYLIGHT
TZOFFSETFROM:+0000
TZOFFSETTO:+0100
TZNAME:IST
DTSTART:20260329T010000
END:DAYLIGHT
BEGIN:STANDARD
TZOFFSETFROM:+0100
TZOFFSETTO:+0000
TZNAME:GMT
DTSTART:20261025T010000
END:STANDARD
BEGIN:DAYLIGHT
TZOFFSETFROM:+0000
TZOFFSETTO:+0100
TZNAME:IST
DTSTART:20270328T010000
END:DAYLIGHT
BEGIN:STANDARD
TZOFFSETFROM:+0100
TZOFFSETTO:+0000
TZNAME:GMT
DTSTART:20271031T010000
END:STANDARD
END:VTIMEZONE
BEGIN:VEVENT
DTSTART;TZID=Europe/Dublin:20261105T090000
DTEND;TZID=Europe/Dublin:20261105T140000
DTSTAMP:20260423T172844
CREATED:20240713T233258Z
LAST-MODIFIED:20240713T233258Z
UID:10000123-1793869200-1793887200@kilrush.ie
SUMMARY:Kilrush Farmer's Market
DESCRIPTION:Support local businesses by shopping the Kilrush Farmer’s Market.  Held every Thursday from 9am-2pm.
URL:https://kilrush.ie/event/kilrush-farmers-market/2026-11-05/
LOCATION:The Square\, Kilrush\, The Square\, Kilrush\, Co. Clare
ATTACH;FMTTYPE=image/jpeg:https://kilrush.ie/wp-content/uploads/2024/07/kilrush-farmers-market.jpg
END:VEVENT
BEGIN:VEVENT
DTSTART;TZID=Europe/Dublin:20261105T143000
DTEND;TZID=Europe/Dublin:20261105T160000
DTSTAMP:20260423T172844
CREATED:20241211T134815Z
LAST-MODIFIED:20241211T134815Z
UID:10005734-1793889000-1793894400@kilrush.ie
SUMMARY:Monthly Birthday Party
DESCRIPTION:A celebration for everyone who has their birthday this month!
URL:https://kilrush.ie/event/monthly-birthday-party/2026-11-05/
LOCATION:West Clare Family Resource Centre / Kilrush Community Centre\, O'Gorman Street\, Kilrush\, V15 VK31\, Ireland
ATTACH;FMTTYPE=image/jpeg:https://kilrush.ie/wp-content/uploads/2024/12/WCFRC.jpg
END:VEVENT
BEGIN:VEVENT
DTSTART;TZID=Europe/Dublin:20261106T110000
DTEND;TZID=Europe/Dublin:20261106T120000
DTSTAMP:20260423T172844
CREATED:20241211T135202Z
LAST-MODIFIED:20241211T135202Z
UID:10005795-1793962800-1793966400@kilrush.ie
SUMMARY:Ceoil agus Tae
DESCRIPTION:Bookings; 065 905 2173
URL:https://kilrush.ie/event/ceoil-agus-tae/2026-11-06/
LOCATION:West Clare Family Resource Centre / Kilrush Community Centre\, O'Gorman Street\, Kilrush\, V15 VK31\, Ireland
ATTACH;FMTTYPE=image/jpeg:https://kilrush.ie/wp-content/uploads/2024/12/WCFRC.jpg
END:VEVENT
BEGIN:VEVENT
DTSTART;TZID=Europe/Dublin:20261106T190000
DTEND;TZID=Europe/Dublin:20261106T200000
DTSTAMP:20260423T172844
CREATED:20241211T133808Z
LAST-MODIFIED:20241211T133808Z
UID:10005026-1793991600-1793995200@kilrush.ie
SUMMARY:Kilrush Art Group
DESCRIPTION:Monthly art classes with Pauline Dunleavy also available. For further details contact Pauline on 086 8339347
URL:https://kilrush.ie/event/kilrush-art-group/2026-11-06/
LOCATION:West Clare Family Resource Centre / Kilrush Community Centre\, O'Gorman Street\, Kilrush\, V15 VK31\, Ireland
ATTACH;FMTTYPE=image/jpeg:https://kilrush.ie/wp-content/uploads/2024/12/WCFRC.jpg
END:VEVENT
BEGIN:VEVENT
DTSTART;TZID=Europe/Dublin:20261107T093000
DTEND;TZID=Europe/Dublin:20261107T113000
DTSTAMP:20260423T172844
CREATED:20241204T171056Z
LAST-MODIFIED:20241204T171056Z
UID:10000596-1794043800-1794051000@kilrush.ie
SUMMARY:Vandeleur Parkrun
DESCRIPTION:A free\, fun\, and friendly weekly 5k community event. Walk\, jog\, run\, volunteer or spectate – it’s up to you!
URL:https://kilrush.ie/event/vandeleur-parkrun/2026-11-07/
LOCATION:Vandeleur Gardens and Visitor Centre\, Feagarroge\, Kilrush\, V15 E735
ATTACH;FMTTYPE=image/jpeg:https://kilrush.ie/wp-content/uploads/2024/12/48837294501_09f5de2302_o.jpg
ORGANIZER;CN="Vandeleur Parkrun":MAILTO:Vandeleur@parkrun.com
END:VEVENT
BEGIN:VEVENT
DTSTART;TZID=Europe/Dublin:20261108T090000
DTEND;TZID=Europe/Dublin:20261108T103000
DTSTAMP:20260423T172844
CREATED:20241211T134159Z
LAST-MODIFIED:20241211T134159Z
UID:10005287-1794128400-1794133800@kilrush.ie
SUMMARY:Mermaids and Buoys\, Cappagh
DESCRIPTION:Open water swimming\, with a big meetup every Sunday and sea swims at other times throughout the week. Further details 086 8339347
URL:https://kilrush.ie/event/mermaids-and-buoys-cappagh/2026-11-08/
END:VEVENT
BEGIN:VEVENT
DTSTART;TZID=Europe/Dublin:20261109T110000
DTEND;TZID=Europe/Dublin:20261109T120000
DTSTAMP:20260423T172844
CREATED:20241211T124827Z
LAST-MODIFIED:20250219T172235Z
UID:10000856-1794222000-1794225600@kilrush.ie
SUMMARY:Weekly Woodland Walk with West Clare Mental Health Association
DESCRIPTION:Join us for a group walk around Vandeleur Woods and Gardens.
URL:https://kilrush.ie/event/weekly-woodland-walk-with-west-clare-mental-health-association/2026-11-09/
LOCATION:Vandeleur Gardens and Visitor Centre\, Feagarroge\, Kilrush\, V15 E735
ATTACH;FMTTYPE=image/jpeg:https://kilrush.ie/wp-content/uploads/2024/12/WCMHA.jpg
END:VEVENT
BEGIN:VEVENT
DTSTART;TZID=Europe/Dublin:20261110T180000
DTEND;TZID=Europe/Dublin:20261110T193000
DTSTAMP:20260423T172844
CREATED:20241102T181658Z
LAST-MODIFIED:20241211T135634Z
UID:10000393-1794333600-1794339000@kilrush.ie
SUMMARY:Kilrush Library Uplifting Poetry Sessions
DESCRIPTION:Free sessions for poets and poetry lovers\, on the first and second Tuesday of every month at Kilrush Library.  Come to read your own poetry or to share a favourite poem by another writer.
URL:https://kilrush.ie/event/kilrush-uplifting-poetry-sessions/2026-11-10/
LOCATION:Kilrush Library\, O'Gorman Street\, Kilrush\, V15 W577
ATTACH;FMTTYPE=image/jpeg:https://kilrush.ie/wp-content/uploads/2024/12/Kilrush-Library.jpg
END:VEVENT
BEGIN:VEVENT
DTSTART;TZID=Europe/Dublin:20261110T180000
DTEND;TZID=Europe/Dublin:20261110T200000
DTSTAMP:20260423T172844
CREATED:20241211T130612Z
LAST-MODIFIED:20241211T130612Z
UID:10002161-1794333600-1794340800@kilrush.ie
SUMMARY:Knitting and Craft Club at Kilrush Library
DESCRIPTION:The knitting & craft group meet in the library every Tuesday evening and share their crafty tips and patterns. Free event\, all welcome.
URL:https://kilrush.ie/event/knitting-and-craft-club-at-kilrush-library/2026-11-10/
LOCATION:Kilrush Library\, O'Gorman Street\, Kilrush\, V15 W577
ATTACH;FMTTYPE=image/jpeg:https://kilrush.ie/wp-content/uploads/2024/12/Kilrush-Library.jpg
END:VEVENT
BEGIN:VEVENT
DTSTART;TZID=Europe/Dublin:20261112T090000
DTEND;TZID=Europe/Dublin:20261112T140000
DTSTAMP:20260423T172844
CREATED:20240713T233258Z
LAST-MODIFIED:20240713T233258Z
UID:10000124-1794474000-1794492000@kilrush.ie
SUMMARY:Kilrush Farmer's Market
DESCRIPTION:Support local businesses by shopping the Kilrush Farmer’s Market.  Held every Thursday from 9am-2pm.
URL:https://kilrush.ie/event/kilrush-farmers-market/2026-11-12/
LOCATION:The Square\, Kilrush\, The Square\, Kilrush\, Co. Clare
ATTACH;FMTTYPE=image/jpeg:https://kilrush.ie/wp-content/uploads/2024/07/kilrush-farmers-market.jpg
END:VEVENT
BEGIN:VEVENT
DTSTART;TZID=Europe/Dublin:20261112T140000
DTEND;TZID=Europe/Dublin:20261112T163000
DTSTAMP:20260423T172844
CREATED:20241211T135916Z
LAST-MODIFIED:20241211T135916Z
UID:10005920-1794492000-1794501000@kilrush.ie
SUMMARY:Thursday Tea Dance
DESCRIPTION:Bookings; 065 905 2173
URL:https://kilrush.ie/event/thursday-tea-dance/2026-11-12/
LOCATION:West Clare Family Resource Centre / Kilrush Community Centre\, O'Gorman Street\, Kilrush\, V15 VK31\, Ireland
ATTACH;FMTTYPE=image/jpeg:https://kilrush.ie/wp-content/uploads/2024/12/WCFRC.jpg
END:VEVENT
BEGIN:VEVENT
DTSTART;TZID=Europe/Dublin:20261113T190000
DTEND;TZID=Europe/Dublin:20261113T200000
DTSTAMP:20260423T172844
CREATED:20241211T133808Z
LAST-MODIFIED:20241211T133808Z
UID:10005027-1794596400-1794600000@kilrush.ie
SUMMARY:Kilrush Art Group
DESCRIPTION:Monthly art classes with Pauline Dunleavy also available. For further details contact Pauline on 086 8339347
URL:https://kilrush.ie/event/kilrush-art-group/2026-11-13/
LOCATION:West Clare Family Resource Centre / Kilrush Community Centre\, O'Gorman Street\, Kilrush\, V15 VK31\, Ireland
ATTACH;FMTTYPE=image/jpeg:https://kilrush.ie/wp-content/uploads/2024/12/WCFRC.jpg
END:VEVENT
BEGIN:VEVENT
DTSTART;TZID=Europe/Dublin:20261114T093000
DTEND;TZID=Europe/Dublin:20261114T113000
DTSTAMP:20260423T172844
CREATED:20241204T171056Z
LAST-MODIFIED:20241204T171056Z
UID:10000597-1794648600-1794655800@kilrush.ie
SUMMARY:Vandeleur Parkrun
DESCRIPTION:A free\, fun\, and friendly weekly 5k community event. Walk\, jog\, run\, volunteer or spectate – it’s up to you!
URL:https://kilrush.ie/event/vandeleur-parkrun/2026-11-14/
LOCATION:Vandeleur Gardens and Visitor Centre\, Feagarroge\, Kilrush\, V15 E735
ATTACH;FMTTYPE=image/jpeg:https://kilrush.ie/wp-content/uploads/2024/12/48837294501_09f5de2302_o.jpg
ORGANIZER;CN="Vandeleur Parkrun":MAILTO:Vandeleur@parkrun.com
END:VEVENT
BEGIN:VEVENT
DTSTART;TZID=Europe/Dublin:20261115T090000
DTEND;TZID=Europe/Dublin:20261115T103000
DTSTAMP:20260423T172844
CREATED:20241211T134159Z
LAST-MODIFIED:20241211T134159Z
UID:10005288-1794733200-1794738600@kilrush.ie
SUMMARY:Mermaids and Buoys\, Cappagh
DESCRIPTION:Open water swimming\, with a big meetup every Sunday and sea swims at other times throughout the week. Further details 086 8339347
URL:https://kilrush.ie/event/mermaids-and-buoys-cappagh/2026-11-15/
END:VEVENT
BEGIN:VEVENT
DTSTART;TZID=Europe/Dublin:20261116T110000
DTEND;TZID=Europe/Dublin:20261116T120000
DTSTAMP:20260423T172844
CREATED:20241211T124827Z
LAST-MODIFIED:20250219T172235Z
UID:10000857-1794826800-1794830400@kilrush.ie
SUMMARY:Weekly Woodland Walk with West Clare Mental Health Association
DESCRIPTION:Join us for a group walk around Vandeleur Woods and Gardens.
URL:https://kilrush.ie/event/weekly-woodland-walk-with-west-clare-mental-health-association/2026-11-16/
LOCATION:Vandeleur Gardens and Visitor Centre\, Feagarroge\, Kilrush\, V15 E735
ATTACH;FMTTYPE=image/jpeg:https://kilrush.ie/wp-content/uploads/2024/12/WCMHA.jpg
END:VEVENT
BEGIN:VEVENT
DTSTART;TZID=Europe/Dublin:20261117T180000
DTEND;TZID=Europe/Dublin:20261117T200000
DTSTAMP:20260423T172844
CREATED:20241211T130612Z
LAST-MODIFIED:20241211T130612Z
UID:10002162-1794938400-1794945600@kilrush.ie
SUMMARY:Knitting and Craft Club at Kilrush Library
DESCRIPTION:The knitting & craft group meet in the library every Tuesday evening and share their crafty tips and patterns. Free event\, all welcome.
URL:https://kilrush.ie/event/knitting-and-craft-club-at-kilrush-library/2026-11-17/
LOCATION:Kilrush Library\, O'Gorman Street\, Kilrush\, V15 W577
ATTACH;FMTTYPE=image/jpeg:https://kilrush.ie/wp-content/uploads/2024/12/Kilrush-Library.jpg
END:VEVENT
BEGIN:VEVENT
DTSTART;TZID=Europe/Dublin:20261119T090000
DTEND;TZID=Europe/Dublin:20261119T140000
DTSTAMP:20260423T172844
CREATED:20240713T233258Z
LAST-MODIFIED:20240713T233258Z
UID:10000125-1795078800-1795096800@kilrush.ie
SUMMARY:Kilrush Farmer's Market
DESCRIPTION:Support local businesses by shopping the Kilrush Farmer’s Market.  Held every Thursday from 9am-2pm.
URL:https://kilrush.ie/event/kilrush-farmers-market/2026-11-19/
LOCATION:The Square\, Kilrush\, The Square\, Kilrush\, Co. Clare
ATTACH;FMTTYPE=image/jpeg:https://kilrush.ie/wp-content/uploads/2024/07/kilrush-farmers-market.jpg
END:VEVENT
BEGIN:VEVENT
DTSTART;TZID=Europe/Dublin:20261120T190000
DTEND;TZID=Europe/Dublin:20261120T200000
DTSTAMP:20260423T172844
CREATED:20241211T133808Z
LAST-MODIFIED:20241211T133808Z
UID:10005028-1795201200-1795204800@kilrush.ie
SUMMARY:Kilrush Art Group
DESCRIPTION:Monthly art classes with Pauline Dunleavy also available. For further details contact Pauline on 086 8339347
URL:https://kilrush.ie/event/kilrush-art-group/2026-11-20/
LOCATION:West Clare Family Resource Centre / Kilrush Community Centre\, O'Gorman Street\, Kilrush\, V15 VK31\, Ireland
ATTACH;FMTTYPE=image/jpeg:https://kilrush.ie/wp-content/uploads/2024/12/WCFRC.jpg
END:VEVENT
BEGIN:VEVENT
DTSTART;TZID=Europe/Dublin:20261121T093000
DTEND;TZID=Europe/Dublin:20261121T113000
DTSTAMP:20260423T172844
CREATED:20241204T171056Z
LAST-MODIFIED:20241204T171056Z
UID:10000598-1795253400-1795260600@kilrush.ie
SUMMARY:Vandeleur Parkrun
DESCRIPTION:A free\, fun\, and friendly weekly 5k community event. Walk\, jog\, run\, volunteer or spectate – it’s up to you!
URL:https://kilrush.ie/event/vandeleur-parkrun/2026-11-21/
LOCATION:Vandeleur Gardens and Visitor Centre\, Feagarroge\, Kilrush\, V15 E735
ATTACH;FMTTYPE=image/jpeg:https://kilrush.ie/wp-content/uploads/2024/12/48837294501_09f5de2302_o.jpg
ORGANIZER;CN="Vandeleur Parkrun":MAILTO:Vandeleur@parkrun.com
END:VEVENT
BEGIN:VEVENT
DTSTART;TZID=Europe/Dublin:20261122T090000
DTEND;TZID=Europe/Dublin:20261122T103000
DTSTAMP:20260423T172844
CREATED:20241211T134159Z
LAST-MODIFIED:20241211T134159Z
UID:10005289-1795338000-1795343400@kilrush.ie
SUMMARY:Mermaids and Buoys\, Cappagh
DESCRIPTION:Open water swimming\, with a big meetup every Sunday and sea swims at other times throughout the week. Further details 086 8339347
URL:https://kilrush.ie/event/mermaids-and-buoys-cappagh/2026-11-22/
END:VEVENT
BEGIN:VEVENT
DTSTART;TZID=Europe/Dublin:20261123T110000
DTEND;TZID=Europe/Dublin:20261123T120000
DTSTAMP:20260423T172844
CREATED:20241211T124827Z
LAST-MODIFIED:20250219T172235Z
UID:10000858-1795431600-1795435200@kilrush.ie
SUMMARY:Weekly Woodland Walk with West Clare Mental Health Association
DESCRIPTION:Join us for a group walk around Vandeleur Woods and Gardens.
URL:https://kilrush.ie/event/weekly-woodland-walk-with-west-clare-mental-health-association/2026-11-23/
LOCATION:Vandeleur Gardens and Visitor Centre\, Feagarroge\, Kilrush\, V15 E735
ATTACH;FMTTYPE=image/jpeg:https://kilrush.ie/wp-content/uploads/2024/12/WCMHA.jpg
END:VEVENT
BEGIN:VEVENT
DTSTART;TZID=Europe/Dublin:20261124T180000
DTEND;TZID=Europe/Dublin:20261124T200000
DTSTAMP:20260423T172844
CREATED:20241211T130612Z
LAST-MODIFIED:20241211T130612Z
UID:10002163-1795543200-1795550400@kilrush.ie
SUMMARY:Knitting and Craft Club at Kilrush Library
DESCRIPTION:The knitting & craft group meet in the library every Tuesday evening and share their crafty tips and patterns. Free event\, all welcome.
URL:https://kilrush.ie/event/knitting-and-craft-club-at-kilrush-library/2026-11-24/
LOCATION:Kilrush Library\, O'Gorman Street\, Kilrush\, V15 W577
ATTACH;FMTTYPE=image/jpeg:https://kilrush.ie/wp-content/uploads/2024/12/Kilrush-Library.jpg
END:VEVENT
BEGIN:VEVENT
DTSTART;TZID=Europe/Dublin:20261126T090000
DTEND;TZID=Europe/Dublin:20261126T140000
DTSTAMP:20260423T172844
CREATED:20240713T233258Z
LAST-MODIFIED:20240713T233258Z
UID:10000126-1795683600-1795701600@kilrush.ie
SUMMARY:Kilrush Farmer's Market
DESCRIPTION:Support local businesses by shopping the Kilrush Farmer’s Market.  Held every Thursday from 9am-2pm.
URL:https://kilrush.ie/event/kilrush-farmers-market/2026-11-26/
LOCATION:The Square\, Kilrush\, The Square\, Kilrush\, Co. Clare
ATTACH;FMTTYPE=image/jpeg:https://kilrush.ie/wp-content/uploads/2024/07/kilrush-farmers-market.jpg
END:VEVENT
BEGIN:VEVENT
DTSTART;TZID=Europe/Dublin:20261127T183000
DTEND;TZID=Europe/Dublin:20261127T200000
DTSTAMP:20260423T172844
CREATED:20251022T165123Z
LAST-MODIFIED:20251022T165123Z
UID:10006053-1795804200-1795809600@kilrush.ie
SUMMARY:Songwriters' Social
DESCRIPTION:Come and join us at this new FREE monthly event.Do you have a melody\, but just can’t find the words? Maybe you have a poem that might make a good lyric? Or maybe you’d just like to bounce ideas with other songwriters?Meet fellow musicians and writers\, and swap ideas over a cuppa and a cake. Support\, collaborate\, and make beautiful music together!
URL:https://kilrush.ie/event/songwriters-social/2026-11-27/
LOCATION:Banner Books\, 1a\, Hector Street Mills\, Kilrush\, V15 PW83
ATTACH;FMTTYPE=image/jpeg:https://kilrush.ie/wp-content/uploads/2025/10/songwriters-social-RECURRING-FB-Cover.jpg
END:VEVENT
BEGIN:VEVENT
DTSTART;TZID=Europe/Dublin:20261127T190000
DTEND;TZID=Europe/Dublin:20261127T200000
DTSTAMP:20260423T172844
CREATED:20241211T133808Z
LAST-MODIFIED:20241211T133808Z
UID:10005029-1795806000-1795809600@kilrush.ie
SUMMARY:Kilrush Art Group
DESCRIPTION:Monthly art classes with Pauline Dunleavy also available. For further details contact Pauline on 086 8339347
URL:https://kilrush.ie/event/kilrush-art-group/2026-11-27/
LOCATION:West Clare Family Resource Centre / Kilrush Community Centre\, O'Gorman Street\, Kilrush\, V15 VK31\, Ireland
ATTACH;FMTTYPE=image/jpeg:https://kilrush.ie/wp-content/uploads/2024/12/WCFRC.jpg
END:VEVENT
BEGIN:VEVENT
DTSTART;TZID=Europe/Dublin:20261128T093000
DTEND;TZID=Europe/Dublin:20261128T113000
DTSTAMP:20260423T172844
CREATED:20241204T171056Z
LAST-MODIFIED:20241204T171056Z
UID:10000599-1795858200-1795865400@kilrush.ie
SUMMARY:Vandeleur Parkrun
DESCRIPTION:A free\, fun\, and friendly weekly 5k community event. Walk\, jog\, run\, volunteer or spectate – it’s up to you!
URL:https://kilrush.ie/event/vandeleur-parkrun/2026-11-28/
LOCATION:Vandeleur Gardens and Visitor Centre\, Feagarroge\, Kilrush\, V15 E735
ATTACH;FMTTYPE=image/jpeg:https://kilrush.ie/wp-content/uploads/2024/12/48837294501_09f5de2302_o.jpg
ORGANIZER;CN="Vandeleur Parkrun":MAILTO:Vandeleur@parkrun.com
END:VEVENT
BEGIN:VEVENT
DTSTART;TZID=Europe/Dublin:20261129T090000
DTEND;TZID=Europe/Dublin:20261129T103000
DTSTAMP:20260423T172844
CREATED:20241211T134159Z
LAST-MODIFIED:20241211T134159Z
UID:10005290-1795942800-1795948200@kilrush.ie
SUMMARY:Mermaids and Buoys\, Cappagh
DESCRIPTION:Open water swimming\, with a big meetup every Sunday and sea swims at other times throughout the week. Further details 086 8339347
URL:https://kilrush.ie/event/mermaids-and-buoys-cappagh/2026-11-29/
END:VEVENT
BEGIN:VEVENT
DTSTART;TZID=Europe/Dublin:20261130T110000
DTEND;TZID=Europe/Dublin:20261130T120000
DTSTAMP:20260423T172844
CREATED:20241211T124827Z
LAST-MODIFIED:20250219T172235Z
UID:10000859-1796036400-1796040000@kilrush.ie
SUMMARY:Weekly Woodland Walk with West Clare Mental Health Association
DESCRIPTION:Join us for a group walk around Vandeleur Woods and Gardens.
URL:https://kilrush.ie/event/weekly-woodland-walk-with-west-clare-mental-health-association/2026-11-30/
LOCATION:Vandeleur Gardens and Visitor Centre\, Feagarroge\, Kilrush\, V15 E735
ATTACH;FMTTYPE=image/jpeg:https://kilrush.ie/wp-content/uploads/2024/12/WCMHA.jpg
END:VEVENT
BEGIN:VEVENT
DTSTART;TZID=Europe/Dublin:20261201T180000
DTEND;TZID=Europe/Dublin:20261201T193000
DTSTAMP:20260423T172844
CREATED:20241102T175420Z
LAST-MODIFIED:20241211T135731Z
UID:10000334-1796148000-1796153400@kilrush.ie
SUMMARY:Kilrush Library Uplifting Poetry Sessions
DESCRIPTION:Free sessions for poets and poetry lovers\, on the first and second Tuesday of every month at Kilrush Library.  Come to read your own poetry or to share a favourite poem by another writer.
URL:https://kilrush.ie/event/kilrush-library-uplifting-poetry-sessions/2026-12-01/
LOCATION:Kilrush Library\, O'Gorman Street\, Kilrush\, V15 W577
ATTACH;FMTTYPE=image/jpeg:https://kilrush.ie/wp-content/uploads/2024/12/Kilrush-Library.jpg
END:VEVENT
BEGIN:VEVENT
DTSTART;TZID=Europe/Dublin:20261201T180000
DTEND;TZID=Europe/Dublin:20261201T200000
DTSTAMP:20260423T172844
CREATED:20241211T130612Z
LAST-MODIFIED:20241211T130612Z
UID:10002164-1796148000-1796155200@kilrush.ie
SUMMARY:Knitting and Craft Club at Kilrush Library
DESCRIPTION:The knitting & craft group meet in the library every Tuesday evening and share their crafty tips and patterns. Free event\, all welcome.
URL:https://kilrush.ie/event/knitting-and-craft-club-at-kilrush-library/2026-12-01/
LOCATION:Kilrush Library\, O'Gorman Street\, Kilrush\, V15 W577
ATTACH;FMTTYPE=image/jpeg:https://kilrush.ie/wp-content/uploads/2024/12/Kilrush-Library.jpg
END:VEVENT
END:VCALENDAR