BEGIN:VCALENDAR
VERSION:2.0
PRODID:-//Kilrush.ie - ECPv6.15.20//NONSGML v1.0//EN
CALSCALE:GREGORIAN
METHOD:PUBLISH
X-ORIGINAL-URL:https://kilrush.ie
X-WR-CALDESC:Events for Kilrush.ie
REFRESH-INTERVAL;VALUE=DURATION:PT1H
X-Robots-Tag:noindex
X-PUBLISHED-TTL:PT1H
BEGIN:VTIMEZONE
TZID:Europe/Dublin
BEGIN:DAYLIGHT
TZOFFSETFROM:+0000
TZOFFSETTO:+0100
TZNAME:IST
DTSTART:20260329T010000
END:DAYLIGHT
BEGIN:STANDARD
TZOFFSETFROM:+0100
TZOFFSETTO:+0000
TZNAME:GMT
DTSTART:20261025T010000
END:STANDARD
BEGIN:DAYLIGHT
TZOFFSETFROM:+0000
TZOFFSETTO:+0100
TZNAME:IST
DTSTART:20270328T010000
END:DAYLIGHT
BEGIN:STANDARD
TZOFFSETFROM:+0100
TZOFFSETTO:+0000
TZNAME:GMT
DTSTART:20271031T010000
END:STANDARD
BEGIN:DAYLIGHT
TZOFFSETFROM:+0000
TZOFFSETTO:+0100
TZNAME:IST
DTSTART:20280326T010000
END:DAYLIGHT
BEGIN:STANDARD
TZOFFSETFROM:+0100
TZOFFSETTO:+0000
TZNAME:GMT
DTSTART:20281029T010000
END:STANDARD
END:VTIMEZONE
BEGIN:VEVENT
DTSTART;TZID=Europe/Dublin:20270204T090000
DTEND;TZID=Europe/Dublin:20270204T140000
DTSTAMP:20260423T091446
CREATED:20240713T233258Z
LAST-MODIFIED:20240713T233258Z
UID:10000136-1801731600-1801749600@kilrush.ie
SUMMARY:Kilrush Farmer's Market
DESCRIPTION:Support local businesses by shopping the Kilrush Farmer’s Market.  Held every Thursday from 9am-2pm.
URL:https://kilrush.ie/event/kilrush-farmers-market/2027-02-04/
LOCATION:The Square\, Kilrush\, The Square\, Kilrush\, Co. Clare
ATTACH;FMTTYPE=image/jpeg:https://kilrush.ie/wp-content/uploads/2024/07/kilrush-farmers-market.jpg
END:VEVENT
BEGIN:VEVENT
DTSTART;TZID=Europe/Dublin:20270204T143000
DTEND;TZID=Europe/Dublin:20270204T160000
DTSTAMP:20260423T091446
CREATED:20241211T134815Z
LAST-MODIFIED:20241211T134815Z
UID:10005737-1801751400-1801756800@kilrush.ie
SUMMARY:Monthly Birthday Party
DESCRIPTION:A celebration for everyone who has their birthday this month!
URL:https://kilrush.ie/event/monthly-birthday-party/2027-02-04/
LOCATION:West Clare Family Resource Centre / Kilrush Community Centre\, O'Gorman Street\, Kilrush\, V15 VK31\, Ireland
ATTACH;FMTTYPE=image/jpeg:https://kilrush.ie/wp-content/uploads/2024/12/WCFRC.jpg
END:VEVENT
BEGIN:VEVENT
DTSTART;TZID=Europe/Dublin:20270205T110000
DTEND;TZID=Europe/Dublin:20270205T120000
DTSTAMP:20260423T091446
CREATED:20241211T135202Z
LAST-MODIFIED:20241211T135202Z
UID:10005798-1801825200-1801828800@kilrush.ie
SUMMARY:Ceoil agus Tae
DESCRIPTION:Bookings; 065 905 2173
URL:https://kilrush.ie/event/ceoil-agus-tae/2027-02-05/
LOCATION:West Clare Family Resource Centre / Kilrush Community Centre\, O'Gorman Street\, Kilrush\, V15 VK31\, Ireland
ATTACH;FMTTYPE=image/jpeg:https://kilrush.ie/wp-content/uploads/2024/12/WCFRC.jpg
END:VEVENT
BEGIN:VEVENT
DTSTART;TZID=Europe/Dublin:20270205T190000
DTEND;TZID=Europe/Dublin:20270205T200000
DTSTAMP:20260423T091446
CREATED:20241211T133808Z
LAST-MODIFIED:20241211T133808Z
UID:10005039-1801854000-1801857600@kilrush.ie
SUMMARY:Kilrush Art Group
DESCRIPTION:Monthly art classes with Pauline Dunleavy also available. For further details contact Pauline on 086 8339347
URL:https://kilrush.ie/event/kilrush-art-group/2027-02-05/
LOCATION:West Clare Family Resource Centre / Kilrush Community Centre\, O'Gorman Street\, Kilrush\, V15 VK31\, Ireland
ATTACH;FMTTYPE=image/jpeg:https://kilrush.ie/wp-content/uploads/2024/12/WCFRC.jpg
END:VEVENT
BEGIN:VEVENT
DTSTART;TZID=Europe/Dublin:20270206T093000
DTEND;TZID=Europe/Dublin:20270206T113000
DTSTAMP:20260423T091446
CREATED:20241204T171056Z
LAST-MODIFIED:20241204T171056Z
UID:10000609-1801906200-1801913400@kilrush.ie
SUMMARY:Vandeleur Parkrun
DESCRIPTION:A free\, fun\, and friendly weekly 5k community event. Walk\, jog\, run\, volunteer or spectate – it’s up to you!
URL:https://kilrush.ie/event/vandeleur-parkrun/2027-02-06/
LOCATION:Vandeleur Gardens and Visitor Centre\, Feagarroge\, Kilrush\, V15 E735
ATTACH;FMTTYPE=image/jpeg:https://kilrush.ie/wp-content/uploads/2024/12/48837294501_09f5de2302_o.jpg
ORGANIZER;CN="Vandeleur Parkrun":MAILTO:Vandeleur@parkrun.com
END:VEVENT
BEGIN:VEVENT
DTSTART;TZID=Europe/Dublin:20270207T090000
DTEND;TZID=Europe/Dublin:20270207T103000
DTSTAMP:20260423T091446
CREATED:20241211T134159Z
LAST-MODIFIED:20241211T134159Z
UID:10005300-1801990800-1801996200@kilrush.ie
SUMMARY:Mermaids and Buoys\, Cappagh
DESCRIPTION:Open water swimming\, with a big meetup every Sunday and sea swims at other times throughout the week. Further details 086 8339347
URL:https://kilrush.ie/event/mermaids-and-buoys-cappagh/2027-02-07/
END:VEVENT
BEGIN:VEVENT
DTSTART;TZID=Europe/Dublin:20270208T110000
DTEND;TZID=Europe/Dublin:20270208T120000
DTSTAMP:20260423T091446
CREATED:20241211T124827Z
LAST-MODIFIED:20250219T172235Z
UID:10000869-1802084400-1802088000@kilrush.ie
SUMMARY:Weekly Woodland Walk with West Clare Mental Health Association
DESCRIPTION:Join us for a group walk around Vandeleur Woods and Gardens.
URL:https://kilrush.ie/event/weekly-woodland-walk-with-west-clare-mental-health-association/2027-02-08/
LOCATION:Vandeleur Gardens and Visitor Centre\, Feagarroge\, Kilrush\, V15 E735
ATTACH;FMTTYPE=image/jpeg:https://kilrush.ie/wp-content/uploads/2024/12/WCMHA.jpg
END:VEVENT
BEGIN:VEVENT
DTSTART;TZID=Europe/Dublin:20270209T180000
DTEND;TZID=Europe/Dublin:20270209T193000
DTSTAMP:20260423T091446
CREATED:20241102T181658Z
LAST-MODIFIED:20241211T135634Z
UID:10000396-1802196000-1802201400@kilrush.ie
SUMMARY:Kilrush Library Uplifting Poetry Sessions
DESCRIPTION:Free sessions for poets and poetry lovers\, on the first and second Tuesday of every month at Kilrush Library.  Come to read your own poetry or to share a favourite poem by another writer.
URL:https://kilrush.ie/event/kilrush-uplifting-poetry-sessions/2027-02-09/
LOCATION:Kilrush Library\, O'Gorman Street\, Kilrush\, V15 W577
ATTACH;FMTTYPE=image/jpeg:https://kilrush.ie/wp-content/uploads/2024/12/Kilrush-Library.jpg
END:VEVENT
BEGIN:VEVENT
DTSTART;TZID=Europe/Dublin:20270209T180000
DTEND;TZID=Europe/Dublin:20270209T200000
DTSTAMP:20260423T091446
CREATED:20241211T130612Z
LAST-MODIFIED:20241211T130612Z
UID:10002174-1802196000-1802203200@kilrush.ie
SUMMARY:Knitting and Craft Club at Kilrush Library
DESCRIPTION:The knitting & craft group meet in the library every Tuesday evening and share their crafty tips and patterns. Free event\, all welcome.
URL:https://kilrush.ie/event/knitting-and-craft-club-at-kilrush-library/2027-02-09/
LOCATION:Kilrush Library\, O'Gorman Street\, Kilrush\, V15 W577
ATTACH;FMTTYPE=image/jpeg:https://kilrush.ie/wp-content/uploads/2024/12/Kilrush-Library.jpg
END:VEVENT
BEGIN:VEVENT
DTSTART;TZID=Europe/Dublin:20270211T090000
DTEND;TZID=Europe/Dublin:20270211T140000
DTSTAMP:20260423T091446
CREATED:20240713T233258Z
LAST-MODIFIED:20240713T233258Z
UID:10000137-1802336400-1802354400@kilrush.ie
SUMMARY:Kilrush Farmer's Market
DESCRIPTION:Support local businesses by shopping the Kilrush Farmer’s Market.  Held every Thursday from 9am-2pm.
URL:https://kilrush.ie/event/kilrush-farmers-market/2027-02-11/
LOCATION:The Square\, Kilrush\, The Square\, Kilrush\, Co. Clare
ATTACH;FMTTYPE=image/jpeg:https://kilrush.ie/wp-content/uploads/2024/07/kilrush-farmers-market.jpg
END:VEVENT
BEGIN:VEVENT
DTSTART;TZID=Europe/Dublin:20270211T140000
DTEND;TZID=Europe/Dublin:20270211T163000
DTSTAMP:20260423T091446
CREATED:20241211T135916Z
LAST-MODIFIED:20241211T135916Z
UID:10005923-1802354400-1802363400@kilrush.ie
SUMMARY:Thursday Tea Dance
DESCRIPTION:Bookings; 065 905 2173
URL:https://kilrush.ie/event/thursday-tea-dance/2027-02-11/
LOCATION:West Clare Family Resource Centre / Kilrush Community Centre\, O'Gorman Street\, Kilrush\, V15 VK31\, Ireland
ATTACH;FMTTYPE=image/jpeg:https://kilrush.ie/wp-content/uploads/2024/12/WCFRC.jpg
END:VEVENT
BEGIN:VEVENT
DTSTART;TZID=Europe/Dublin:20270212T190000
DTEND;TZID=Europe/Dublin:20270212T200000
DTSTAMP:20260423T091446
CREATED:20241211T133808Z
LAST-MODIFIED:20241211T133808Z
UID:10005040-1802458800-1802462400@kilrush.ie
SUMMARY:Kilrush Art Group
DESCRIPTION:Monthly art classes with Pauline Dunleavy also available. For further details contact Pauline on 086 8339347
URL:https://kilrush.ie/event/kilrush-art-group/2027-02-12/
LOCATION:West Clare Family Resource Centre / Kilrush Community Centre\, O'Gorman Street\, Kilrush\, V15 VK31\, Ireland
ATTACH;FMTTYPE=image/jpeg:https://kilrush.ie/wp-content/uploads/2024/12/WCFRC.jpg
END:VEVENT
BEGIN:VEVENT
DTSTART;TZID=Europe/Dublin:20270213T093000
DTEND;TZID=Europe/Dublin:20270213T113000
DTSTAMP:20260423T091446
CREATED:20241204T171056Z
LAST-MODIFIED:20241204T171056Z
UID:10000610-1802511000-1802518200@kilrush.ie
SUMMARY:Vandeleur Parkrun
DESCRIPTION:A free\, fun\, and friendly weekly 5k community event. Walk\, jog\, run\, volunteer or spectate – it’s up to you!
URL:https://kilrush.ie/event/vandeleur-parkrun/2027-02-13/
LOCATION:Vandeleur Gardens and Visitor Centre\, Feagarroge\, Kilrush\, V15 E735
ATTACH;FMTTYPE=image/jpeg:https://kilrush.ie/wp-content/uploads/2024/12/48837294501_09f5de2302_o.jpg
ORGANIZER;CN="Vandeleur Parkrun":MAILTO:Vandeleur@parkrun.com
END:VEVENT
BEGIN:VEVENT
DTSTART;TZID=Europe/Dublin:20270214T090000
DTEND;TZID=Europe/Dublin:20270214T103000
DTSTAMP:20260423T091446
CREATED:20241211T134159Z
LAST-MODIFIED:20241211T134159Z
UID:10005301-1802595600-1802601000@kilrush.ie
SUMMARY:Mermaids and Buoys\, Cappagh
DESCRIPTION:Open water swimming\, with a big meetup every Sunday and sea swims at other times throughout the week. Further details 086 8339347
URL:https://kilrush.ie/event/mermaids-and-buoys-cappagh/2027-02-14/
END:VEVENT
BEGIN:VEVENT
DTSTART;TZID=Europe/Dublin:20270215T110000
DTEND;TZID=Europe/Dublin:20270215T120000
DTSTAMP:20260423T091446
CREATED:20241211T124827Z
LAST-MODIFIED:20250219T172235Z
UID:10000870-1802689200-1802692800@kilrush.ie
SUMMARY:Weekly Woodland Walk with West Clare Mental Health Association
DESCRIPTION:Join us for a group walk around Vandeleur Woods and Gardens.
URL:https://kilrush.ie/event/weekly-woodland-walk-with-west-clare-mental-health-association/2027-02-15/
LOCATION:Vandeleur Gardens and Visitor Centre\, Feagarroge\, Kilrush\, V15 E735
ATTACH;FMTTYPE=image/jpeg:https://kilrush.ie/wp-content/uploads/2024/12/WCMHA.jpg
END:VEVENT
BEGIN:VEVENT
DTSTART;TZID=Europe/Dublin:20270216T180000
DTEND;TZID=Europe/Dublin:20270216T200000
DTSTAMP:20260423T091446
CREATED:20241211T130612Z
LAST-MODIFIED:20241211T130612Z
UID:10002175-1802800800-1802808000@kilrush.ie
SUMMARY:Knitting and Craft Club at Kilrush Library
DESCRIPTION:The knitting & craft group meet in the library every Tuesday evening and share their crafty tips and patterns. Free event\, all welcome.
URL:https://kilrush.ie/event/knitting-and-craft-club-at-kilrush-library/2027-02-16/
LOCATION:Kilrush Library\, O'Gorman Street\, Kilrush\, V15 W577
ATTACH;FMTTYPE=image/jpeg:https://kilrush.ie/wp-content/uploads/2024/12/Kilrush-Library.jpg
END:VEVENT
BEGIN:VEVENT
DTSTART;TZID=Europe/Dublin:20270218T090000
DTEND;TZID=Europe/Dublin:20270218T140000
DTSTAMP:20260423T091446
CREATED:20240713T233258Z
LAST-MODIFIED:20240713T233258Z
UID:10000138-1802941200-1802959200@kilrush.ie
SUMMARY:Kilrush Farmer's Market
DESCRIPTION:Support local businesses by shopping the Kilrush Farmer’s Market.  Held every Thursday from 9am-2pm.
URL:https://kilrush.ie/event/kilrush-farmers-market/2027-02-18/
LOCATION:The Square\, Kilrush\, The Square\, Kilrush\, Co. Clare
ATTACH;FMTTYPE=image/jpeg:https://kilrush.ie/wp-content/uploads/2024/07/kilrush-farmers-market.jpg
END:VEVENT
BEGIN:VEVENT
DTSTART;TZID=Europe/Dublin:20270219T190000
DTEND;TZID=Europe/Dublin:20270219T200000
DTSTAMP:20260423T091446
CREATED:20241211T133808Z
LAST-MODIFIED:20241211T133808Z
UID:10005041-1803063600-1803067200@kilrush.ie
SUMMARY:Kilrush Art Group
DESCRIPTION:Monthly art classes with Pauline Dunleavy also available. For further details contact Pauline on 086 8339347
URL:https://kilrush.ie/event/kilrush-art-group/2027-02-19/
LOCATION:West Clare Family Resource Centre / Kilrush Community Centre\, O'Gorman Street\, Kilrush\, V15 VK31\, Ireland
ATTACH;FMTTYPE=image/jpeg:https://kilrush.ie/wp-content/uploads/2024/12/WCFRC.jpg
END:VEVENT
BEGIN:VEVENT
DTSTART;TZID=Europe/Dublin:20270220T093000
DTEND;TZID=Europe/Dublin:20270220T113000
DTSTAMP:20260423T091446
CREATED:20241204T171056Z
LAST-MODIFIED:20241204T171056Z
UID:10000611-1803115800-1803123000@kilrush.ie
SUMMARY:Vandeleur Parkrun
DESCRIPTION:A free\, fun\, and friendly weekly 5k community event. Walk\, jog\, run\, volunteer or spectate – it’s up to you!
URL:https://kilrush.ie/event/vandeleur-parkrun/2027-02-20/
LOCATION:Vandeleur Gardens and Visitor Centre\, Feagarroge\, Kilrush\, V15 E735
ATTACH;FMTTYPE=image/jpeg:https://kilrush.ie/wp-content/uploads/2024/12/48837294501_09f5de2302_o.jpg
ORGANIZER;CN="Vandeleur Parkrun":MAILTO:Vandeleur@parkrun.com
END:VEVENT
BEGIN:VEVENT
DTSTART;TZID=Europe/Dublin:20270221T090000
DTEND;TZID=Europe/Dublin:20270221T103000
DTSTAMP:20260423T091446
CREATED:20241211T134159Z
LAST-MODIFIED:20241211T134159Z
UID:10005302-1803200400-1803205800@kilrush.ie
SUMMARY:Mermaids and Buoys\, Cappagh
DESCRIPTION:Open water swimming\, with a big meetup every Sunday and sea swims at other times throughout the week. Further details 086 8339347
URL:https://kilrush.ie/event/mermaids-and-buoys-cappagh/2027-02-21/
END:VEVENT
BEGIN:VEVENT
DTSTART;TZID=Europe/Dublin:20270222T110000
DTEND;TZID=Europe/Dublin:20270222T120000
DTSTAMP:20260423T091446
CREATED:20241211T124827Z
LAST-MODIFIED:20250219T172235Z
UID:10000871-1803294000-1803297600@kilrush.ie
SUMMARY:Weekly Woodland Walk with West Clare Mental Health Association
DESCRIPTION:Join us for a group walk around Vandeleur Woods and Gardens.
URL:https://kilrush.ie/event/weekly-woodland-walk-with-west-clare-mental-health-association/2027-02-22/
LOCATION:Vandeleur Gardens and Visitor Centre\, Feagarroge\, Kilrush\, V15 E735
ATTACH;FMTTYPE=image/jpeg:https://kilrush.ie/wp-content/uploads/2024/12/WCMHA.jpg
END:VEVENT
BEGIN:VEVENT
DTSTART;TZID=Europe/Dublin:20270223T180000
DTEND;TZID=Europe/Dublin:20270223T200000
DTSTAMP:20260423T091446
CREATED:20241211T130612Z
LAST-MODIFIED:20241211T130612Z
UID:10002176-1803405600-1803412800@kilrush.ie
SUMMARY:Knitting and Craft Club at Kilrush Library
DESCRIPTION:The knitting & craft group meet in the library every Tuesday evening and share their crafty tips and patterns. Free event\, all welcome.
URL:https://kilrush.ie/event/knitting-and-craft-club-at-kilrush-library/2027-02-23/
LOCATION:Kilrush Library\, O'Gorman Street\, Kilrush\, V15 W577
ATTACH;FMTTYPE=image/jpeg:https://kilrush.ie/wp-content/uploads/2024/12/Kilrush-Library.jpg
END:VEVENT
BEGIN:VEVENT
DTSTART;TZID=Europe/Dublin:20270225T090000
DTEND;TZID=Europe/Dublin:20270225T140000
DTSTAMP:20260423T091446
CREATED:20240713T233258Z
LAST-MODIFIED:20240713T233258Z
UID:10000139-1803546000-1803564000@kilrush.ie
SUMMARY:Kilrush Farmer's Market
DESCRIPTION:Support local businesses by shopping the Kilrush Farmer’s Market.  Held every Thursday from 9am-2pm.
URL:https://kilrush.ie/event/kilrush-farmers-market/2027-02-25/
LOCATION:The Square\, Kilrush\, The Square\, Kilrush\, Co. Clare
ATTACH;FMTTYPE=image/jpeg:https://kilrush.ie/wp-content/uploads/2024/07/kilrush-farmers-market.jpg
END:VEVENT
BEGIN:VEVENT
DTSTART;TZID=Europe/Dublin:20270226T183000
DTEND;TZID=Europe/Dublin:20270226T200000
DTSTAMP:20260423T091446
CREATED:20251022T165123Z
LAST-MODIFIED:20251022T165123Z
UID:10006056-1803666600-1803672000@kilrush.ie
SUMMARY:Songwriters' Social
DESCRIPTION:Come and join us at this new FREE monthly event.Do you have a melody\, but just can’t find the words? Maybe you have a poem that might make a good lyric? Or maybe you’d just like to bounce ideas with other songwriters?Meet fellow musicians and writers\, and swap ideas over a cuppa and a cake. Support\, collaborate\, and make beautiful music together!
URL:https://kilrush.ie/event/songwriters-social/2027-02-26/
LOCATION:Banner Books\, 1a\, Hector Street Mills\, Kilrush\, V15 PW83
ATTACH;FMTTYPE=image/jpeg:https://kilrush.ie/wp-content/uploads/2025/10/songwriters-social-RECURRING-FB-Cover.jpg
END:VEVENT
BEGIN:VEVENT
DTSTART;TZID=Europe/Dublin:20270226T190000
DTEND;TZID=Europe/Dublin:20270226T200000
DTSTAMP:20260423T091446
CREATED:20241211T133808Z
LAST-MODIFIED:20241211T133808Z
UID:10005042-1803668400-1803672000@kilrush.ie
SUMMARY:Kilrush Art Group
DESCRIPTION:Monthly art classes with Pauline Dunleavy also available. For further details contact Pauline on 086 8339347
URL:https://kilrush.ie/event/kilrush-art-group/2027-02-26/
LOCATION:West Clare Family Resource Centre / Kilrush Community Centre\, O'Gorman Street\, Kilrush\, V15 VK31\, Ireland
ATTACH;FMTTYPE=image/jpeg:https://kilrush.ie/wp-content/uploads/2024/12/WCFRC.jpg
END:VEVENT
BEGIN:VEVENT
DTSTART;TZID=Europe/Dublin:20270227T093000
DTEND;TZID=Europe/Dublin:20270227T113000
DTSTAMP:20260423T091446
CREATED:20241204T171056Z
LAST-MODIFIED:20241204T171056Z
UID:10000612-1803720600-1803727800@kilrush.ie
SUMMARY:Vandeleur Parkrun
DESCRIPTION:A free\, fun\, and friendly weekly 5k community event. Walk\, jog\, run\, volunteer or spectate – it’s up to you!
URL:https://kilrush.ie/event/vandeleur-parkrun/2027-02-27/
LOCATION:Vandeleur Gardens and Visitor Centre\, Feagarroge\, Kilrush\, V15 E735
ATTACH;FMTTYPE=image/jpeg:https://kilrush.ie/wp-content/uploads/2024/12/48837294501_09f5de2302_o.jpg
ORGANIZER;CN="Vandeleur Parkrun":MAILTO:Vandeleur@parkrun.com
END:VEVENT
BEGIN:VEVENT
DTSTART;TZID=Europe/Dublin:20270228T090000
DTEND;TZID=Europe/Dublin:20270228T103000
DTSTAMP:20260423T091446
CREATED:20241211T134159Z
LAST-MODIFIED:20241211T134159Z
UID:10005303-1803805200-1803810600@kilrush.ie
SUMMARY:Mermaids and Buoys\, Cappagh
DESCRIPTION:Open water swimming\, with a big meetup every Sunday and sea swims at other times throughout the week. Further details 086 8339347
URL:https://kilrush.ie/event/mermaids-and-buoys-cappagh/2027-02-28/
END:VEVENT
BEGIN:VEVENT
DTSTART;TZID=Europe/Dublin:20270301T110000
DTEND;TZID=Europe/Dublin:20270301T120000
DTSTAMP:20260423T091446
CREATED:20241211T124827Z
LAST-MODIFIED:20250219T172235Z
UID:10000872-1803898800-1803902400@kilrush.ie
SUMMARY:Weekly Woodland Walk with West Clare Mental Health Association
DESCRIPTION:Join us for a group walk around Vandeleur Woods and Gardens.
URL:https://kilrush.ie/event/weekly-woodland-walk-with-west-clare-mental-health-association/2027-03-01/
LOCATION:Vandeleur Gardens and Visitor Centre\, Feagarroge\, Kilrush\, V15 E735
ATTACH;FMTTYPE=image/jpeg:https://kilrush.ie/wp-content/uploads/2024/12/WCMHA.jpg
END:VEVENT
BEGIN:VEVENT
DTSTART;TZID=Europe/Dublin:20270302T180000
DTEND;TZID=Europe/Dublin:20270302T193000
DTSTAMP:20260423T091446
CREATED:20241102T175420Z
LAST-MODIFIED:20241211T135731Z
UID:10000337-1804010400-1804015800@kilrush.ie
SUMMARY:Kilrush Library Uplifting Poetry Sessions
DESCRIPTION:Free sessions for poets and poetry lovers\, on the first and second Tuesday of every month at Kilrush Library.  Come to read your own poetry or to share a favourite poem by another writer.
URL:https://kilrush.ie/event/kilrush-library-uplifting-poetry-sessions/2027-03-02/
LOCATION:Kilrush Library\, O'Gorman Street\, Kilrush\, V15 W577
ATTACH;FMTTYPE=image/jpeg:https://kilrush.ie/wp-content/uploads/2024/12/Kilrush-Library.jpg
END:VEVENT
BEGIN:VEVENT
DTSTART;TZID=Europe/Dublin:20270302T180000
DTEND;TZID=Europe/Dublin:20270302T200000
DTSTAMP:20260423T091446
CREATED:20241211T130612Z
LAST-MODIFIED:20241211T130612Z
UID:10002177-1804010400-1804017600@kilrush.ie
SUMMARY:Knitting and Craft Club at Kilrush Library
DESCRIPTION:The knitting & craft group meet in the library every Tuesday evening and share their crafty tips and patterns. Free event\, all welcome.
URL:https://kilrush.ie/event/knitting-and-craft-club-at-kilrush-library/2027-03-02/
LOCATION:Kilrush Library\, O'Gorman Street\, Kilrush\, V15 W577
ATTACH;FMTTYPE=image/jpeg:https://kilrush.ie/wp-content/uploads/2024/12/Kilrush-Library.jpg
END:VEVENT
END:VCALENDAR