BEGIN:VCALENDAR
VERSION:2.0
PRODID:-//Kilrush.ie - ECPv6.15.20//NONSGML v1.0//EN
CALSCALE:GREGORIAN
METHOD:PUBLISH
X-WR-CALNAME:Kilrush.ie
X-ORIGINAL-URL:https://kilrush.ie
X-WR-CALDESC:Events for Kilrush.ie
REFRESH-INTERVAL;VALUE=DURATION:PT1H
X-Robots-Tag:noindex
X-PUBLISHED-TTL:PT1H
BEGIN:VTIMEZONE
TZID:Europe/Dublin
BEGIN:DAYLIGHT
TZOFFSETFROM:+0000
TZOFFSETTO:+0100
TZNAME:IST
DTSTART:20250330T010000
END:DAYLIGHT
BEGIN:STANDARD
TZOFFSETFROM:+0100
TZOFFSETTO:+0000
TZNAME:GMT
DTSTART:20251026T010000
END:STANDARD
BEGIN:DAYLIGHT
TZOFFSETFROM:+0000
TZOFFSETTO:+0100
TZNAME:IST
DTSTART:20260329T010000
END:DAYLIGHT
BEGIN:STANDARD
TZOFFSETFROM:+0100
TZOFFSETTO:+0000
TZNAME:GMT
DTSTART:20261025T010000
END:STANDARD
BEGIN:DAYLIGHT
TZOFFSETFROM:+0000
TZOFFSETTO:+0100
TZNAME:IST
DTSTART:20270328T010000
END:DAYLIGHT
BEGIN:STANDARD
TZOFFSETFROM:+0100
TZOFFSETTO:+0000
TZNAME:GMT
DTSTART:20271031T010000
END:STANDARD
END:VTIMEZONE
BEGIN:VEVENT
DTSTART;TZID=Europe/Dublin:20260806T090000
DTEND;TZID=Europe/Dublin:20260806T140000
DTSTAMP:20260421T101122
CREATED:20240713T233258Z
LAST-MODIFIED:20240713T233258Z
UID:10000110-1786006800-1786024800@kilrush.ie
SUMMARY:Kilrush Farmer's Market
DESCRIPTION:Support local businesses by shopping the Kilrush Farmer’s Market.  Held every Thursday from 9am-2pm.
URL:https://kilrush.ie/event/kilrush-farmers-market/2026-08-06/
LOCATION:The Square\, Kilrush\, The Square\, Kilrush\, Co. Clare
ATTACH;FMTTYPE=image/jpeg:https://kilrush.ie/wp-content/uploads/2024/07/kilrush-farmers-market.jpg
END:VEVENT
BEGIN:VEVENT
DTSTART;TZID=Europe/Dublin:20260806T143000
DTEND;TZID=Europe/Dublin:20260806T160000
DTSTAMP:20260421T101122
CREATED:20241211T134815Z
LAST-MODIFIED:20241211T134815Z
UID:10005731-1786026600-1786032000@kilrush.ie
SUMMARY:Monthly Birthday Party
DESCRIPTION:A celebration for everyone who has their birthday this month!
URL:https://kilrush.ie/event/monthly-birthday-party/2026-08-06/
LOCATION:West Clare Family Resource Centre / Kilrush Community Centre\, O'Gorman Street\, Kilrush\, V15 VK31\, Ireland
ATTACH;FMTTYPE=image/jpeg:https://kilrush.ie/wp-content/uploads/2024/12/WCFRC.jpg
END:VEVENT
BEGIN:VEVENT
DTSTART;TZID=Europe/Dublin:20260807T110000
DTEND;TZID=Europe/Dublin:20260807T120000
DTSTAMP:20260421T101122
CREATED:20241211T135202Z
LAST-MODIFIED:20241211T135202Z
UID:10005792-1786100400-1786104000@kilrush.ie
SUMMARY:Ceoil agus Tae
DESCRIPTION:Bookings; 065 905 2173
URL:https://kilrush.ie/event/ceoil-agus-tae/2026-08-07/
LOCATION:West Clare Family Resource Centre / Kilrush Community Centre\, O'Gorman Street\, Kilrush\, V15 VK31\, Ireland
ATTACH;FMTTYPE=image/jpeg:https://kilrush.ie/wp-content/uploads/2024/12/WCFRC.jpg
END:VEVENT
BEGIN:VEVENT
DTSTART;TZID=Europe/Dublin:20260807T190000
DTEND;TZID=Europe/Dublin:20260807T200000
DTSTAMP:20260421T101122
CREATED:20241211T133808Z
LAST-MODIFIED:20241211T133808Z
UID:10005013-1786129200-1786132800@kilrush.ie
SUMMARY:Kilrush Art Group
DESCRIPTION:Monthly art classes with Pauline Dunleavy also available. For further details contact Pauline on 086 8339347
URL:https://kilrush.ie/event/kilrush-art-group/2026-08-07/
LOCATION:West Clare Family Resource Centre / Kilrush Community Centre\, O'Gorman Street\, Kilrush\, V15 VK31\, Ireland
ATTACH;FMTTYPE=image/jpeg:https://kilrush.ie/wp-content/uploads/2024/12/WCFRC.jpg
END:VEVENT
BEGIN:VEVENT
DTSTART;TZID=Europe/Dublin:20260808T093000
DTEND;TZID=Europe/Dublin:20260808T113000
DTSTAMP:20260421T101122
CREATED:20241204T171056Z
LAST-MODIFIED:20241204T171056Z
UID:10000583-1786181400-1786188600@kilrush.ie
SUMMARY:Vandeleur Parkrun
DESCRIPTION:A free\, fun\, and friendly weekly 5k community event. Walk\, jog\, run\, volunteer or spectate – it’s up to you!
URL:https://kilrush.ie/event/vandeleur-parkrun/2026-08-08/
LOCATION:Vandeleur Gardens and Visitor Centre\, Feagarroge\, Kilrush\, V15 E735
ATTACH;FMTTYPE=image/jpeg:https://kilrush.ie/wp-content/uploads/2024/12/48837294501_09f5de2302_o.jpg
ORGANIZER;CN="Vandeleur Parkrun":MAILTO:Vandeleur@parkrun.com
END:VEVENT
BEGIN:VEVENT
DTSTART;TZID=Europe/Dublin:20260809T090000
DTEND;TZID=Europe/Dublin:20260809T103000
DTSTAMP:20260421T101122
CREATED:20241211T134159Z
LAST-MODIFIED:20241211T134159Z
UID:10005274-1786266000-1786271400@kilrush.ie
SUMMARY:Mermaids and Buoys\, Cappagh
DESCRIPTION:Open water swimming\, with a big meetup every Sunday and sea swims at other times throughout the week. Further details 086 8339347
URL:https://kilrush.ie/event/mermaids-and-buoys-cappagh/2026-08-09/
END:VEVENT
BEGIN:VEVENT
DTSTART;TZID=Europe/Dublin:20260810T110000
DTEND;TZID=Europe/Dublin:20260810T120000
DTSTAMP:20260421T101122
CREATED:20241211T124827Z
LAST-MODIFIED:20250219T172235Z
UID:10000843-1786359600-1786363200@kilrush.ie
SUMMARY:Weekly Woodland Walk with West Clare Mental Health Association
DESCRIPTION:Join us for a group walk around Vandeleur Woods and Gardens.
URL:https://kilrush.ie/event/weekly-woodland-walk-with-west-clare-mental-health-association/2026-08-10/
LOCATION:Vandeleur Gardens and Visitor Centre\, Feagarroge\, Kilrush\, V15 E735
ATTACH;FMTTYPE=image/jpeg:https://kilrush.ie/wp-content/uploads/2024/12/WCMHA.jpg
END:VEVENT
BEGIN:VEVENT
DTSTART;TZID=Europe/Dublin:20260811T180000
DTEND;TZID=Europe/Dublin:20260811T193000
DTSTAMP:20260421T101122
CREATED:20241102T181658Z
LAST-MODIFIED:20241211T135634Z
UID:10000390-1786471200-1786476600@kilrush.ie
SUMMARY:Kilrush Library Uplifting Poetry Sessions
DESCRIPTION:Free sessions for poets and poetry lovers\, on the first and second Tuesday of every month at Kilrush Library.  Come to read your own poetry or to share a favourite poem by another writer.
URL:https://kilrush.ie/event/kilrush-uplifting-poetry-sessions/2026-08-11/
LOCATION:Kilrush Library\, O'Gorman Street\, Kilrush\, V15 W577
ATTACH;FMTTYPE=image/jpeg:https://kilrush.ie/wp-content/uploads/2024/12/Kilrush-Library.jpg
END:VEVENT
BEGIN:VEVENT
DTSTART;TZID=Europe/Dublin:20260811T180000
DTEND;TZID=Europe/Dublin:20260811T200000
DTSTAMP:20260421T101122
CREATED:20241211T130612Z
LAST-MODIFIED:20241211T130612Z
UID:10002148-1786471200-1786478400@kilrush.ie
SUMMARY:Knitting and Craft Club at Kilrush Library
DESCRIPTION:The knitting & craft group meet in the library every Tuesday evening and share their crafty tips and patterns. Free event\, all welcome.
URL:https://kilrush.ie/event/knitting-and-craft-club-at-kilrush-library/2026-08-11/
LOCATION:Kilrush Library\, O'Gorman Street\, Kilrush\, V15 W577
ATTACH;FMTTYPE=image/jpeg:https://kilrush.ie/wp-content/uploads/2024/12/Kilrush-Library.jpg
END:VEVENT
BEGIN:VEVENT
DTSTART;TZID=Europe/Dublin:20260813T090000
DTEND;TZID=Europe/Dublin:20260813T140000
DTSTAMP:20260421T101123
CREATED:20240713T233258Z
LAST-MODIFIED:20240713T233258Z
UID:10000111-1786611600-1786629600@kilrush.ie
SUMMARY:Kilrush Farmer's Market
DESCRIPTION:Support local businesses by shopping the Kilrush Farmer’s Market.  Held every Thursday from 9am-2pm.
URL:https://kilrush.ie/event/kilrush-farmers-market/2026-08-13/
LOCATION:The Square\, Kilrush\, The Square\, Kilrush\, Co. Clare
ATTACH;FMTTYPE=image/jpeg:https://kilrush.ie/wp-content/uploads/2024/07/kilrush-farmers-market.jpg
END:VEVENT
BEGIN:VEVENT
DTSTART;TZID=Europe/Dublin:20260813T140000
DTEND;TZID=Europe/Dublin:20260813T163000
DTSTAMP:20260421T101123
CREATED:20241211T135916Z
LAST-MODIFIED:20241211T135916Z
UID:10005917-1786629600-1786638600@kilrush.ie
SUMMARY:Thursday Tea Dance
DESCRIPTION:Bookings; 065 905 2173
URL:https://kilrush.ie/event/thursday-tea-dance/2026-08-13/
LOCATION:West Clare Family Resource Centre / Kilrush Community Centre\, O'Gorman Street\, Kilrush\, V15 VK31\, Ireland
ATTACH;FMTTYPE=image/jpeg:https://kilrush.ie/wp-content/uploads/2024/12/WCFRC.jpg
END:VEVENT
BEGIN:VEVENT
DTSTART;TZID=Europe/Dublin:20260814T190000
DTEND;TZID=Europe/Dublin:20260814T200000
DTSTAMP:20260421T101123
CREATED:20241211T133808Z
LAST-MODIFIED:20241211T133808Z
UID:10005014-1786734000-1786737600@kilrush.ie
SUMMARY:Kilrush Art Group
DESCRIPTION:Monthly art classes with Pauline Dunleavy also available. For further details contact Pauline on 086 8339347
URL:https://kilrush.ie/event/kilrush-art-group/2026-08-14/
LOCATION:West Clare Family Resource Centre / Kilrush Community Centre\, O'Gorman Street\, Kilrush\, V15 VK31\, Ireland
ATTACH;FMTTYPE=image/jpeg:https://kilrush.ie/wp-content/uploads/2024/12/WCFRC.jpg
END:VEVENT
BEGIN:VEVENT
DTSTART;TZID=Europe/Dublin:20260815T093000
DTEND;TZID=Europe/Dublin:20260815T113000
DTSTAMP:20260421T101123
CREATED:20241204T171056Z
LAST-MODIFIED:20241204T171056Z
UID:10000584-1786786200-1786793400@kilrush.ie
SUMMARY:Vandeleur Parkrun
DESCRIPTION:A free\, fun\, and friendly weekly 5k community event. Walk\, jog\, run\, volunteer or spectate – it’s up to you!
URL:https://kilrush.ie/event/vandeleur-parkrun/2026-08-15/
LOCATION:Vandeleur Gardens and Visitor Centre\, Feagarroge\, Kilrush\, V15 E735
ATTACH;FMTTYPE=image/jpeg:https://kilrush.ie/wp-content/uploads/2024/12/48837294501_09f5de2302_o.jpg
ORGANIZER;CN="Vandeleur Parkrun":MAILTO:Vandeleur@parkrun.com
END:VEVENT
BEGIN:VEVENT
DTSTART;TZID=Europe/Dublin:20260816T090000
DTEND;TZID=Europe/Dublin:20260816T103000
DTSTAMP:20260421T101123
CREATED:20241211T134159Z
LAST-MODIFIED:20241211T134159Z
UID:10005275-1786870800-1786876200@kilrush.ie
SUMMARY:Mermaids and Buoys\, Cappagh
DESCRIPTION:Open water swimming\, with a big meetup every Sunday and sea swims at other times throughout the week. Further details 086 8339347
URL:https://kilrush.ie/event/mermaids-and-buoys-cappagh/2026-08-16/
END:VEVENT
BEGIN:VEVENT
DTSTART;TZID=Europe/Dublin:20260817T110000
DTEND;TZID=Europe/Dublin:20260817T120000
DTSTAMP:20260421T101123
CREATED:20241211T124827Z
LAST-MODIFIED:20250219T172235Z
UID:10000844-1786964400-1786968000@kilrush.ie
SUMMARY:Weekly Woodland Walk with West Clare Mental Health Association
DESCRIPTION:Join us for a group walk around Vandeleur Woods and Gardens.
URL:https://kilrush.ie/event/weekly-woodland-walk-with-west-clare-mental-health-association/2026-08-17/
LOCATION:Vandeleur Gardens and Visitor Centre\, Feagarroge\, Kilrush\, V15 E735
ATTACH;FMTTYPE=image/jpeg:https://kilrush.ie/wp-content/uploads/2024/12/WCMHA.jpg
END:VEVENT
BEGIN:VEVENT
DTSTART;TZID=Europe/Dublin:20260818T180000
DTEND;TZID=Europe/Dublin:20260818T200000
DTSTAMP:20260421T101123
CREATED:20241211T130612Z
LAST-MODIFIED:20241211T130612Z
UID:10002149-1787076000-1787083200@kilrush.ie
SUMMARY:Knitting and Craft Club at Kilrush Library
DESCRIPTION:The knitting & craft group meet in the library every Tuesday evening and share their crafty tips and patterns. Free event\, all welcome.
URL:https://kilrush.ie/event/knitting-and-craft-club-at-kilrush-library/2026-08-18/
LOCATION:Kilrush Library\, O'Gorman Street\, Kilrush\, V15 W577
ATTACH;FMTTYPE=image/jpeg:https://kilrush.ie/wp-content/uploads/2024/12/Kilrush-Library.jpg
END:VEVENT
BEGIN:VEVENT
DTSTART;TZID=Europe/Dublin:20260820T090000
DTEND;TZID=Europe/Dublin:20260820T140000
DTSTAMP:20260421T101123
CREATED:20240713T233258Z
LAST-MODIFIED:20240713T233258Z
UID:10000112-1787216400-1787234400@kilrush.ie
SUMMARY:Kilrush Farmer's Market
DESCRIPTION:Support local businesses by shopping the Kilrush Farmer’s Market.  Held every Thursday from 9am-2pm.
URL:https://kilrush.ie/event/kilrush-farmers-market/2026-08-20/
LOCATION:The Square\, Kilrush\, The Square\, Kilrush\, Co. Clare
ATTACH;FMTTYPE=image/jpeg:https://kilrush.ie/wp-content/uploads/2024/07/kilrush-farmers-market.jpg
END:VEVENT
BEGIN:VEVENT
DTSTART;TZID=Europe/Dublin:20260821T190000
DTEND;TZID=Europe/Dublin:20260821T200000
DTSTAMP:20260421T101123
CREATED:20241211T133808Z
LAST-MODIFIED:20241211T133808Z
UID:10005015-1787338800-1787342400@kilrush.ie
SUMMARY:Kilrush Art Group
DESCRIPTION:Monthly art classes with Pauline Dunleavy also available. For further details contact Pauline on 086 8339347
URL:https://kilrush.ie/event/kilrush-art-group/2026-08-21/
LOCATION:West Clare Family Resource Centre / Kilrush Community Centre\, O'Gorman Street\, Kilrush\, V15 VK31\, Ireland
ATTACH;FMTTYPE=image/jpeg:https://kilrush.ie/wp-content/uploads/2024/12/WCFRC.jpg
END:VEVENT
BEGIN:VEVENT
DTSTART;TZID=Europe/Dublin:20260822T093000
DTEND;TZID=Europe/Dublin:20260822T113000
DTSTAMP:20260421T101123
CREATED:20241204T171056Z
LAST-MODIFIED:20241204T171056Z
UID:10000585-1787391000-1787398200@kilrush.ie
SUMMARY:Vandeleur Parkrun
DESCRIPTION:A free\, fun\, and friendly weekly 5k community event. Walk\, jog\, run\, volunteer or spectate – it’s up to you!
URL:https://kilrush.ie/event/vandeleur-parkrun/2026-08-22/
LOCATION:Vandeleur Gardens and Visitor Centre\, Feagarroge\, Kilrush\, V15 E735
ATTACH;FMTTYPE=image/jpeg:https://kilrush.ie/wp-content/uploads/2024/12/48837294501_09f5de2302_o.jpg
ORGANIZER;CN="Vandeleur Parkrun":MAILTO:Vandeleur@parkrun.com
END:VEVENT
BEGIN:VEVENT
DTSTART;TZID=Europe/Dublin:20260823T090000
DTEND;TZID=Europe/Dublin:20260823T103000
DTSTAMP:20260421T101123
CREATED:20241211T134159Z
LAST-MODIFIED:20241211T134159Z
UID:10005276-1787475600-1787481000@kilrush.ie
SUMMARY:Mermaids and Buoys\, Cappagh
DESCRIPTION:Open water swimming\, with a big meetup every Sunday and sea swims at other times throughout the week. Further details 086 8339347
URL:https://kilrush.ie/event/mermaids-and-buoys-cappagh/2026-08-23/
END:VEVENT
BEGIN:VEVENT
DTSTART;TZID=Europe/Dublin:20260824T110000
DTEND;TZID=Europe/Dublin:20260824T120000
DTSTAMP:20260421T101123
CREATED:20241211T124827Z
LAST-MODIFIED:20250219T172235Z
UID:10000845-1787569200-1787572800@kilrush.ie
SUMMARY:Weekly Woodland Walk with West Clare Mental Health Association
DESCRIPTION:Join us for a group walk around Vandeleur Woods and Gardens.
URL:https://kilrush.ie/event/weekly-woodland-walk-with-west-clare-mental-health-association/2026-08-24/
LOCATION:Vandeleur Gardens and Visitor Centre\, Feagarroge\, Kilrush\, V15 E735
ATTACH;FMTTYPE=image/jpeg:https://kilrush.ie/wp-content/uploads/2024/12/WCMHA.jpg
END:VEVENT
BEGIN:VEVENT
DTSTART;TZID=Europe/Dublin:20260825T180000
DTEND;TZID=Europe/Dublin:20260825T200000
DTSTAMP:20260421T101123
CREATED:20241211T130612Z
LAST-MODIFIED:20241211T130612Z
UID:10002150-1787680800-1787688000@kilrush.ie
SUMMARY:Knitting and Craft Club at Kilrush Library
DESCRIPTION:The knitting & craft group meet in the library every Tuesday evening and share their crafty tips and patterns. Free event\, all welcome.
URL:https://kilrush.ie/event/knitting-and-craft-club-at-kilrush-library/2026-08-25/
LOCATION:Kilrush Library\, O'Gorman Street\, Kilrush\, V15 W577
ATTACH;FMTTYPE=image/jpeg:https://kilrush.ie/wp-content/uploads/2024/12/Kilrush-Library.jpg
END:VEVENT
BEGIN:VEVENT
DTSTART;TZID=Europe/Dublin:20260827T090000
DTEND;TZID=Europe/Dublin:20260827T140000
DTSTAMP:20260421T101123
CREATED:20240713T233258Z
LAST-MODIFIED:20240713T233258Z
UID:10000113-1787821200-1787839200@kilrush.ie
SUMMARY:Kilrush Farmer's Market
DESCRIPTION:Support local businesses by shopping the Kilrush Farmer’s Market.  Held every Thursday from 9am-2pm.
URL:https://kilrush.ie/event/kilrush-farmers-market/2026-08-27/
LOCATION:The Square\, Kilrush\, The Square\, Kilrush\, Co. Clare
ATTACH;FMTTYPE=image/jpeg:https://kilrush.ie/wp-content/uploads/2024/07/kilrush-farmers-market.jpg
END:VEVENT
BEGIN:VEVENT
DTSTART;TZID=Europe/Dublin:20260828T183000
DTEND;TZID=Europe/Dublin:20260828T200000
DTSTAMP:20260421T101123
CREATED:20251022T165123Z
LAST-MODIFIED:20251022T165123Z
UID:10006050-1787941800-1787947200@kilrush.ie
SUMMARY:Songwriters' Social
DESCRIPTION:Come and join us at this new FREE monthly event.Do you have a melody\, but just can’t find the words? Maybe you have a poem that might make a good lyric? Or maybe you’d just like to bounce ideas with other songwriters?Meet fellow musicians and writers\, and swap ideas over a cuppa and a cake. Support\, collaborate\, and make beautiful music together!
URL:https://kilrush.ie/event/songwriters-social/2026-08-28/
LOCATION:Banner Books\, 1a\, Hector Street Mills\, Kilrush\, V15 PW83
ATTACH;FMTTYPE=image/jpeg:https://kilrush.ie/wp-content/uploads/2025/10/songwriters-social-RECURRING-FB-Cover.jpg
END:VEVENT
BEGIN:VEVENT
DTSTART;TZID=Europe/Dublin:20260828T190000
DTEND;TZID=Europe/Dublin:20260828T200000
DTSTAMP:20260421T101123
CREATED:20241211T133808Z
LAST-MODIFIED:20241211T133808Z
UID:10005016-1787943600-1787947200@kilrush.ie
SUMMARY:Kilrush Art Group
DESCRIPTION:Monthly art classes with Pauline Dunleavy also available. For further details contact Pauline on 086 8339347
URL:https://kilrush.ie/event/kilrush-art-group/2026-08-28/
LOCATION:West Clare Family Resource Centre / Kilrush Community Centre\, O'Gorman Street\, Kilrush\, V15 VK31\, Ireland
ATTACH;FMTTYPE=image/jpeg:https://kilrush.ie/wp-content/uploads/2024/12/WCFRC.jpg
END:VEVENT
BEGIN:VEVENT
DTSTART;TZID=Europe/Dublin:20260829T093000
DTEND;TZID=Europe/Dublin:20260829T113000
DTSTAMP:20260421T101123
CREATED:20241204T171056Z
LAST-MODIFIED:20241204T171056Z
UID:10000586-1787995800-1788003000@kilrush.ie
SUMMARY:Vandeleur Parkrun
DESCRIPTION:A free\, fun\, and friendly weekly 5k community event. Walk\, jog\, run\, volunteer or spectate – it’s up to you!
URL:https://kilrush.ie/event/vandeleur-parkrun/2026-08-29/
LOCATION:Vandeleur Gardens and Visitor Centre\, Feagarroge\, Kilrush\, V15 E735
ATTACH;FMTTYPE=image/jpeg:https://kilrush.ie/wp-content/uploads/2024/12/48837294501_09f5de2302_o.jpg
ORGANIZER;CN="Vandeleur Parkrun":MAILTO:Vandeleur@parkrun.com
END:VEVENT
BEGIN:VEVENT
DTSTART;TZID=Europe/Dublin:20260830T090000
DTEND;TZID=Europe/Dublin:20260830T103000
DTSTAMP:20260421T101123
CREATED:20241211T134159Z
LAST-MODIFIED:20241211T134159Z
UID:10005277-1788080400-1788085800@kilrush.ie
SUMMARY:Mermaids and Buoys\, Cappagh
DESCRIPTION:Open water swimming\, with a big meetup every Sunday and sea swims at other times throughout the week. Further details 086 8339347
URL:https://kilrush.ie/event/mermaids-and-buoys-cappagh/2026-08-30/
END:VEVENT
BEGIN:VEVENT
DTSTART;TZID=Europe/Dublin:20260831T110000
DTEND;TZID=Europe/Dublin:20260831T120000
DTSTAMP:20260421T101123
CREATED:20241211T124827Z
LAST-MODIFIED:20250219T172235Z
UID:10000846-1788174000-1788177600@kilrush.ie
SUMMARY:Weekly Woodland Walk with West Clare Mental Health Association
DESCRIPTION:Join us for a group walk around Vandeleur Woods and Gardens.
URL:https://kilrush.ie/event/weekly-woodland-walk-with-west-clare-mental-health-association/2026-08-31/
LOCATION:Vandeleur Gardens and Visitor Centre\, Feagarroge\, Kilrush\, V15 E735
ATTACH;FMTTYPE=image/jpeg:https://kilrush.ie/wp-content/uploads/2024/12/WCMHA.jpg
END:VEVENT
BEGIN:VEVENT
DTSTART;TZID=Europe/Dublin:20260901T180000
DTEND;TZID=Europe/Dublin:20260901T193000
DTSTAMP:20260421T101123
CREATED:20241102T175420Z
LAST-MODIFIED:20241211T135731Z
UID:10000331-1788285600-1788291000@kilrush.ie
SUMMARY:Kilrush Library Uplifting Poetry Sessions
DESCRIPTION:Free sessions for poets and poetry lovers\, on the first and second Tuesday of every month at Kilrush Library.  Come to read your own poetry or to share a favourite poem by another writer.
URL:https://kilrush.ie/event/kilrush-library-uplifting-poetry-sessions/2026-09-01/
LOCATION:Kilrush Library\, O'Gorman Street\, Kilrush\, V15 W577
ATTACH;FMTTYPE=image/jpeg:https://kilrush.ie/wp-content/uploads/2024/12/Kilrush-Library.jpg
END:VEVENT
BEGIN:VEVENT
DTSTART;TZID=Europe/Dublin:20260901T180000
DTEND;TZID=Europe/Dublin:20260901T200000
DTSTAMP:20260421T101123
CREATED:20241211T130612Z
LAST-MODIFIED:20241211T130612Z
UID:10002151-1788285600-1788292800@kilrush.ie
SUMMARY:Knitting and Craft Club at Kilrush Library
DESCRIPTION:The knitting & craft group meet in the library every Tuesday evening and share their crafty tips and patterns. Free event\, all welcome.
URL:https://kilrush.ie/event/knitting-and-craft-club-at-kilrush-library/2026-09-01/
LOCATION:Kilrush Library\, O'Gorman Street\, Kilrush\, V15 W577
ATTACH;FMTTYPE=image/jpeg:https://kilrush.ie/wp-content/uploads/2024/12/Kilrush-Library.jpg
END:VEVENT
END:VCALENDAR