BEGIN:VCALENDAR
VERSION:2.0
PRODID:-//Kilrush.ie - ECPv6.15.20//NONSGML v1.0//EN
CALSCALE:GREGORIAN
METHOD:PUBLISH
X-WR-CALNAME:Kilrush.ie
X-ORIGINAL-URL:https://kilrush.ie
X-WR-CALDESC:Events for Kilrush.ie
REFRESH-INTERVAL;VALUE=DURATION:PT1H
X-Robots-Tag:noindex
X-PUBLISHED-TTL:PT1H
BEGIN:VTIMEZONE
TZID:Europe/Dublin
BEGIN:DAYLIGHT
TZOFFSETFROM:+0000
TZOFFSETTO:+0100
TZNAME:IST
DTSTART:20240331T010000
END:DAYLIGHT
BEGIN:STANDARD
TZOFFSETFROM:+0100
TZOFFSETTO:+0000
TZNAME:GMT
DTSTART:20241027T010000
END:STANDARD
BEGIN:DAYLIGHT
TZOFFSETFROM:+0000
TZOFFSETTO:+0100
TZNAME:IST
DTSTART:20250330T010000
END:DAYLIGHT
BEGIN:STANDARD
TZOFFSETFROM:+0100
TZOFFSETTO:+0000
TZNAME:GMT
DTSTART:20251026T010000
END:STANDARD
BEGIN:DAYLIGHT
TZOFFSETFROM:+0000
TZOFFSETTO:+0100
TZNAME:IST
DTSTART:20260329T010000
END:DAYLIGHT
BEGIN:STANDARD
TZOFFSETFROM:+0100
TZOFFSETTO:+0000
TZNAME:GMT
DTSTART:20261025T010000
END:STANDARD
END:VTIMEZONE
BEGIN:VEVENT
DTSTART;TZID=Europe/Dublin:20250328T183000
DTEND;TZID=Europe/Dublin:20250328T203000
DTSTAMP:20260420T040943
CREATED:20250305T222405Z
LAST-MODIFIED:20250305T222405Z
UID:10005996-1743186600-1743193800@kilrush.ie
SUMMARY:Open Mic Social hosted by D'or Seifer
DESCRIPTION:The monthly open mic social at Banner Books\, Kilrush is a free event\, open to all.\nFor lovers of poetry\, flash fiction and any kind of creative writing. Come to read from your own work or to share a favourite piece by another writer\, or come to listen and support.\nTea\, coffee\, and treats provided.This is a free event\, but there will be a ‘Tip Jar’ if you would like to donate towards expenses.\nD’or Seifer is a poet living in Limerick\, Ireland. Her work has been published in Abridged\, Shearsman\, The Banyan Review\, Ink Sweat & Tears\, The Waxed Lemon\, The Storms journal\, Howl: New Irish Writing\, The Ogham Stone\, and in the Romance Options and Washing windows IV anthologies\, among others. She has performed guest readings for Over the Edge\, Not the Time to be Silent\, Cultivating Voices\, and the Eat the Storms podcast\, and as part of the Limerick Writers’ Centre April is Poetry Month. In 2022\, she performed at the New Writers Showcase as part of Cúirt International Literary Festival and received an Arts Council Agility Award. D’or founded and runs the online poetry series Lime Square Poets\, she also co-hosts the First Wednesday Series in collaboration with the Limerick Writers’ Centre. She co-edits Skylight 47 magazine.\nD’or’s debut collection\, On Being Un/Able to Walk Through Walls (Revival Press) was published in February. To find out more about D’or and her work: dorseifer.com
URL:https://kilrush.ie/event/open-mic-social-hosted-by-dor-seifer/
LOCATION:Banner Books\, 1a\, Hector Street Mills\, Kilrush\, V15 PW83
ATTACH;FMTTYPE=image/jpeg:https://kilrush.ie/wp-content/uploads/2025/03/Open-Mic-March-2025-FB-Banner.jpg
END:VEVENT
BEGIN:VEVENT
DTSTART;TZID=Europe/Dublin:20250328T190000
DTEND;TZID=Europe/Dublin:20250328T200000
DTSTAMP:20260420T040943
CREATED:20241211T133808Z
LAST-MODIFIED:20241211T133808Z
UID:10004942-1743188400-1743192000@kilrush.ie
SUMMARY:Kilrush Art Group
DESCRIPTION:Monthly art classes with Pauline Dunleavy also available. For further details contact Pauline on 086 8339347
URL:https://kilrush.ie/event/kilrush-art-group/2025-03-28/
LOCATION:West Clare Family Resource Centre / Kilrush Community Centre\, O'Gorman Street\, Kilrush\, V15 VK31\, Ireland
ATTACH;FMTTYPE=image/jpeg:https://kilrush.ie/wp-content/uploads/2024/12/WCFRC.jpg
END:VEVENT
END:VCALENDAR