BEGIN:VCALENDAR
VERSION:2.0
PRODID:-//Kilrush.ie - ECPv6.15.20//NONSGML v1.0//EN
CALSCALE:GREGORIAN
METHOD:PUBLISH
X-WR-CALNAME:Kilrush.ie
X-ORIGINAL-URL:https://kilrush.ie
X-WR-CALDESC:Events for Kilrush.ie
REFRESH-INTERVAL;VALUE=DURATION:PT1H
X-Robots-Tag:noindex
X-PUBLISHED-TTL:PT1H
BEGIN:VTIMEZONE
TZID:Europe/Dublin
BEGIN:DAYLIGHT
TZOFFSETFROM:+0000
TZOFFSETTO:+0100
TZNAME:IST
DTSTART:20240331T010000
END:DAYLIGHT
BEGIN:STANDARD
TZOFFSETFROM:+0100
TZOFFSETTO:+0000
TZNAME:GMT
DTSTART:20241027T010000
END:STANDARD
BEGIN:DAYLIGHT
TZOFFSETFROM:+0000
TZOFFSETTO:+0100
TZNAME:IST
DTSTART:20250330T010000
END:DAYLIGHT
BEGIN:STANDARD
TZOFFSETFROM:+0100
TZOFFSETTO:+0000
TZNAME:GMT
DTSTART:20251026T010000
END:STANDARD
BEGIN:DAYLIGHT
TZOFFSETFROM:+0000
TZOFFSETTO:+0100
TZNAME:IST
DTSTART:20260329T010000
END:DAYLIGHT
BEGIN:STANDARD
TZOFFSETFROM:+0100
TZOFFSETTO:+0000
TZNAME:GMT
DTSTART:20261025T010000
END:STANDARD
END:VTIMEZONE
BEGIN:VEVENT
DTSTART;TZID=Europe/Dublin:20250327T090000
DTEND;TZID=Europe/Dublin:20250327T140000
DTSTAMP:20260420T041000
CREATED:20240713T233258Z
LAST-MODIFIED:20240713T233258Z
UID:10000039-1743066000-1743084000@kilrush.ie
SUMMARY:Kilrush Farmer's Market
DESCRIPTION:Support local businesses by shopping the Kilrush Farmer’s Market.  Held every Thursday from 9am-2pm.
URL:https://kilrush.ie/event/kilrush-farmers-market/2025-03-27/
LOCATION:The Square\, Kilrush\, The Square\, Kilrush\, Co. Clare
ATTACH;FMTTYPE=image/jpeg:https://kilrush.ie/wp-content/uploads/2024/07/kilrush-farmers-market.jpg
END:VEVENT
BEGIN:VEVENT
DTSTART;TZID=Europe/Dublin:20250327T170000
DTEND;TZID=Europe/Dublin:20250327T180000
DTSTAMP:20260420T041000
CREATED:20250201T190944Z
LAST-MODIFIED:20250305T214030Z
UID:10005982-1743094800-1743098400@kilrush.ie
SUMMARY:Book Club at Banner Books
DESCRIPTION:Join us for tea and chat at our friendly book club\, where this month we will be discussing A Thousand Splendid Suns by Khaled Hosseini.
URL:https://kilrush.ie/event/book-club-at-banner-books/
LOCATION:Banner Books\, 1a\, Hector Street Mills\, Kilrush\, V15 PW83
ATTACH;FMTTYPE=image/jpeg:https://kilrush.ie/wp-content/uploads/2025/02/Kilrush-Book-Club-March-25.jpg
END:VEVENT
BEGIN:VEVENT
DTSTART;TZID=Europe/Dublin:20250327T193000
DTEND;TZID=Europe/Dublin:20250327T210000
DTSTAMP:20260420T041000
CREATED:20250105T193300Z
LAST-MODIFIED:20250105T193300Z
UID:10005966-1743103800-1743109200@kilrush.ie
SUMMARY:8 Week Meditation and Mindfulness Course with Bob Vernon
DESCRIPTION:Bob Vernon’s Meditation and Mindfulness Course\nwill run for 8 weeks\,\nstarting on Thursday\,  February 6th  7.30 – 9.00 pm\nat Banner Books\, Frances Street\, Kilrush.\n\n‘We cannot stop the waves of stress – but we can learn to surf them!’\nWe can be Calm – not Anxious\nRelaxed – not Stressed\nClear-Minded – not Confused\nRested – not Sleepless.\n \n(No Lycra or Lotus positions needed.) \nAnd it all starts with our breath.\n \nThe whole course costs €80.00 (8 x €10.00)\, please book your place before 31st January\nat revbobvernon@hotmail.com
URL:https://kilrush.ie/event/8-week-meditation-and-mindfulness-course-with-bob-vernon/2025-03-27/
LOCATION:Banner Books\, 1a\, Hector Street Mills\, Kilrush\, V15 PW83
ATTACH;FMTTYPE=image/jpeg:https://kilrush.ie/wp-content/uploads/2025/01/B.V.-Meditation-Feb-2025-Event-Cover.jpg
ORGANIZER;CN="Bob Vernon":MAILTO:revbobvernon@hotmail.com
END:VEVENT
END:VCALENDAR