BEGIN:VCALENDAR
VERSION:2.0
PRODID:-//Kilrush.ie - ECPv6.15.20//NONSGML v1.0//EN
CALSCALE:GREGORIAN
METHOD:PUBLISH
X-WR-CALNAME:Kilrush.ie
X-ORIGINAL-URL:https://kilrush.ie
X-WR-CALDESC:Events for Kilrush.ie
REFRESH-INTERVAL;VALUE=DURATION:PT1H
X-Robots-Tag:noindex
X-PUBLISHED-TTL:PT1H
BEGIN:VTIMEZONE
TZID:Europe/Dublin
BEGIN:DAYLIGHT
TZOFFSETFROM:+0000
TZOFFSETTO:+0100
TZNAME:IST
DTSTART:20240331T010000
END:DAYLIGHT
BEGIN:STANDARD
TZOFFSETFROM:+0100
TZOFFSETTO:+0000
TZNAME:GMT
DTSTART:20241027T010000
END:STANDARD
BEGIN:DAYLIGHT
TZOFFSETFROM:+0000
TZOFFSETTO:+0100
TZNAME:IST
DTSTART:20250330T010000
END:DAYLIGHT
BEGIN:STANDARD
TZOFFSETFROM:+0100
TZOFFSETTO:+0000
TZNAME:GMT
DTSTART:20251026T010000
END:STANDARD
BEGIN:DAYLIGHT
TZOFFSETFROM:+0000
TZOFFSETTO:+0100
TZNAME:IST
DTSTART:20260329T010000
END:DAYLIGHT
BEGIN:STANDARD
TZOFFSETFROM:+0100
TZOFFSETTO:+0000
TZNAME:GMT
DTSTART:20261025T010000
END:STANDARD
END:VTIMEZONE
BEGIN:VEVENT
DTSTART;TZID=Europe/Dublin:20250325T180000
DTEND;TZID=Europe/Dublin:20250325T200000
DTSTAMP:20260420T041003
CREATED:20241211T130612Z
LAST-MODIFIED:20241211T130612Z
UID:10002076-1742925600-1742932800@kilrush.ie
SUMMARY:Knitting and Craft Club at Kilrush Library
DESCRIPTION:The knitting & craft group meet in the library every Tuesday evening and share their crafty tips and patterns. Free event\, all welcome.
URL:https://kilrush.ie/event/knitting-and-craft-club-at-kilrush-library/2025-03-25/
LOCATION:Kilrush Library\, O'Gorman Street\, Kilrush\, V15 W577
ATTACH;FMTTYPE=image/jpeg:https://kilrush.ie/wp-content/uploads/2024/12/Kilrush-Library.jpg
END:VEVENT
BEGIN:VEVENT
DTSTART;TZID=Europe/Dublin:20250325T200000
DTEND;TZID=Europe/Dublin:20250325T213000
DTSTAMP:20260420T041003
CREATED:20250305T205804Z
LAST-MODIFIED:20250305T205804Z
UID:10005995-1742932800-1742938200@kilrush.ie
SUMMARY:KDHS Monthly Lecture - Preservation And Conservation Tips For Your Book And Document Collections – And How Clare Libraries Can Help\, with Michael Talty.
DESCRIPTION:Private and smaller collections are often the poor relations in terms of the condition of bindings\, paper and general wear and tear\, but this need not be the case. Some basic measures should ensure the preservation of the items to a high level\, and it is possible to carry out conservation measures for your collection without risking damage to your books and papers.\nMichael Talty works in the County Clare Local Studies Library and County Archive. He has previously worked as a librarian and archivist in RTÉ and as an archaeologist.\n———–\nIf you are unable to join us in person\, you can watch the lecture live online at the scheduled lecture time (or watch a recording online at any subsequent time of your choosing)\, by going tohttps://www.youtube.com/@kilrushanddistricthistor…/streamsThere will be a live chat (text) facility to enable the remote audience to participate in the discussion.\n———-\nKDHS lectures are free to members\, €5.00 for non-members\, payable on the night only. New members are welcome. The annual membership fee (July-June) is €20.00.The membership form can be downloaded from our website athttp://kdhs.ie/assets/files/general/membership_form.pdf\nYou can also pay your membership fee or donate using the PayPal link athttp://kdhs.ie/If doing so\, then please click “Add a note” to indicate clearly the purpose of your payment.
URL:https://kilrush.ie/event/kdhs-monthly-lecture-preservation-and-conservation-tips-for-your-book-and-document-collections-and-how-clare-libraries-can-help-with-michael-talty/
LOCATION:Teach Ceoil\, Grace St\, Kilrush\, Co. Clare\, V15 PD89\, Ireland
ATTACH;FMTTYPE=image/jpeg:https://kilrush.ie/wp-content/uploads/2025/03/KDHS-MONTHLY-LECTURE-MARCH-2025-FB-COVER.jpg
ORGANIZER;CN="Kilrush and District Historical Society":MAILTO:kilrushhistoricalsociety@gmail.com
END:VEVENT
END:VCALENDAR