BEGIN:VCALENDAR
VERSION:2.0
PRODID:-//Kilrush.ie - ECPv6.15.20//NONSGML v1.0//EN
CALSCALE:GREGORIAN
METHOD:PUBLISH
X-WR-CALNAME:Kilrush.ie
X-ORIGINAL-URL:https://kilrush.ie
X-WR-CALDESC:Events for Kilrush.ie
REFRESH-INTERVAL;VALUE=DURATION:PT1H
X-Robots-Tag:noindex
X-PUBLISHED-TTL:PT1H
BEGIN:VTIMEZONE
TZID:Europe/Dublin
BEGIN:DAYLIGHT
TZOFFSETFROM:+0000
TZOFFSETTO:+0100
TZNAME:IST
DTSTART:20240331T010000
END:DAYLIGHT
BEGIN:STANDARD
TZOFFSETFROM:+0100
TZOFFSETTO:+0000
TZNAME:GMT
DTSTART:20241027T010000
END:STANDARD
BEGIN:DAYLIGHT
TZOFFSETFROM:+0000
TZOFFSETTO:+0100
TZNAME:IST
DTSTART:20250330T010000
END:DAYLIGHT
BEGIN:STANDARD
TZOFFSETFROM:+0100
TZOFFSETTO:+0000
TZNAME:GMT
DTSTART:20251026T010000
END:STANDARD
BEGIN:DAYLIGHT
TZOFFSETFROM:+0000
TZOFFSETTO:+0100
TZNAME:IST
DTSTART:20260329T010000
END:DAYLIGHT
BEGIN:STANDARD
TZOFFSETFROM:+0100
TZOFFSETTO:+0000
TZNAME:GMT
DTSTART:20261025T010000
END:STANDARD
END:VTIMEZONE
BEGIN:VEVENT
DTSTART;TZID=Europe/Dublin:20250228T183000
DTEND;TZID=Europe/Dublin:20250228T203000
DTSTAMP:20260420T040919
CREATED:20250201T191445Z
LAST-MODIFIED:20250201T191445Z
UID:10005983-1740767400-1740774600@kilrush.ie
SUMMARY:Open Mic Social with Ciaran O'Driscoll
DESCRIPTION:The monthly open mic social at our Kilrush shop is a free event\, open to all.\nFor lovers of poetry\, flash fiction and any kind of creative writing. Come to read from your own work or to share a favourite piece by another writer\, or come to listen and support.\nCIARAN O’DRISCOLL lives in Limerick. A member of Aosdána\, he has published ten books of poetry\, including Gog and Magog (1987)\, Moving On\, Still There (2001)\, and Surreal Man (2006).\nAwards include the James Joyce Prize and the Patrick and Katherine Kavanagh Fellowship. His poem ‘Please Hold’ (featured in Forward’s anthology Poems of the Decade) is a set text for A Level English Literature.\nCiaran will be reading from his second novel\, ‘The Golden Ass’ which was published in 2024 by the Limerick Writer’s centre and was submitted as one of the 156 books accepted for consideration by the Booker Prize judges; a great achievement for the Limerick Writers’ Centre and the author to meet such stringent submission conditions. It has garnered some great reviews from esteemed sources. The subject material speaks to a modern-day world that embraces\, explores and discusses gender and sexual fluidity.
URL:https://kilrush.ie/event/open-mic-social-with-ciaran-odriscoll/
LOCATION:Banner Books\, 1a\, Hector Street Mills\, Kilrush\, V15 PW83
ATTACH;FMTTYPE=image/jpeg:https://kilrush.ie/wp-content/uploads/2025/02/Open-Mic-Feb-2025-FB-Event-Cover.jpg
END:VEVENT
BEGIN:VEVENT
DTSTART;TZID=Europe/Dublin:20250228T190000
DTEND;TZID=Europe/Dublin:20250228T200000
DTSTAMP:20260420T040919
CREATED:20241211T133808Z
LAST-MODIFIED:20241211T133808Z
UID:10004938-1740769200-1740772800@kilrush.ie
SUMMARY:Kilrush Art Group
DESCRIPTION:Monthly art classes with Pauline Dunleavy also available. For further details contact Pauline on 086 8339347
URL:https://kilrush.ie/event/kilrush-art-group/2025-02-28/
LOCATION:West Clare Family Resource Centre / Kilrush Community Centre\, O'Gorman Street\, Kilrush\, V15 VK31\, Ireland
ATTACH;FMTTYPE=image/jpeg:https://kilrush.ie/wp-content/uploads/2024/12/WCFRC.jpg
END:VEVENT
END:VCALENDAR