BEGIN:VCALENDAR
VERSION:2.0
PRODID:-//Kilrush.ie - ECPv6.15.20//NONSGML v1.0//EN
CALSCALE:GREGORIAN
METHOD:PUBLISH
X-WR-CALNAME:Kilrush.ie
X-ORIGINAL-URL:https://kilrush.ie
X-WR-CALDESC:Events for Kilrush.ie
REFRESH-INTERVAL;VALUE=DURATION:PT1H
X-Robots-Tag:noindex
X-PUBLISHED-TTL:PT1H
BEGIN:VTIMEZONE
TZID:Europe/Dublin
BEGIN:DAYLIGHT
TZOFFSETFROM:+0000
TZOFFSETTO:+0100
TZNAME:IST
DTSTART:20240331T010000
END:DAYLIGHT
BEGIN:STANDARD
TZOFFSETFROM:+0100
TZOFFSETTO:+0000
TZNAME:GMT
DTSTART:20241027T010000
END:STANDARD
BEGIN:DAYLIGHT
TZOFFSETFROM:+0000
TZOFFSETTO:+0100
TZNAME:IST
DTSTART:20250330T010000
END:DAYLIGHT
BEGIN:STANDARD
TZOFFSETFROM:+0100
TZOFFSETTO:+0000
TZNAME:GMT
DTSTART:20251026T010000
END:STANDARD
BEGIN:DAYLIGHT
TZOFFSETFROM:+0000
TZOFFSETTO:+0100
TZNAME:IST
DTSTART:20260329T010000
END:DAYLIGHT
BEGIN:STANDARD
TZOFFSETFROM:+0100
TZOFFSETTO:+0000
TZNAME:GMT
DTSTART:20261025T010000
END:STANDARD
END:VTIMEZONE
BEGIN:VEVENT
DTSTART;TZID=Europe/Dublin:20250225T180000
DTEND;TZID=Europe/Dublin:20250225T200000
DTSTAMP:20260420T040917
CREATED:20241211T130612Z
LAST-MODIFIED:20241211T130612Z
UID:10002072-1740506400-1740513600@kilrush.ie
SUMMARY:Knitting and Craft Club at Kilrush Library
DESCRIPTION:The knitting & craft group meet in the library every Tuesday evening and share their crafty tips and patterns. Free event\, all welcome.
URL:https://kilrush.ie/event/knitting-and-craft-club-at-kilrush-library/2025-02-25/
LOCATION:Kilrush Library\, O'Gorman Street\, Kilrush\, V15 W577
ATTACH;FMTTYPE=image/jpeg:https://kilrush.ie/wp-content/uploads/2024/12/Kilrush-Library.jpg
END:VEVENT
BEGIN:VEVENT
DTSTART;TZID=Europe/Dublin:20250225T200000
DTEND;TZID=Europe/Dublin:20250225T213000
DTSTAMP:20260420T040917
CREATED:20250205T153619Z
LAST-MODIFIED:20250205T153619Z
UID:10005984-1740513600-1740519000@kilrush.ie
SUMMARY:KDHS Monthly Lecture. Dr Catherine Porter; Beyond the Map: County Clare in the 1st Ordnance Survey of Ireland.
DESCRIPTION:In 1824\, the first Ordnance Survey (OS) of Ireland began in earnest. The maps produced from this survey serve as the foundation for much of how we interpret today’s landscape. However\, the geographies of Ireland collected and compiled by the OS extend far beyond cartography. Additional sources document the natural landscape\, built environment\, culture\, society\, and more. \nWhile the material generated from this venture informs contemporary discussions on the contested tangible and intangible legacies of nineteenth-century Britain in Ireland\, it also provides valuable insight into pre-Famine populations and their resilience in the face of an evolving landscape. \nThis lecture focuses on the project OS200: Digitally Re-Mapping Ireland’s Ordnance Survey Heritage whereby a research team based at the University of Limerick and Queen’s University Belfast sought to bring together—for the first time—the maps\, memoirs\, name books\, and letters from the first Ordnance Survey into a freely accessible digital resource\, now hosted by Digital Repository Ireland: https://dri.ie/os200/spotlight/os200. \nUsing examples from County Clare (and further afield!)\, this lecture will explore the archive and demonstrate how the resource can be used by researchers and the public. \nDr Catherine Porter is an Associate Professor and Head of Geography in the School of History and Geography at the University of Limerick.\nA historical geographer\, her research focuses on innovative approaches to analysing early maps and texts\, particularly the history of mapping Ireland from the sixteenth to the nineteenth century. She is currently the Ireland lead investigator for OS200: Digitally Re-Mapping Ireland’s Ordnance Survey Heritage\, a digital humanities project co-funded by the Taighde Éireann and the Arts and Humanities Research Council. Catherine was previously awarded the J.B. Harley Fellowship in the History of Cartography\, the Royal Irish Academy R.J. Hunter bursary\, and is a current member of the Royal Irish Academy Historical Studies Committee. \n———– \nIf you are unable to join us in person\, you can watch the lecture live online at the scheduled lecture time (or watch a recording online at any subsequent time of your choosing)\, by going to\nhttps://www.youtube.com/@kilrushanddistricthistoric5599/streams\nThere will be a live chat (text) facility to enable the remote audience to participate in the discussion. \n———- \nKDHS lectures are free to members\, €5.00 for non-members\, payable on the night only. New members are welcome. The annual membership fee (July-June) is €20.00.\nThe membership form can be downloaded from our website at\nhttp://kdhs.ie/assets/files/general/membership_form.pdf
URL:https://kilrush.ie/event/kdhs-monthly-lecture-dr-catherine-porter-beyond-the-map-county-clare-in-the-1st-ordnance-survey-of-ireland/
LOCATION:Teach Ceoil\, Grace St\, Kilrush\, Co. Clare\, V15 PD89\, Ireland
ATTACH;FMTTYPE=image/jpeg:https://kilrush.ie/wp-content/uploads/2025/02/Event-Banner-Feb-25.jpg
ORGANIZER;CN="Kilrush and District Historical Society":MAILTO:kilrushhistoricalsociety@gmail.com
END:VEVENT
END:VCALENDAR