BEGIN:VCALENDAR
VERSION:2.0
PRODID:-//Kilrush.ie - ECPv6.15.20//NONSGML v1.0//EN
CALSCALE:GREGORIAN
METHOD:PUBLISH
X-ORIGINAL-URL:https://kilrush.ie
X-WR-CALDESC:Events for Kilrush.ie
REFRESH-INTERVAL;VALUE=DURATION:PT1H
X-Robots-Tag:noindex
X-PUBLISHED-TTL:PT1H
BEGIN:VTIMEZONE
TZID:Europe/Dublin
BEGIN:DAYLIGHT
TZOFFSETFROM:+0000
TZOFFSETTO:+0100
TZNAME:IST
DTSTART:20230326T010000
END:DAYLIGHT
BEGIN:STANDARD
TZOFFSETFROM:+0100
TZOFFSETTO:+0000
TZNAME:GMT
DTSTART:20231029T010000
END:STANDARD
BEGIN:DAYLIGHT
TZOFFSETFROM:+0000
TZOFFSETTO:+0100
TZNAME:IST
DTSTART:20240331T010000
END:DAYLIGHT
BEGIN:STANDARD
TZOFFSETFROM:+0100
TZOFFSETTO:+0000
TZNAME:GMT
DTSTART:20241027T010000
END:STANDARD
BEGIN:DAYLIGHT
TZOFFSETFROM:+0000
TZOFFSETTO:+0100
TZNAME:IST
DTSTART:20250330T010000
END:DAYLIGHT
BEGIN:STANDARD
TZOFFSETFROM:+0100
TZOFFSETTO:+0000
TZNAME:GMT
DTSTART:20251026T010000
END:STANDARD
END:VTIMEZONE
BEGIN:VEVENT
DTSTART;TZID=Europe/Dublin:20241229T090000
DTEND;TZID=Europe/Dublin:20241229T103000
DTSTAMP:20260420T091448
CREATED:20241211T134159Z
LAST-MODIFIED:20241211T134159Z
UID:10005190-1735462800-1735468200@kilrush.ie
SUMMARY:Mermaids and Buoys\, Cappagh
DESCRIPTION:Open water swimming\, with a big meetup every Sunday and sea swims at other times throughout the week. Further details 086 8339347
URL:https://kilrush.ie/event/mermaids-and-buoys-cappagh/2024-12-29/
LOCATION:Co. Clare
END:VEVENT
BEGIN:VEVENT
DTSTART;TZID=Europe/Dublin:20241229T190000
DTEND;TZID=Europe/Dublin:20241229T213000
DTSTAMP:20260420T091448
CREATED:20241204T154454Z
LAST-MODIFIED:20241204T154454Z
UID:10000435-1735498800-1735507800@kilrush.ie
SUMMARY:Kilrush and District Historical Society Social Gathering
DESCRIPTION:Kilrush and District Historical Society cordially invites members and friends to our annual social gathering\, which will take place from 7 p.m. on Sunday 29 December 2024 in The Haven Arms in Henry Street. Finger food will be served.\nWe hope that some of those who usually miss our events\, but who might be home for Christmas\, will be able to attend this gathering.Please come along to discuss the history of Kilrush and West Clare and future plans for the society.
URL:https://kilrush.ie/event/kilrush-and-district-historical-society-social-gathering/
LOCATION:The Haven Arms\, Henry Street\, Kilrush
ATTACH;FMTTYPE=image/jpeg:https://kilrush.ie/wp-content/uploads/2024/12/KDHS-29-DECEMBER-2024.jpg
END:VEVENT
END:VCALENDAR