BEGIN:VCALENDAR
VERSION:2.0
PRODID:-//Kilrush.ie - ECPv6.15.20//NONSGML v1.0//EN
CALSCALE:GREGORIAN
METHOD:PUBLISH
X-WR-CALNAME:Kilrush.ie
X-ORIGINAL-URL:https://kilrush.ie
X-WR-CALDESC:Events for Kilrush.ie
REFRESH-INTERVAL;VALUE=DURATION:PT1H
X-Robots-Tag:noindex
X-PUBLISHED-TTL:PT1H
BEGIN:VTIMEZONE
TZID:Europe/Dublin
BEGIN:DAYLIGHT
TZOFFSETFROM:+0000
TZOFFSETTO:+0100
TZNAME:IST
DTSTART:20230326T010000
END:DAYLIGHT
BEGIN:STANDARD
TZOFFSETFROM:+0100
TZOFFSETTO:+0000
TZNAME:GMT
DTSTART:20231029T010000
END:STANDARD
BEGIN:DAYLIGHT
TZOFFSETFROM:+0000
TZOFFSETTO:+0100
TZNAME:IST
DTSTART:20240331T010000
END:DAYLIGHT
BEGIN:STANDARD
TZOFFSETFROM:+0100
TZOFFSETTO:+0000
TZNAME:GMT
DTSTART:20241027T010000
END:STANDARD
BEGIN:DAYLIGHT
TZOFFSETFROM:+0000
TZOFFSETTO:+0100
TZNAME:IST
DTSTART:20250330T010000
END:DAYLIGHT
BEGIN:STANDARD
TZOFFSETFROM:+0100
TZOFFSETTO:+0000
TZNAME:GMT
DTSTART:20251026T010000
END:STANDARD
END:VTIMEZONE
BEGIN:VEVENT
DTSTART;TZID=Europe/Dublin:20241205T090000
DTEND;TZID=Europe/Dublin:20241205T140000
DTSTAMP:20260420T102229
CREATED:20240713T233258Z
LAST-MODIFIED:20240713T233258Z
UID:10000023-1733389200-1733407200@kilrush.ie
SUMMARY:Kilrush Farmer's Market
DESCRIPTION:Support local businesses by shopping the Kilrush Farmer’s Market.  Held every Thursday from 9am-2pm.
URL:https://kilrush.ie/event/kilrush-farmers-market/2024-12-05/
LOCATION:The Square\, Kilrush\, The Square\, Kilrush\, Co. Clare
ATTACH;FMTTYPE=image/jpeg:https://kilrush.ie/wp-content/uploads/2024/07/kilrush-farmers-market.jpg
END:VEVENT
BEGIN:VEVENT
DTSTART;TZID=Europe/Dublin:20241205T143000
DTEND;TZID=Europe/Dublin:20241205T160000
DTSTAMP:20260420T102229
CREATED:20241211T134815Z
LAST-MODIFIED:20241211T134815Z
UID:10005711-1733409000-1733414400@kilrush.ie
SUMMARY:Monthly Birthday Party
DESCRIPTION:A celebration for everyone who has their birthday this month!
URL:https://kilrush.ie/event/monthly-birthday-party/2024-12-05/
LOCATION:West Clare Family Resource Centre / Kilrush Community Centre\, O'Gorman Street\, Kilrush\, V15 VK31\, Ireland
ATTACH;FMTTYPE=image/jpeg:https://kilrush.ie/wp-content/uploads/2024/12/WCFRC.jpg
END:VEVENT
BEGIN:VEVENT
DTSTART;TZID=Europe/Dublin:20241205T200000
DTEND;TZID=Europe/Dublin:20241205T220000
DTSTAMP:20260420T102229
CREATED:20241111T191118Z
LAST-MODIFIED:20241111T192655Z
UID:10000431-1733428800-1733436000@kilrush.ie
SUMMARY:Knockerra Christmas Spirit Concert Featuring Regina Nathan\, Soprano
DESCRIPTION:Celebrate the joy of the season with an enchanting performance by Regina Nathan\, renowned soprano\, whose beautiful voice will fill the church with warmth and wonder. Accompanying her on piano will be the talented Michael Hennessy\, bringing an exquisite musical depth to the evening. \nThis is a perfect opportunity to gather with family\, friends\, and community members to embrace the Christmas spirit and enjoy an unforgettable night of music. Don’t miss this festive celebration in the heart of Knockerra!
URL:https://kilrush.ie/event/knockerra-christmas-spirit-concert-featuring-regina-nathan-soprano/
LOCATION:Knockerra Church\, Knockerra\, Clare\, Ireland
ATTACH;FMTTYPE=image/jpeg:https://kilrush.ie/wp-content/uploads/2024/11/WhatsApp-Image-2024-11-11-at-13.40.37_76035654.jpg
END:VEVENT
END:VCALENDAR