BEGIN:VCALENDAR
VERSION:2.0
PRODID:-//Kilrush.ie - ECPv6.15.20//NONSGML v1.0//EN
CALSCALE:GREGORIAN
METHOD:PUBLISH
X-WR-CALNAME:Kilrush.ie
X-ORIGINAL-URL:https://kilrush.ie
X-WR-CALDESC:Events for Kilrush.ie
REFRESH-INTERVAL;VALUE=DURATION:PT1H
X-Robots-Tag:noindex
X-PUBLISHED-TTL:PT1H
BEGIN:VTIMEZONE
TZID:Europe/Dublin
BEGIN:DAYLIGHT
TZOFFSETFROM:+0000
TZOFFSETTO:+0100
TZNAME:IST
DTSTART:20230326T010000
END:DAYLIGHT
BEGIN:STANDARD
TZOFFSETFROM:+0100
TZOFFSETTO:+0000
TZNAME:GMT
DTSTART:20231029T010000
END:STANDARD
BEGIN:DAYLIGHT
TZOFFSETFROM:+0000
TZOFFSETTO:+0100
TZNAME:IST
DTSTART:20240331T010000
END:DAYLIGHT
BEGIN:STANDARD
TZOFFSETFROM:+0100
TZOFFSETTO:+0000
TZNAME:GMT
DTSTART:20241027T010000
END:STANDARD
BEGIN:DAYLIGHT
TZOFFSETFROM:+0000
TZOFFSETTO:+0100
TZNAME:IST
DTSTART:20250330T010000
END:DAYLIGHT
BEGIN:STANDARD
TZOFFSETFROM:+0100
TZOFFSETTO:+0000
TZNAME:GMT
DTSTART:20251026T010000
END:STANDARD
END:VTIMEZONE
BEGIN:VEVENT
DTSTART;TZID=Europe/Dublin:20241201T140000
DTEND;TZID=Europe/Dublin:20241201T153000
DTSTAMP:20260420T091351
CREATED:20241113T174016Z
LAST-MODIFIED:20241113T174016Z
UID:10000433-1733061600-1733067000@kilrush.ie
SUMMARY:Author Teatime with Eilís Haden-Storrie
DESCRIPTION:Join local author Eilís to talk about her new book\, ‘These Intangible Things’\, published by Banner Books.\nWe are very excited to see our first Banner Books publication go to print\, and we are especially pleased to be working with local author\, Eilís Haden-Storrie\, and illustrator Peter Goossens. Could the wisdom of the past offer us a way towards a more holistic understanding of health and healing? The conversations in this book ask that question of scholars\, healers\, and those whose lives reflect the challenges of our time\, and consider what it means to truly heal.\nFor anyone that couldn’t make it to the Burren College of Art for the launch of this beautiful book\, this is another opportunity to meet Eilís\, find out about her own incredible health journey and join this healing conversation.
URL:https://kilrush.ie/event/author-teatime-with-eilis-haden-storrie/
LOCATION:Banner Books\, 1a\, Hector Street Mills\, Kilrush\, V15 PW83
ATTACH;FMTTYPE=image/jpeg:https://kilrush.ie/wp-content/uploads/2024/11/EHS-Author-Teatime-Event-Cover.jpg
END:VEVENT
END:VCALENDAR