BEGIN:VCALENDAR
VERSION:2.0
PRODID:-//Kilrush.ie - ECPv6.15.20//NONSGML v1.0//EN
CALSCALE:GREGORIAN
METHOD:PUBLISH
X-ORIGINAL-URL:https://kilrush.ie
X-WR-CALDESC:Events for Kilrush.ie
REFRESH-INTERVAL;VALUE=DURATION:PT1H
X-Robots-Tag:noindex
X-PUBLISHED-TTL:PT1H
BEGIN:VTIMEZONE
TZID:Europe/Dublin
BEGIN:DAYLIGHT
TZOFFSETFROM:+0000
TZOFFSETTO:+0100
TZNAME:IST
DTSTART:20230326T010000
END:DAYLIGHT
BEGIN:STANDARD
TZOFFSETFROM:+0100
TZOFFSETTO:+0000
TZNAME:GMT
DTSTART:20231029T010000
END:STANDARD
BEGIN:DAYLIGHT
TZOFFSETFROM:+0000
TZOFFSETTO:+0100
TZNAME:IST
DTSTART:20240331T010000
END:DAYLIGHT
BEGIN:STANDARD
TZOFFSETFROM:+0100
TZOFFSETTO:+0000
TZNAME:GMT
DTSTART:20241027T010000
END:STANDARD
BEGIN:DAYLIGHT
TZOFFSETFROM:+0000
TZOFFSETTO:+0100
TZNAME:IST
DTSTART:20250330T010000
END:DAYLIGHT
BEGIN:STANDARD
TZOFFSETFROM:+0100
TZOFFSETTO:+0000
TZNAME:GMT
DTSTART:20251026T010000
END:STANDARD
END:VTIMEZONE
BEGIN:VEVENT
DTSTART;TZID=Europe/Dublin:20241123T143000
DTEND;TZID=Europe/Dublin:20241123T160000
DTSTAMP:20260420T105029
CREATED:20241113T151900Z
LAST-MODIFIED:20241113T151900Z
UID:10000432-1732372200-1732377600@kilrush.ie
SUMMARY:Book Launch with Éanna Ní Lamhna
DESCRIPTION:Join well-known broadcaster\, author and educator Éanna Ní Lamhna for the launch of her new book\, ‘The Great Irish Biodiversity Book’.The latest book in the bestselling and award-winning Gill Books series of big topics tackled by experts\, this beautifully illustrated guide introduces Ireland’s plants\, animals\, trees and insects to readers of all ages.Éanna takes us on a trip through Irish wildlife habitats – from bogs to beaches and woodland to grassland. Discover how habitats work and which creatures and plants to look out for in each one\, from the very rare to the most common\, all brought to life with stunning artwork by Barry Falls.Éanna’s talks are always hugely entertaining and informative\, so don’t miss out on this opportunity to hear her\, and to get your signed copy of this beautiful book.This is a free event\, suitable for all ages.
URL:https://kilrush.ie/event/book-launch-with-eanna-ni-lamhna/
LOCATION:Banner Books\, 1a\, Hector Street Mills\, Kilrush\, V15 PW83
ATTACH;FMTTYPE=image/jpeg:https://kilrush.ie/wp-content/uploads/2024/11/Eanna-Ni-Lamhna-FB-Cover.jpg
END:VEVENT
END:VCALENDAR