BEGIN:VCALENDAR
VERSION:2.0
PRODID:-//Kilrush.ie - ECPv6.15.20//NONSGML v1.0//EN
CALSCALE:GREGORIAN
METHOD:PUBLISH
X-ORIGINAL-URL:https://kilrush.ie
X-WR-CALDESC:Events for Kilrush.ie
REFRESH-INTERVAL;VALUE=DURATION:PT1H
X-Robots-Tag:noindex
X-PUBLISHED-TTL:PT1H
BEGIN:VTIMEZONE
TZID:Europe/Dublin
BEGIN:DAYLIGHT
TZOFFSETFROM:+0000
TZOFFSETTO:+0100
TZNAME:IST
DTSTART:20230326T010000
END:DAYLIGHT
BEGIN:STANDARD
TZOFFSETFROM:+0100
TZOFFSETTO:+0000
TZNAME:GMT
DTSTART:20231029T010000
END:STANDARD
BEGIN:DAYLIGHT
TZOFFSETFROM:+0000
TZOFFSETTO:+0100
TZNAME:IST
DTSTART:20240331T010000
END:DAYLIGHT
BEGIN:STANDARD
TZOFFSETFROM:+0100
TZOFFSETTO:+0000
TZNAME:GMT
DTSTART:20241027T010000
END:STANDARD
BEGIN:DAYLIGHT
TZOFFSETFROM:+0000
TZOFFSETTO:+0100
TZNAME:IST
DTSTART:20250330T010000
END:DAYLIGHT
BEGIN:STANDARD
TZOFFSETFROM:+0100
TZOFFSETTO:+0000
TZNAME:GMT
DTSTART:20251026T010000
END:STANDARD
END:VTIMEZONE
BEGIN:VEVENT
DTSTART;TZID=Europe/Dublin:20241122T190000
DTEND;TZID=Europe/Dublin:20241122T210000
DTSTAMP:20260420T105020
CREATED:20241102T180154Z
LAST-MODIFIED:20241102T180154Z
UID:10000309-1732302000-1732309200@kilrush.ie
SUMMARY:A Free Introduction to Meditation and Mindfulness
DESCRIPTION:Bob Vernon invites you to a free introduction to meditation and mindfulness at Banner Books\, Kilrush. \nBob has been practicing meditation for 50 years and teaching it in Doonbeg\, Miltown Malbay\, Ennistimon\, Doolin\, and Kilrush since 2012. \nBook a place at revbobvernon@hotmail.com
URL:https://kilrush.ie/event/a-free-introduction-to-meditation-and-mindfulness/
LOCATION:Banner Books\, 1a\, Hector Street Mills\, Kilrush\, V15 PW83
ATTACH;FMTTYPE=image/jpeg:https://kilrush.ie/wp-content/uploads/2024/11/B.V.-Meditation-Nov-2024-Social-Media-Square.jpg
ORGANIZER;CN="Bob Vernon":MAILTO:revbobvernon@hotmail.com
END:VEVENT
END:VCALENDAR