BEGIN:VCALENDAR
VERSION:2.0
PRODID:-//Kilrush.ie - ECPv6.15.20//NONSGML v1.0//EN
CALSCALE:GREGORIAN
METHOD:PUBLISH
X-ORIGINAL-URL:https://kilrush.ie
X-WR-CALDESC:Events for Kilrush.ie
REFRESH-INTERVAL;VALUE=DURATION:PT1H
X-Robots-Tag:noindex
X-PUBLISHED-TTL:PT1H
BEGIN:VTIMEZONE
TZID:Europe/Dublin
BEGIN:DAYLIGHT
TZOFFSETFROM:+0000
TZOFFSETTO:+0100
TZNAME:IST
DTSTART:20230326T010000
END:DAYLIGHT
BEGIN:STANDARD
TZOFFSETFROM:+0100
TZOFFSETTO:+0000
TZNAME:GMT
DTSTART:20231029T010000
END:STANDARD
BEGIN:DAYLIGHT
TZOFFSETFROM:+0000
TZOFFSETTO:+0100
TZNAME:IST
DTSTART:20240331T010000
END:DAYLIGHT
BEGIN:STANDARD
TZOFFSETFROM:+0100
TZOFFSETTO:+0000
TZNAME:GMT
DTSTART:20241027T010000
END:STANDARD
BEGIN:DAYLIGHT
TZOFFSETFROM:+0000
TZOFFSETTO:+0100
TZNAME:IST
DTSTART:20250330T010000
END:DAYLIGHT
BEGIN:STANDARD
TZOFFSETFROM:+0100
TZOFFSETTO:+0000
TZNAME:GMT
DTSTART:20251026T010000
END:STANDARD
END:VTIMEZONE
BEGIN:VEVENT
DTSTART;TZID=Europe/Dublin:20241029T193000
DTEND;TZID=Europe/Dublin:20241029T210000
DTSTAMP:20260420T104945
CREATED:20241009T213539Z
LAST-MODIFIED:20241009T213746Z
UID:10000305-1730230200-1730235600@kilrush.ie
SUMMARY:Why A Google Business Profile Matters
DESCRIPTION:Join The Geeks at Borrow A Geek for this informative workshop covering Google Business Profiles and why they matter to the small business owner. Led by Digital Marketing Expert Chris Koble (Head Geek at Borrow A Geek)\, you will learn: \n\nGoogle Business Profile 101\nWhy GBP is important for your business\nGBP Best Practices\nHow to Manage Customer Reviews\nIntro to Basic Analytics\n\nBusiness owners should attend this valuable workshop because it will offer valuable insights into leveraging one of the most powerful online tools for visibility and growth. A Google Business Profile (GBP) allows businesses to appear in local searches\, making it easier for potential customers to find them. This workshop will explain how to set up and optimize a GBP to increase online presence\, attract more customers\, and improve credibility. For businesses looking to stay competitive in today’s digital landscape\, understanding and utilizing GBP is crucial for success.
URL:https://kilrush.ie/event/why-a-google-business-profile-matters/
LOCATION:Kilrush Digital Hub\, Merchants Quay Business Quarter 2nd Floor\, Kilrush\, Clare\, V15XW83\, Ireland
ATTACH;FMTTYPE=image/png:https://kilrush.ie/wp-content/uploads/2024/10/BAG-GBP-OCT29.png
ORGANIZER;CN="Borrow A Geek":MAILTO:info@borrowageek.com
END:VEVENT
BEGIN:VEVENT
DTSTART;TZID=Europe/Dublin:20241029T200000
DTEND;TZID=Europe/Dublin:20241029T210000
DTSTAMP:20260420T104945
CREATED:20241022T215342Z
LAST-MODIFIED:20241022T215342Z
UID:10000306-1730232000-1730235600@kilrush.ie
SUMMARY:KDHS Lecture - Famine Migration to Quebec: 1845-1860 Presented by Mary-Alice Wildasin
DESCRIPTION:Why did so many Irish migrate to Canada in the nineteenth century? For the most part\, history tells us that they abandoned their homeland because of famine\, political strife\, epidemics\, religious suppression and evictions. Irish Catholics had a considerable impact on the city of Quebec. Following the migration journey of the Doran family\, from Summerslane\, Kilkenny\, this presentation is a discussion of what life might have been like in Quebec in the 1850’s for Irish Catholic migrants. The Migration to Quebec is investigated with a study of types of jobs they had\, where they lived and diseases within the community. Orphaned Irish children and the first ethnic church built for the Irish Catholic migrants are also considered. Three of the Doran siblings lived out their lives in Canada\, while two continued their migration to Bangor\, Maine. For this presentation\, migrants from Clare are also discussed. \nMary-Alice Wildasin moved to Ireland from Florida\, to further her education at the University of Limerick. \nIn 2020 she graduated with an MA in History of the Family\, writing her dissertation on her own family’s migration: The Dorans – from Summerslane\, Kilkenny to Bangor\, Maine 1820 – 1900: A Case Study in Step Migration. \nShe came to UL with a unique background\, having previously worked as a Political Consultant and a Real Estate Paralegal. Since 2010\, she has been a professional genealogist specializing in Irish and New England research after graduating from Boston University with a Graduate Certificate in Genealogical Research and Forensic Genealogy. \nMary-Alice continues to research her family lines and is also working on her partner’s family tree\, which can be traced to the same land where they live\, back to the early 1800s. A very different path than her own ancestors’. \nMary-Alice currently lives in Molougha with her partner. \n———– \nTo watch the lecture live online\, go to \n \nat the scheduled lecture time.  There will be a live chat (text) \nfacility to enable the remote audience to participate in the discussion. \n———- \nKDHS lectures are free to members\, EUR5 for non-members\, payable on the night only. New members are welcome. The annual membership fee (July-June) is EUR20. \nThe membership form can be downloaded from our website at \nhttp://kdhs.ie/assets/files/general/membership_form.pdf
URL:https://kilrush.ie/event/kdhs-lecture-famine-migration-to-quebec-1845-1860-presented-by-mary-alice-wildasin/
LOCATION:Teach Ceoil\, Grace St\, Kilrush\, Co. Clare\, V15 PD89\, Ireland
ATTACH;FMTTYPE=image/jpeg:https://kilrush.ie/wp-content/uploads/2024/10/cit-of-quebec-from-the-harbour-1024x761-1.jpg
ORGANIZER;CN="Kilrush and District Historical Society":MAILTO:kilrushhistoricalsociety@gmail.com
END:VEVENT
END:VCALENDAR