BEGIN:VCALENDAR
VERSION:2.0
PRODID:-//Kilrush.ie - ECPv6.15.20//NONSGML v1.0//EN
CALSCALE:GREGORIAN
METHOD:PUBLISH
X-WR-CALNAME:Kilrush.ie
X-ORIGINAL-URL:https://kilrush.ie
X-WR-CALDESC:Events for Kilrush.ie
REFRESH-INTERVAL;VALUE=DURATION:PT1H
X-Robots-Tag:noindex
X-PUBLISHED-TTL:PT1H
BEGIN:VTIMEZONE
TZID:Europe/Dublin
BEGIN:DAYLIGHT
TZOFFSETFROM:+0000
TZOFFSETTO:+0100
TZNAME:IST
DTSTART:20230326T010000
END:DAYLIGHT
BEGIN:STANDARD
TZOFFSETFROM:+0100
TZOFFSETTO:+0000
TZNAME:GMT
DTSTART:20231029T010000
END:STANDARD
BEGIN:DAYLIGHT
TZOFFSETFROM:+0000
TZOFFSETTO:+0100
TZNAME:IST
DTSTART:20240331T010000
END:DAYLIGHT
BEGIN:STANDARD
TZOFFSETFROM:+0100
TZOFFSETTO:+0000
TZNAME:GMT
DTSTART:20241027T010000
END:STANDARD
BEGIN:DAYLIGHT
TZOFFSETFROM:+0000
TZOFFSETTO:+0100
TZNAME:IST
DTSTART:20250330T010000
END:DAYLIGHT
BEGIN:STANDARD
TZOFFSETFROM:+0100
TZOFFSETTO:+0000
TZNAME:GMT
DTSTART:20251026T010000
END:STANDARD
END:VTIMEZONE
BEGIN:VEVENT
DTSTART;TZID=Europe/Dublin:20241026T123000
DTEND;TZID=Europe/Dublin:20241026T170000
DTSTAMP:20260420T122444
CREATED:20241007T134432Z
LAST-MODIFIED:20241007T134432Z
UID:10000302-1729945800-1729962000@kilrush.ie
SUMMARY:Leave No Stone Unturned - (An Exploration In Songwriting)
DESCRIPTION:A Song-writing and Creativity Workshop with Ennis Singer-Songwriter and Artist\, Laura Mulcahy \n\n\nJoin renowned creator\, performer and educator\, Laura Mulcahy\, for an afternoon of deep creativity and learning. \nExploring The Following: \nSong Structure \nLyrical Expression \nMusic / Melody \nSelf-Critique \nStorytelling \nListening \nWho Am I? (Artistic Identity) \nArtistic Integrity \nThe workshop will take place at Vandeleur Gardens and Visitor Centre\, in the room above the café. \nThere will be a half hour break at 2:30p.m. for tea/coffee/refreshments etc. \nMaximum number of participants – 10. \nPraise for Laura Mulcahy; \n‘…one of the most exciting talents to have emerged from Ireland in the past decade.’ – Folking.com \nA wonderful artist\, musician and writer from County Clare… remarkable musician and lyricist.’ Fiachna Ó Braonáin\, RTÉ Radio One \n‘The refined\, personal nature of Mulcahy’s songs have earned her a growing fanbase\,’ – Hot Press Magazine \n‘Ireland’s most iconoclastic contemporary singer’ – Bernard Clarke\, RTÉ Lyric FM \n‘… absolutely stopped me in my tracks\,’ – Deb Grant\, BBC Radio 6 Music \n‘Absolutely inspiring music…’ – Eoin O’Neill\, Clare FM \nThis event is part of Sound Out 2024\, a celebration of spoken word\, story and song in Kilrush\, Co. Clare.
URL:https://kilrush.ie/event/leave-no-stone-unturned-an-exploration-in-songwriting/
LOCATION:Vandeleur Gardens and Visitor Centre\, Feagarroge\, Kilrush\, V15 E735
ATTACH;FMTTYPE=image/jpeg:https://kilrush.ie/wp-content/uploads/2024/10/Laura-Mulcahy-Workshop-Insta.jpg
END:VEVENT
BEGIN:VEVENT
DTSTART;TZID=Europe/Dublin:20241026T170000
DTEND;TZID=Europe/Dublin:20241026T183000
DTSTAMP:20260420T122444
CREATED:20241007T134432Z
LAST-MODIFIED:20241007T134432Z
UID:10000301-1729962000-1729967400@kilrush.ie
SUMMARY:Writer's Roundtable for Irish Book Week
DESCRIPTION:Celebrate Irish Book Week with our panel of authors and educators\, and join the conversation to gain some inspiration! \nTickets for this event are by Pay-As-You-Can Donation at geektickets.ie \n\n\nA facilitated panel discussion and Q&A with experienced\, award-winning local writers\, all of whom also work to educate and support and encourage other writers. Hear about their writing processes\, routes to publication\, and how they overcome the obstacles to creativity that we so often put in our own way. The closing Q&A session will give you an opportunity to ask practical questions to help with your own writing journey. \nSarah Moore Fitzgerald \nSarah is a writer\, teacher and researcher. Her fiction for children and young adults has won / been shortlisted for several literary prizes including The Calderdale Prize\, Scotland’s Red Book Award\, The Waterstones’ Prize for Children’s Literature and The Irish Book Awards. Her creative work has been adapted for the stage and translated into over twenty languages. Sarah is a recent winner of the London Magazine’s annual award for short fiction with her story entitled Matamoros\, July 1846 set during the Mexican-American War. She’s recently been shortlisted for the Frances Browne Poetry Prize 2024. She’s a member of the University of Limerick’s creative writing team\, a lifelong literacy advocate and she works actively with communities to promote and support creative writing. Her academic research includes a focus on the writing process and how creative and academic writers go about the complex\, often challenging task of putting their work on paper. \nGrainne O’Brien \nGráinne is a writer and bookseller based in Limerick\, Ireland where she lives with her husband and two cats. She is the founder of Rontu Literary Service\, a service dedicated to supporting writers of fiction for children as they seek publication of their manuscripts\, and one of the founders of Silver Apples Magazine\, an online literary magazine entering its tenth year. She completed an MA in Creative Writing from the University of Limerick in 2018 and received an Irish Arts Council Agility Award in 2021 and 2022. She was named a Bookshop Hero by The Bookseller Magazine in 2022. She writes for children and adults and loves weaving traditional stories into the modern world. The O’Brien Press published her first book\, A Limerick Fairytale. Her verse novel\, Solo\, is due out in Spring 2025\, published by Little Island Press. \nMadge O’Callaghan \nMadge is an author and poet based in Kilbane\, East Clare. She holds an MA (Hons.) in Creative Writing from DCU and has a background working in the field of youth mental health\, using creative approaches to address social justice issues. \nIn 2016\, she achieved Gold at the World Festival of Radio in New York for her radio documentary\, “My Uncle Jack.” Her play “MASKS” was featured in First Fortnight (Mental Health Arts Programme) 2015. \nMadge is an affiliate of Amherst Writers and Artists and facilitates writing workshops that create a safe space for people who just want to write\, regardless of their level of education. In 2023\, she curated an anthology of poetry and prose by members of the Shannon Amherst Writer’s Group\, titled “Write\, So…”\, which was launched at the Sean Lemass Library by author Donal Ryan. \nCurrently\, Madge is working with primary school children on “Broadford Myths and Legends’\, due to be launched in September 2024. \nThis event is part of Sound Out 2024\, a celebration of spoken word\, story and song in Kilrush\, Co. Clare.
URL:https://kilrush.ie/event/writers-roundtable-for-irish-book-week/
LOCATION:Banner Books\, 1a\, Hector Street Mills\, Kilrush\, V15 PW83
ATTACH;FMTTYPE=image/jpeg:https://kilrush.ie/wp-content/uploads/2024/10/Writers-Panel-Insta.jpg
END:VEVENT
BEGIN:VEVENT
DTSTART;TZID=Europe/Dublin:20241026T200000
DTEND;TZID=Europe/Dublin:20241026T220000
DTSTAMP:20260420T122444
CREATED:20241007T134432Z
LAST-MODIFIED:20241007T134432Z
UID:10000300-1729972800-1729980000@kilrush.ie
SUMMARY:Fergus Costello ~ In Session
DESCRIPTION:A unique spoken word performance\, as part of Sound Out 2024. \nFergus Costello is an authentic and original spoken word artist without equal\, a past winner of the Munster Slam Poetry Championship and an All-Ireland Slam finalist. \nExpect songs and storytelling but not as we know them! Words alone cannot prepare the uninitiated for the Fergus Costello experience\, as he leads you on flights of fancy featuring bizarre situations and people that are\, somehow\, strangely familiar. Prepare for big belly laughs\, coming at you straight from the heart. \n“Fergus is a beast of a man. If Ireland’s psyche had a voice\, it would be Fergus.” Stephen James Smith \n*Please Note; This performance is not suitable for children* \n 
URL:https://kilrush.ie/event/fergus-costello-in-session/
LOCATION:Teach Ceoil\, Grace St\, Kilrush\, Co. Clare\, V15 PD89\, Ireland
ATTACH;FMTTYPE=image/jpeg:https://kilrush.ie/wp-content/uploads/2024/10/Fergus-Costello-Insta-1.jpg
END:VEVENT
END:VCALENDAR