BEGIN:VCALENDAR
VERSION:2.0
PRODID:-//Kilrush.ie - ECPv6.15.20//NONSGML v1.0//EN
CALSCALE:GREGORIAN
METHOD:PUBLISH
X-WR-CALNAME:Kilrush.ie
X-ORIGINAL-URL:https://kilrush.ie
X-WR-CALDESC:Events for Kilrush.ie
REFRESH-INTERVAL;VALUE=DURATION:PT1H
X-Robots-Tag:noindex
X-PUBLISHED-TTL:PT1H
BEGIN:VTIMEZONE
TZID:Europe/Dublin
BEGIN:DAYLIGHT
TZOFFSETFROM:+0000
TZOFFSETTO:+0100
TZNAME:IST
DTSTART:20230326T010000
END:DAYLIGHT
BEGIN:STANDARD
TZOFFSETFROM:+0100
TZOFFSETTO:+0000
TZNAME:GMT
DTSTART:20231029T010000
END:STANDARD
BEGIN:DAYLIGHT
TZOFFSETFROM:+0000
TZOFFSETTO:+0100
TZNAME:IST
DTSTART:20240331T010000
END:DAYLIGHT
BEGIN:STANDARD
TZOFFSETFROM:+0100
TZOFFSETTO:+0000
TZNAME:GMT
DTSTART:20241027T010000
END:STANDARD
BEGIN:DAYLIGHT
TZOFFSETFROM:+0000
TZOFFSETTO:+0100
TZNAME:IST
DTSTART:20250330T010000
END:DAYLIGHT
BEGIN:STANDARD
TZOFFSETFROM:+0100
TZOFFSETTO:+0000
TZNAME:GMT
DTSTART:20251026T010000
END:STANDARD
END:VTIMEZONE
BEGIN:VEVENT
DTSTART;TZID=Europe/Dublin:20241013T150000
DTEND;TZID=Europe/Dublin:20241013T170000
DTSTAMP:20260420T122520
CREATED:20240925T111431Z
LAST-MODIFIED:20240925T111431Z
UID:10000298-1728831600-1728838800@kilrush.ie
SUMMARY:Book Launch; 'Love in a Self-Serving World' with Leonard Skinner
DESCRIPTION:Leonard Skinner is an author\, educator\, and doctoral researcher in philosophy at Galway University. In his new book\, he takes us on a journey far from the shores of conventional wisdom\, revealing the intrinsic power of love that lies within each of us. \nFresh from TEDx Tralee\, Leonard will be sharing his talk ‘How Many True Loves Are Out There for You?’ and exploring the philosophy of love through an ethical lens. \nAlso from TEDx Tralee; \nAnimism in Northern Europe with Rune Hjarnø Rasmussen      \nRune holds a PhD in History of Religions.  His current work focuses on recovering traditional ecological knowledge\, connections to the land and kinship with the greater community of beings. \nFollowing their talks\, join Leonard and Rune for a Q&A and discussion around how we love each other\, and the world around us. \nBoth authors will have signed copies of their books available. \nA free event\, tea/coffee served\, all welcome. \nFor enquiries text/WhatsApp Silverwood Events on 089 244 0068
URL:https://kilrush.ie/event/book-launch-love-in-a-self-serving-world-with-leonard-skinner/
LOCATION:Banner Books\, 1a\, Hector Street Mills\, Kilrush\, V15 PW83
ATTACH;FMTTYPE=image/jpeg:https://kilrush.ie/wp-content/uploads/2024/09/Leonard-Skinner-and-Rune-Hjarno-Rasmussen-Event-Banner.jpg
END:VEVENT
END:VCALENDAR