BEGIN:VCALENDAR
VERSION:2.0
PRODID:-//Kilrush.ie - ECPv6.15.20//NONSGML v1.0//EN
CALSCALE:GREGORIAN
METHOD:PUBLISH
X-WR-CALNAME:Kilrush.ie
X-ORIGINAL-URL:https://kilrush.ie
X-WR-CALDESC:Events for Kilrush.ie
REFRESH-INTERVAL;VALUE=DURATION:PT1H
X-Robots-Tag:noindex
X-PUBLISHED-TTL:PT1H
BEGIN:VTIMEZONE
TZID:Europe/Dublin
BEGIN:DAYLIGHT
TZOFFSETFROM:+0000
TZOFFSETTO:+0100
TZNAME:IST
DTSTART:20230326T010000
END:DAYLIGHT
BEGIN:STANDARD
TZOFFSETFROM:+0100
TZOFFSETTO:+0000
TZNAME:GMT
DTSTART:20231029T010000
END:STANDARD
BEGIN:DAYLIGHT
TZOFFSETFROM:+0000
TZOFFSETTO:+0100
TZNAME:IST
DTSTART:20240331T010000
END:DAYLIGHT
BEGIN:STANDARD
TZOFFSETFROM:+0100
TZOFFSETTO:+0000
TZNAME:GMT
DTSTART:20241027T010000
END:STANDARD
BEGIN:DAYLIGHT
TZOFFSETFROM:+0000
TZOFFSETTO:+0100
TZNAME:IST
DTSTART:20250330T010000
END:DAYLIGHT
BEGIN:STANDARD
TZOFFSETFROM:+0100
TZOFFSETTO:+0000
TZNAME:GMT
DTSTART:20251026T010000
END:STANDARD
END:VTIMEZONE
BEGIN:VEVENT
DTSTART;TZID=Europe/Dublin:20241012T190000
DTEND;TZID=Europe/Dublin:20241012T203000
DTSTAMP:20260420T122444
CREATED:20240905T185814Z
LAST-MODIFIED:20240905T185814Z
UID:10000297-1728759600-1728765000@kilrush.ie
SUMMARY:Cosy Concert with Ger Wolfe
DESCRIPTION:A gentle and consistent voice on the Irish folk-roots scene\, singer-songwriter Ger Wolfe has a subtle way of weaving his magical music into the heart of the listener. \nCreating ‘carefully crafted vignettes of song’ to all who come to listen (Irish Times)\, including his well-loved ode to innocence ‘The Curra Road’ – a ‘classic of grace and simplicity which should become a folk standard’ (The Boston Globe). \nDrawing from the wells of traditional and contemporary folk\, Ger plays spirited and heartfelt music\, all at once lyrical\, melodic and poetic. Prepare to be bedazzled by his unmistakable voice and inimitable guitar playing. \nWhat Other People Say About Ger Wolfe; \n“Ger has an utterly original approach to his craft…his songs have a lyrical\, timeless quality\, pandering to neither fad nor fashion…a rare and unique creative talent” (Paul Dromey\, The Examiner) \n“Ger Wolfe’s songs always raise my spirits” (Christy Moore) \n“The poetic soul of Ireland” (John Spillane) \n“Ger Wolfe has his own unique accent\, his own special voice that takes us to the heart of the song” (Philip King) \nThis is the latest in a series of acoustic concerts\, featuring local artists and held in the intimate setting of Banner Books\, Kilrush. These events are run on a voluntary basis\, with flexible ticket pricing to make them accessible and fair to audiences and performers alike.
URL:https://kilrush.ie/event/cosy-concert-with-ger-wolfe/
LOCATION:Co. Clare
ATTACH;FMTTYPE=image/jpeg:https://kilrush.ie/wp-content/uploads/2024/09/Cosy-Concert-Ger-Wolfe-A4-Poster-1.jpg
END:VEVENT
END:VCALENDAR